{"text_format":"1","workbook":"xlsx","n_sheets":3,"sheets":["Scores","How-To","for Micah"],"not_rendered":{"charts":0,"images":7,"macros":1,"external_links":0,"defined_names":3,"comments":0,"pivot_tables":0},"unopened":[],"bounds":{"document_bytes":16777216,"sheet_cells":100000,"rows_first":2000,"rows_last":500,"rows_between":2000,"halvings":0,"cell_chars":16384,"cell_head_chars":4096},"cells_cut":0,"cells_raw":0,"read":"whole","date_system":"1900"}

{"sheet":"Scores","index":0,"n_rows":133,"n_cols":58,"rows_kept":133,"cut":false,"hidden":false,"merged":[[15,11,17,12],[15,15,17,16],[24,11,26,12],[21,11,23,12],[24,13,24,14],[21,13,21,14],[25,13,26,14],[22,13,23,14],[18,13,18,14],[19,13,20,14],[18,11,20,12],[16,13,17,14],[24,15,26,16],[15,13,15,14],[18,15,20,16],[49,10,50,10],[27,11,29,14],[30,11,32,13],[30,14,32,16],[33,11,35,13],[33,14,35,16],[36,11,38,12],[36,13,36,14],[36,15,38,16],[27,15,29,16],[48,11,50,12],[48,13,48,14],[48,15,50,16],[49,13,50,14],[39,11,41,12],[39,13,39,14],[39,15,41,16],[40,13,41,14],[42,11,44,12],[42,13,42,14],[42,15,44,16],[43,13,44,14],[45,11,47,12],[45,13,45,14],[49,0,50,0],[49,1,50,1],[49,2,50,3],[49,4,50,4],[49,5,50,5],[49,6,50,6],[49,7,50,7],[49,8,50,8],[49,9,50,9],[33,24,35,25],[37,20,39,20],[37,38,39,38],[37,39,39,39],[37,40,39,40],[37,41,39,41],[42,0,48,0],[42,1,45,1],[42,2,43,3],[44,2,45,3],[46,1,48,1],[46,2,48,2],[46,3,48,3],[45,15,47,16],[46,13,47,14],[33,32,35,33],[37,28,39,28],[37,29,39,29],[37,30,39,30],[37,31,39,31],[37,32,39,32],[37,33,39,33],[33,18,35,19],[33,17,35,17],[33,52,35,53],[33,56,35,57],[37,52,39,52],[37,53,39,53],[35,0,41,0],[35,1,38,1],[35,2,36,3],[37,2,38,3],[39,1,41,1],[39,2,41,2],[39,3,41,3],[37,13,38,14],[33,36,35,37],[37,21,39,21],[37,26,39,26],[37,27,39,27],[37,34,39,34],[37,35,39,35],[33,34,35,35],[33,38,35,39],[32,2,34,2],[32,3,34,3],[37,24,39,24],[37,25,39,25],[24,52,26,52],[24,53,26,53],[24,56,26,56],[24,57,26,57],[27,52,29,52],[27,53,29,53],[27,56,29,56],[27,57,29,57],[30,52,32,52],[30,53,32,53],[30,56,32,56],[30,57,32,57],[15,56,17,56],[15,57,17,57],[18,52,20,52],[18,53,20,53],[18,56,20,56],[18,57,20,57],[21,52,23,52],[21,53,23,53],[21,56,23,56],[21,57,23,57],[33,48,35,49],[37,44,39,44],[37,45,39,45],[1,52,1,53],[1,56,1,57],[2,52,2,53],[2,56,2,57],[3,52,5,52],[3,53,5,53],[3,56,5,56],[3,57,5,57],[6,52,8,52],[6,53,8,53],[6,56,8,56],[6,57,8,57],[9,52,11,52],[9,53,11,53],[9,56,11,56],[9,57,11,57],[12,52,14,52],[12,53,14,53],[12,56,14,56],[12,57,14,57],[15,52,17,52],[0,46,0,49],[1,44,1,45],[1,48,1,49],[2,44,2,45],[2,48,2,49],[3,44,5,44],[3,45,5,45],[3,48,5,48],[3,49,5,49],[15,49,17,49],[18,44,20,44],[18,45,20,45],[18,48,20,48],[18,49,20,49],[21,44,23,44],[21,45,23,45],[21,48,23,48],[21,49,23,49],[15,48,17,48],[6,49,8,49],[9,44,11,44],[9,45,11,45],[9,48,11,48],[9,49,11,49],[12,44,14,44],[12,45,14,45],[12,48,14,48],[12,49,14,49],[6,48,8,48],[24,48,26,48],[27,44,29,44],[27,45,29,45],[27,48,29,48],[30,48,32,48],[6,40,8,40],[6,41,8,41],[9,41,11,41],[27,40,29,40],[30,46,32,46],[30,47,32,47],[9,42,11,42],[9,43,11,43],[9,46,11,46],[9,47,11,47],[15,40,17,40],[15,41,17,41],[18,41,20,41],[12,41,14,41],[0,38,0,41],[1,36,1,37],[1,40,1,41],[2,36,2,37],[2,40,2,41],[3,36,5,36],[3,37,5,37],[3,40,5,40],[3,41,5,41],[0,34,0,37],[6,37,8,37],[1,34,1,35],[1,38,1,39],[2,34,2,35],[2,38,2,39],[3,34,5,34],[3,35,5,35],[9,37,11,37],[9,40,11,40],[3,38,5,38],[33,40,35,41],[37,36,39,36],[37,37,39,37],[21,32,23,32],[21,33,23,33],[24,28,26,28],[24,29,26,29],[24,32,26,32],[24,33,26,33],[30,34,32,34],[30,35,32,35],[30,38,32,38],[30,39,32,39],[27,36,29,36],[27,37,29,37],[27,41,29,41],[30,36,32,36],[30,37,32,37],[30,40,32,40],[30,41,32,41],[24,35,26,35],[24,38,26,38],[24,39,26,39],[21,34,23,34],[30,32,32,32],[30,33,32,33],[6,32,8,32],[6,33,8,33],[9,28,11,28],[9,29,11,29],[12,28,14,28],[12,29,14,29],[12,32,14,32],[12,33,14,33],[15,28,17,28],[15,29,17,29],[15,32,17,32],[15,33,17,33],[9,32,11,32],[9,33,11,33],[6,30,8,30],[6,31,8,31],[6,28,8,28],[6,29,8,29],[0,22,0,25],[0,30,0,33],[1,28,1,29],[1,32,1,33],[2,28,2,29],[2,32,2,33],[3,28,5,28],[3,29,5,29],[3,32,5,32],[3,33,5,33],[3,26,5,26],[3,27,5,27],[3,30,5,30],[1,26,1,27],[3,31,5,31],[1,24,1,25],[2,24,2,25],[3,24,5,24],[3,25,5,25],[6,24,8,24],[6,25,8,25],[9,20,11,20],[9,21,11,21],[9,24,11,24],[9,25,11,25],[12,20,14,20],[12,21,14,21],[12,24,14,24],[12,25,14,25],[30,24,32,24],[30,25,32,25],[15,20,17,20],[15,21,17,21],[15,24,17,24],[15,25,17,25],[18,20,20,20],[18,21,20,21],[18,24,20,24],[18,25,20,25],[21,20,23,20],[21,21,23,21],[21,24,23,24],[21,25,23,25],[15,22,17,22],[15,23,17,23],[24,20,26,20],[24,21,26,21],[24,24,26,24],[24,25,26,25],[27,22,29,22],[27,23,29,23],[21,22,23,22],[21,23,23,23],[37,42,39,42],[37,43,39,43],[33,50,35,51],[33,54,35,55],[24,50,26,50],[24,51,26,51],[24,54,26,54],[24,55,26,55],[27,50,29,50],[27,51,29,51],[27,54,29,54],[27,55,29,55],[30,50,32,50],[30,51,32,51],[30,54,32,54],[30,55,32,55],[37,50,39,50],[37,51,39,51],[30,42,32,42],[30,43,32,43],[24,49,26,49],[27,49,29,49],[30,49,32,49],[33,44,35,45],[21,0,27,0],[21,1,24,1],[21,42,23,42],[21,43,23,43],[21,46,23,46],[21,47,23,47],[24,42,26,42],[24,43,26,43],[24,46,26,46],[24,47,26,47],[27,42,29,42],[27,43,29,43],[27,46,29,46],[27,47,29,47],[24,34,26,34],[27,34,29,34],[27,20,29,20],[27,21,29,21],[27,24,29,24],[27,25,29,25],[27,28,29,28],[27,29,29,29],[27,32,29,32],[27,33,29,33],[15,51,17,51],[15,54,17,54],[18,50,20,50],[18,51,20,51],[18,54,20,54],[18,55,20,55],[21,50,23,50],[21,51,23,51],[21,54,23,54],[21,55,23,55],[15,53,17,53],[37,46,39,46],[37,47,39,47],[1,50,1,51],[1,54,1,55],[2,50,2,51],[2,54,2,55],[3,50,5,50],[3,51,5,51],[3,54,5,54],[3,55,5,55],[6,50,8,50],[6,51,8,51],[6,54,8,54],[6,55,8,55],[9,50,11,50],[9,51,11,51],[9,54,11,54],[9,55,11,55],[12,50,14,50],[12,51,14,51],[12,54,14,54],[12,55,14,55],[15,55,17,55],[15,50,17,50],[33,42,35,43],[33,46,35,47],[12,46,14,46],[12,47,14,47],[15,42,17,42],[15,43,17,43],[15,46,17,46],[15,47,17,47],[18,42,20,42],[18,43,20,43],[18,46,20,46],[18,47,20,47],[30,44,32,44],[30,45,32,45],[15,44,17,44],[15,45,17,45],[12,42,14,42],[12,43,14,43],[24,44,26,44],[24,45,26,45],[1,42,1,43],[1,46,1,47],[2,42,2,43],[2,46,2,47],[3,42,5,42],[3,43,5,43],[3,46,5,46],[3,47,5,47],[6,42,8,42],[6,43,8,43],[6,46,8,46],[6,47,8,47],[6,44,8,44],[6,45,8,45],[21,36,23,36],[21,37,23,37],[21,40,23,40],[21,41,23,41],[24,36,26,36],[24,37,26,37],[24,40,26,40],[24,41,26,41],[15,38,17,38],[15,39,17,39],[18,34,20,34],[18,35,20,35],[18,38,20,38],[18,39,20,39],[18,36,20,36],[18,37,20,37],[18,40,20,40],[3,39,5,39],[6,34,8,34],[6,35,8,35],[6,38,8,38],[6,39,8,39],[9,34,11,34],[9,35,11,35],[9,38,11,38],[9,39,11,39],[6,36,8,36],[9,36,11,36],[12,36,14,36],[12,37,14,37],[12,40,14,40],[9,26,11,26],[9,27,11,27],[9,30,11,30],[9,31,11,31],[12,26,14,26],[12,27,14,27],[12,30,14,30],[12,31,14,31],[15,26,17,26],[15,27,17,27],[15,30,17,30],[15,31,17,31],[27,35,29,35],[27,38,29,38],[27,39,29,39],[12,34,14,34],[18,32,20,32],[18,33,20,33],[30,26,32,26],[30,27,32,27],[30,30,32,30],[30,31,32,31],[27,26,29,26],[27,27,29,27],[27,30,29,30],[27,31,29,31],[21,35,23,35],[21,38,23,38],[21,39,23,39],[15,37,17,37],[15,36,17,36],[12,38,14,38],[12,39,14,39],[12,35,14,35],[15,34,17,34],[15,35,17,35],[33,26,35,27],[33,30,35,31],[18,26,20,26],[18,27,20,27],[18,30,20,30],[18,31,20,31],[21,26,23,26],[21,27,23,27],[21,30,23,30],[21,31,23,31],[24,26,26,26],[24,27,26,27],[24,30,26,30],[24,31,26,31],[30,28,32,28],[30,29,32,29],[21,28,23,28],[21,29,23,29],[33,28,35,29],[18,28,20,28],[18,29,20,29],[37,18,39,18],[37,19,39,19],[33,22,35,23],[30,17,32,17],[37,22,39,22],[37,23,39,23],[30,20,32,20],[30,21,32,21],[30,18,32,18],[30,19,32,19],[27,17,29,17],[27,18,29,18],[27,19,29,19],[30,22,32,22],[33,20,35,21],[21,15,23,16],[1,30,1,31],[2,26,2,27],[2,30,2,31],[6,26,8,26],[6,27,8,27],[24,17,26,17],[1,17,2,17],[3,17,5,17],[18,17,20,17],[12,17,14,17],[18,23,20,23],[18,18,20,18],[18,19,20,19],[21,19,23,19],[21,17,23,17],[21,18,23,18],[24,18,26,18],[24,19,26,19],[24,22,26,22],[24,23,26,23],[18,22,20,22],[15,19,17,19],[12,23,14,23],[1,22,1,23],[2,22,2,23],[3,22,5,22],[3,23,5,23],[6,22,8,22],[6,23,8,23],[9,22,11,22],[9,23,11,23],[6,20,8,20],[6,21,8,21],[9,5,10,10],[12,22,14,22],[11,3,12,4],[6,14,8,16],[9,11,11,13],[9,14,11,16],[1,11,2,16],[3,15,5,16],[6,11,8,13],[1,18,1,19],[2,18,2,19],[3,19,5,19],[3,11,5,14],[1,20,1,21],[2,20,2,21],[3,20,5,20],[3,21,5,21],[12,13,12,14],[13,13,14,14],[12,11,14,12],[5,5,6,7],[5,8,6,10],[12,15,14,16],[30,2,31,3],[25,2,27,2],[25,3,27,3],[0,42,0,45],[0,50,0,53],[32,1,34,1],[25,1,27,1],[28,1,31,1],[3,18,5,18],[15,18,17,18],[6,18,8,18],[12,18,14,18],[6,19,8,19],[6,17,8,17],[9,19,11,19],[9,17,11,17],[9,18,11,18],[19,6,20,6],[19,7,20,7],[15,17,17,17],[30,23,32,23],[0,18,0,21],[0,26,0,29],[12,19,14,19],[36,52,36,53],[36,54,36,55],[36,56,36,57],[1,0,2,10],[28,0,34,0],[19,0,20,0],[19,1,20,1],[19,4,20,4],[19,5,20,5],[19,2,20,3],[5,3,6,4],[7,3,8,4],[3,3,4,4],[19,8,20,8],[19,9,20,9],[19,10,20,10],[3,5,4,10],[9,3,10,4],[7,5,8,7],[11,5,12,10],[7,8,8,10],[21,2,22,3],[23,2,24,3],[28,2,29,3],[37,48,39,48],[37,49,39,49],[37,54,39,54],[37,55,39,55],[37,56,39,56],[37,57,39,57],[0,54,0,57],[36,18,36,19],[36,20,36,21],[36,22,36,23],[36,24,36,25],[36,26,36,27],[36,28,36,29],[36,30,36,31],[36,32,36,33],[36,34,36,35],[36,36,36,37],[36,38,36,39],[36,40,36,41],[36,42,36,43],[36,44,36,45],[36,46,36,47],[36,48,36,49],[36,50,36,51],[30,58,32,58],[3,58,5,58],[6,58,8,58],[9,58,11,58],[12,58,14,58],[15,58,17,58],[18,58,20,58],[21,58,23,58],[24,58,26,58],[27,58,29,58]]}
[null,null,null,null,null,null,null,null,null,null,null,null,null,null,null,null,null,null,"STRING 01",null,null,null,"STRING 01",null,null,null,"STRING 02",null,null,null,"STRING 02",null,null,null,"STRING 03",null,null,null,"STRING 03",null,null,null,"STRING 04",null,null,null,"STRING 04",null,null,null,"STRING 05",null,null,null,"STRING 05"]
[" ",null,null,null,null,null,null,null,null,null,null,"Match Results",null,null,null,null,null,"Bowler",{"$f":"$B$22","v":"B1 First"},null,{"$f":"$B$36","v":"B3 First"},null,{"$f":"$B$29","v":"B2 First"},null,{"$f":"$B$43","v":"B4 First"},null,{"$f":"$B$22","v":"B1 First"},null,{"$f":"$B$36","v":"B3 First"},null,{"$f":"$B$29","v":"B2 First"},null,{"$f":"$B$43","v":"B4 First"},null,{"$f":"$B$22","v":"B1 First"},null,{"$f":"$B$36","v":"B3 First"},null,{"$f":"$B$29","v":"B2 First"},null,{"$f":"$B$43","v":"B4 First"},null,{"$f":"$B$22","v":"B1 First"},null,{"$f":"$B$36","v":"B3 First"},null,{"$f":"$B$29","v":"B2 First"},null,{"$f":"$B$43","v":"B4 First"},null,{"$f":"$B$22","v":"B1 First"},null,{"$f":"$B$36","v":"B3 First"},null,{"$f":"$B$29","v":"B2 First"},null,{"$f":"$B$43","v":"B4 First"}]
[null,null,null,null,null,null,null,null,null,null,null,null,null,null,null,null,null,null,{"$f":"$B$26","v":"B1 Last"},null,{"$f":"$B$40","v":"B3 Last"},null,{"$f":"$B$33","v":"B2 Last"},null,{"$f":"$B$47","v":"B4 Last"},null,{"$f":"$B$26","v":"B1 Last"},null,{"$f":"$B$40","v":"B3 Last"},null,{"$f":"$B$33","v":"B2 Last"},null,{"$f":"$B$47","v":"B4 Last"},null,{"$f":"$B$26","v":"B1 Last"},null,{"$f":"$B$40","v":"B3 Last"},null,{"$f":"$B$33","v":"B2 Last"},null,{"$f":"$B$47","v":"B4 Last"},null,{"$f":"$B$26","v":"B1 Last"},null,{"$f":"$B$40","v":"B3 Last"},null,{"$f":"$B$33","v":"B2 Last"},null,{"$f":"$B$47","v":"B4 Last"},null,{"$f":"$B$26","v":"B1 Last"},null,{"$f":"$B$40","v":"B3 Last"},null,{"$f":"$B$33","v":"B2 Last"},null,{"$f":"$B$47","v":"B4 Last"}]
[null,null,null,"Conference ::",null,null,null,null,null,null,null,{"$f":"IF((L7>O7),B22,(IF((L7<O7),B29,\"TIE\")))","v":"TIE"},null,null,null,{"$f":"\"+\"&SUM((MAX(L7,O7)-(LARGE((L7,O7),2))))","v":"+0"},null,1,null,{"$f":"IF(OR(S4<>\"\",S42<>\"\"),(IF(S4=\"X\",SUM(T1+10+S42),(SUM(T1+S4+S42)))),0)","v":0},null,{"$f":"IF(OR(U4<>\"\",U42<>\"\"),(IF(U4=\"X\",SUM(V1+10+U42),(SUM(V1+U4+U42)))),0)","v":0},null,{"$f":"IF(OR(W4<>\"\",W42<>\"\"),(IF(W4=\"X\",SUM(X1+10+W42),(SUM(X1+W4+W42)))),0)","v":0},null,{"$f":"IF(OR(Y4<>\"\",Y42<>\"\"),(IF(Y4=\"X\",SUM(Z1+10+Y42),(SUM(Z1+Y4+Y42)))),0)","v":0},null,{"$f":"IF(OR(AA4<>\"\",AA42<>\"\"),(IF(AA4=\"X\",SUM(AB1+10+AA42),(SUM(AB1+AA4+AA42)))),0)","v":0},null,{"$f":"IF(OR(AC4<>\"\",AC42<>\"\"),(IF(AC4=\"X\",SUM(AD1+10+AC42),(SUM(AD1+AC4+AC42)))),0)","v":0},null,{"$f":"IF(OR(AE4<>\"\",AE42<>\"\"),(IF(AE4=\"X\",SUM(AF1+10+AE42),(SUM(AF1+AE4+AE42)))),0)","v":0},null,{"$f":"IF(OR(AG4<>\"\",AG42<>\"\"),(IF(AG4=\"X\",SUM(AH1+10+AG42),(SUM(AH1+AG4+AG42)))),0)","v":0},null,{"$f":"IF(OR(AI4<>\"\",AI42<>\"\"),(IF(AI4=\"X\",SUM(AJ1+10+AI42),(SUM(AJ1+AI4+AI42)))),0)","v":0},null,{"$f":"IF(OR(AK4<>\"\",AK42<>\"\"),(IF(AK4=\"X\",SUM(AL1+10+AK42),(SUM(AL1+AK4+AK42)))),0)","v":0},null,{"$f":"IF(OR(AM4<>\"\",AM42<>\"\"),(IF(AM4=\"X\",SUM(AN1+10+AM42),(SUM(AN1+AM4+AM42)))),0)","v":0},null,{"$f":"IF(OR(AO4<>\"\",AO42<>\"\"),(IF(AO4=\"X\",SUM(AP1+10+AO42),(SUM(AP1+AO4+AO42)))),0)","v":0},null,{"$f":"IF(OR(AQ4<>\"\",AQ42<>\"\"),(IF(AQ4=\"X\",SUM(AR1+10+AQ42),(SUM(AR1+AQ4+AQ42)))),0)","v":0},null,{"$f":"IF(OR(AS4<>\"\",AS42<>\"\"),(IF(AS4=\"X\",SUM(AT1+10+AS42),(SUM(AT1+AS4+AS42)))),0)","v":0},null,{"$f":"IF(OR(AU4<>\"\",AU42<>\"\"),(IF(AU4=\"X\",SUM(AV1+10+AU42),(SUM(AV1+AU4+AU42)))),0)","v":0},null,{"$f":"IF(OR(AW4<>\"\",AW42<>\"\"),(IF(AW4=\"X\",SUM(AX1+10+AW42),(SUM(AX1+AW4+AW42)))),0)","v":0},null,{"$f":"IF(OR(AY4<>\"\",AY42<>\"\"),(IF(AY4=\"X\",SUM(AZ1+10+AY42),(SUM(AZ1+AY4+AY42)))),0)","v":0},null,{"$f":"IF(OR(BA4<>\"\",BA42<>\"\"),(IF(BA4=\"X\",SUM(BB1+10+BA42),(SUM(BB1+BA4+BA42)))),0)","v":0},null,{"$f":"IF(OR(BC4<>\"\",BC42<>\"\"),(IF(BC4=\"X\",SUM(BD1+10+BC42),(SUM(BD1+BC4+BC42)))),0)","v":0},null,{"$f":"IF(OR(BE4<>\"\",BE42<>\"\"),(IF(BE4=\"X\",SUM(BF1+10+BE42),(SUM(BF1+BE4+BE42)))),0)","v":0}]
[]
[null,null,null,"Class ::",null,"M1 Class",null,null,"M2 Class"]
[null,null,null,null,null,null,null,null,null,null,null,{"$f":"SUM(L13:M27)","v":0},null,null,{"$f":"SUM(P13:Q27)","v":0},null,null,2,null,{"$f":"IF(OR(S7<>\"\",S45<>\"\"),(IF(S7=\"X\",SUM(T4+10+S45),(SUM(T4+S7+S45)))),0)","v":0},null,{"$f":"IF(OR(U7<>\"\",U45<>\"\"),(IF(U7=\"X\",SUM(V4+10+U45),(SUM(V4+U7+U45)))),0)","v":0},null,{"$f":"IF(OR(W7<>\"\",W45<>\"\"),(IF(W7=\"X\",SUM(X4+10+W45),(SUM(X4+W7+W45)))),0)","v":0},null,{"$f":"IF(OR(Y7<>\"\",Y45<>\"\"),(IF(Y7=\"X\",SUM(Z4+10+Y45),(SUM(Z4+Y7+Y45)))),0)","v":0},null,{"$f":"IF(OR(AA7<>\"\",AA45<>\"\"),(IF(AA7=\"X\",SUM(AB4+10+AA45),(SUM(AB4+AA7+AA45)))),0)","v":0},null,{"$f":"IF(OR(AC7<>\"\",AC45<>\"\"),(IF(AC7=\"X\",SUM(AD4+10+AC45),(SUM(AD4+AC7+AC45)))),0)","v":0},null,{"$f":"IF(OR(AE7<>\"\",AE45<>\"\"),(IF(AE7=\"X\",SUM(AF4+10+AE45),(SUM(AF4+AE7+AE45)))),0)","v":0},null,{"$f":"IF(OR(AG7<>\"\",AG45<>\"\"),(IF(AG7=\"X\",SUM(AH4+10+AG45),(SUM(AH4+AG7+AG45)))),0)","v":0},null,{"$f":"IF(OR(AI7<>\"\",AI45<>\"\"),(IF(AI7=\"X\",SUM(AJ4+10+AI45),(SUM(AJ4+AI7+AI45)))),0)","v":0},null,{"$f":"IF(OR(AK7<>\"\",AK45<>\"\"),(IF(AK7=\"X\",SUM(AL4+10+AK45),(SUM(AL4+AK7+AK45)))),0)","v":0},null,{"$f":"IF(OR(AM7<>\"\",AM45<>\"\"),(IF(AM7=\"X\",SUM(AN4+10+AM45),(SUM(AN4+AM7+AM45)))),0)","v":0},null,{"$f":"IF(OR(AO7<>\"\",AO45<>\"\"),(IF(AO7=\"X\",SUM(AP4+10+AO45),(SUM(AP4+AO7+AO45)))),0)","v":0},null,{"$f":"IF(OR(AQ7<>\"\",AQ45<>\"\"),(IF(AQ7=\"X\",SUM(AR4+10+AQ45),(SUM(AR4+AQ7+AQ45)))),0)","v":0},null,{"$f":"IF(OR(AS7<>\"\",AS45<>\"\"),(IF(AS7=\"X\",SUM(AT4+10+AS45),(SUM(AT4+AS7+AS45)))),0)","v":0},null,{"$f":"IF(OR(AU7<>\"\",AU45<>\"\"),(IF(AU7=\"X\",SUM(AV4+10+AU45),(SUM(AV4+AU7+AU45)))),0)","v":0},null,{"$f":"IF(OR(AW7<>\"\",AW45<>\"\"),(IF(AW7=\"X\",SUM(AX4+10+AW45),(SUM(AX4+AW7+AW45)))),0)","v":0},null,{"$f":"IF(OR(AY7<>\"\",AY45<>\"\"),(IF(AY7=\"X\",SUM(AZ4+10+AY45),(SUM(AZ4+AY7+AY45)))),0)","v":0},null,{"$f":"IF(OR(BA7<>\"\",BA45<>\"\"),(IF(BA7=\"X\",SUM(BB4+10+BA45),(SUM(BB4+BA7+BA45)))),0)","v":0},null,{"$f":"IF(OR(BC7<>\"\",BC45<>\"\"),(IF(BC7=\"X\",SUM(BD4+10+BC45),(SUM(BD4+BC7+BC45)))),0)","v":0},null,{"$f":"IF(OR(BE7<>\"\",BE45<>\"\"),(IF(BE7=\"X\",SUM(BF4+10+BE45),(SUM(BF4+BE7+BE45)))),0)","v":0}]
[null,null,null,"Round ::",null,"M1 Round",null,null,"M2 Round"]
[]
[null,null,null,"Date ::",null,null,null,null,null,null,null,{"$f":"B22","v":"B1 First"},null,null,{"$f":"B29","v":"B2 First"},null,null,3,null,{"$f":"IF(OR(S10<>\"\",S48<>\"\"),(IF(S10=\"X\",SUM(T7+10+S48),(SUM(T7+S10+S48)))),0)","v":0},null,{"$f":"IF(OR(U10<>\"\",U48<>\"\"),(IF(U10=\"X\",SUM(V7+10+U48),(SUM(V7+U10+U48)))),0)","v":0},null,{"$f":"IF(OR(W10<>\"\",W48<>\"\"),(IF(W10=\"X\",SUM(X7+10+W48),(SUM(X7+W10+W48)))),0)","v":0},null,{"$f":"IF(OR(Y10<>\"\",Y48<>\"\"),(IF(Y10=\"X\",SUM(Z7+10+Y48),(SUM(Z7+Y10+Y48)))),0)","v":0},null,{"$f":"IF(OR(AA10<>\"\",AA48<>\"\"),(IF(AA10=\"X\",SUM(AB7+10+AA48),(SUM(AB7+AA10+AA48)))),0)","v":0},null,{"$f":"IF(OR(AC10<>\"\",AC48<>\"\"),(IF(AC10=\"X\",SUM(AD7+10+AC48),(SUM(AD7+AC10+AC48)))),0)","v":0},null,{"$f":"IF(OR(AE10<>\"\",AE48<>\"\"),(IF(AE10=\"X\",SUM(AF7+10+AE48),(SUM(AF7+AE10+AE48)))),0)","v":0},null,{"$f":"IF(OR(AG10<>\"\",AG48<>\"\"),(IF(AG10=\"X\",SUM(AH7+10+AG48),(SUM(AH7+AG10+AG48)))),0)","v":0},null,{"$f":"IF(OR(AI10<>\"\",AI48<>\"\"),(IF(AI10=\"X\",SUM(AJ7+10+AI48),(SUM(AJ7+AI10+AI48)))),0)","v":0},null,{"$f":"IF(OR(AK10<>\"\",AK48<>\"\"),(IF(AK10=\"X\",SUM(AL7+10+AK48),(SUM(AL7+AK10+AK48)))),0)","v":0},null,{"$f":"IF(OR(AM10<>\"\",AM48<>\"\"),(IF(AM10=\"X\",SUM(AN7+10+AM48),(SUM(AN7+AM10+AM48)))),0)","v":0},null,{"$f":"IF(OR(AO10<>\"\",AO48<>\"\"),(IF(AO10=\"X\",SUM(AP7+10+AO48),(SUM(AP7+AO10+AO48)))),0)","v":0},null,{"$f":"IF(OR(AQ10<>\"\",AQ48<>\"\"),(IF(AQ10=\"X\",SUM(AR7+10+AQ48),(SUM(AR7+AQ10+AQ48)))),0)","v":0},null,{"$f":"IF(OR(AS10<>\"\",AS48<>\"\"),(IF(AS10=\"X\",SUM(AT7+10+AS48),(SUM(AT7+AS10+AS48)))),0)","v":0},null,{"$f":"IF(OR(AU10<>\"\",AU48<>\"\"),(IF(AU10=\"X\",SUM(AV7+10+AU48),(SUM(AV7+AU10+AU48)))),0)","v":0},null,{"$f":"IF(OR(AW10<>\"\",AW48<>\"\"),(IF(AW10=\"X\",SUM(AX7+10+AW48),(SUM(AX7+AW10+AW48)))),0)","v":0},null,{"$f":"IF(OR(AY10<>\"\",AY48<>\"\"),(IF(AY10=\"X\",SUM(AZ7+10+AY48),(SUM(AZ7+AY10+AY48)))),0)","v":0},null,{"$f":"IF(OR(BA10<>\"\",BA48<>\"\"),(IF(BA10=\"X\",SUM(BB7+10+BA48),(SUM(BB7+BA10+BA48)))),0)","v":0},null,{"$f":"IF(OR(BC10<>\"\",BC48<>\"\"),(IF(BC10=\"X\",SUM(BD7+10+BC48),(SUM(BD7+BC10+BC48)))),0)","v":0},null,{"$f":"IF(OR(BE10<>\"\",BE48<>\"\"),(IF(BE10=\"X\",SUM(BF7+10+BE48),(SUM(BF7+BE10+BE48)))),0)","v":0}]
[]
[null,null,null,"Location ::"]
[null,null,null,null,null,null,null,null,null,null,null,{"$f":" IF(S4<>\"\", (SUM(MAX(T4:T31))),0)","v":0},null,"String 1",null,{"$f":" IF(W4<>\"\", (SUM(MAX(X4:X31))),0)","v":0},null,4,null,{"$f":"IF(OR(S13<>\"\",S51<>\"\"),(IF(S13=\"X\",SUM(T10+10+S51),(SUM(T10+S13+S51)))),0)","v":0},null,{"$f":"IF(OR(U13<>\"\",U51<>\"\"),(IF(U13=\"X\",SUM(V10+10+U51),(SUM(V10+U13+U51)))),0)","v":0},null,{"$f":"IF(OR(W13<>\"\",W51<>\"\"),(IF(W13=\"X\",SUM(X10+10+W51),(SUM(X10+W13+W51)))),0)","v":0},null,{"$f":"IF(OR(Y13<>\"\",Y51<>\"\"),(IF(Y13=\"X\",SUM(Z10+10+Y51),(SUM(Z10+Y13+Y51)))),0)","v":0},null,{"$f":"IF(OR(AA13<>\"\",AA51<>\"\"),(IF(AA13=\"X\",SUM(AB10+10+AA51),(SUM(AB10+AA13+AA51)))),0)","v":0},null,{"$f":"IF(OR(AC13<>\"\",AC51<>\"\"),(IF(AC13=\"X\",SUM(AD10+10+AC51),(SUM(AD10+AC13+AC51)))),0)","v":0},null,{"$f":"IF(OR(AE13<>\"\",AE51<>\"\"),(IF(AE13=\"X\",SUM(AF10+10+AE51),(SUM(AF10+AE13+AE51)))),0)","v":0},null,{"$f":"IF(OR(AG13<>\"\",AG51<>\"\"),(IF(AG13=\"X\",SUM(AH10+10+AG51),(SUM(AH10+AG13+AG51)))),0)","v":0},null,{"$f":"IF(OR(AI13<>\"\",AI51<>\"\"),(IF(AI13=\"X\",SUM(AJ10+10+AI51),(SUM(AJ10+AI13+AI51)))),0)","v":0},null,{"$f":"IF(OR(AK13<>\"\",AK51<>\"\"),(IF(AK13=\"X\",SUM(AL10+10+AK51),(SUM(AL10+AK13+AK51)))),0)","v":0},null,{"$f":"IF(OR(AM13<>\"\",AM51<>\"\"),(IF(AM13=\"X\",SUM(AN10+10+AM51),(SUM(AN10+AM13+AM51)))),0)","v":0},null,{"$f":"IF(OR(AO13<>\"\",AO51<>\"\"),(IF(AO13=\"X\",SUM(AP10+10+AO51),(SUM(AP10+AO13+AO51)))),0)","v":0},null,{"$f":"IF(OR(AQ13<>\"\",AQ51<>\"\"),(IF(AQ13=\"X\",SUM(AR10+10+AQ51),(SUM(AR10+AQ13+AQ51)))),0)","v":0},null,{"$f":"IF(OR(AS13<>\"\",AS51<>\"\"),(IF(AS13=\"X\",SUM(AT10+10+AS51),(SUM(AT10+AS13+AS51)))),0)","v":0},null,{"$f":"IF(OR(AU13<>\"\",AU51<>\"\"),(IF(AU13=\"X\",SUM(AV10+10+AU51),(SUM(AV10+AU13+AU51)))),0)","v":0},null,{"$f":"IF(OR(AW13<>\"\",AW51<>\"\"),(IF(AW13=\"X\",SUM(AX10+10+AW51),(SUM(AX10+AW13+AW51)))),0)","v":0},null,{"$f":"IF(OR(AY13<>\"\",AY51<>\"\"),(IF(AY13=\"X\",SUM(AZ10+10+AY51),(SUM(AZ10+AY13+AY51)))),0)","v":0},null,{"$f":"IF(OR(BA13<>\"\",BA51<>\"\"),(IF(BA13=\"X\",SUM(BB10+10+BA51),(SUM(BB10+BA13+BA51)))),0)","v":0},null,{"$f":"IF(OR(BC13<>\"\",BC51<>\"\"),(IF(BC13=\"X\",SUM(BD10+10+BC51),(SUM(BD10+BC13+BC51)))),0)","v":0},null,{"$f":"IF(OR(BE13<>\"\",BE51<>\"\"),(IF(BE13=\"X\",SUM(BF10+10+BE51),(SUM(BF10+BE13+BE51)))),0)","v":0}]
[null,null,null,null,null,null,null,null,null,null,null,null,null,{"$f":"\"+\" & ABS(SUM(L13-P13))","v":"+0"}]
[]
[null,null,null,null,null,null,null,null,null,null,null,{"$f":" IF(AA4<>\"\", (SUM(MAX(AB4:AB31))),0)","v":0},null,"String 2",null,{"$f":" IF(AE4<>\"\", (SUM(MAX(AF4:AF31))),0)","v":0},null,5,null,{"$f":"IF(OR(S16<>\"\",S54<>\"\"),(IF(S16=\"X\",SUM(T13+10+S54),(SUM(T13+S16+S54)))),0)","v":0},null,{"$f":"IF(OR(U16<>\"\",U54<>\"\"),(IF(U16=\"X\",SUM(V13+10+U54),(SUM(V13+U16+U54)))),0)","v":0},null,{"$f":"IF(OR(W16<>\"\",W54<>\"\"),(IF(W16=\"X\",SUM(X13+10+W54),(SUM(X13+W16+W54)))),0)","v":0},null,{"$f":"IF(OR(Y16<>\"\",Y54<>\"\"),(IF(Y16=\"X\",SUM(Z13+10+Y54),(SUM(Z13+Y16+Y54)))),0)","v":0},null,{"$f":"IF(OR(AA16<>\"\",AA54<>\"\"),(IF(AA16=\"X\",SUM(AB13+10+AA54),(SUM(AB13+AA16+AA54)))),0)","v":0},null,{"$f":"IF(OR(AC16<>\"\",AC54<>\"\"),(IF(AC16=\"X\",SUM(AD13+10+AC54),(SUM(AD13+AC16+AC54)))),0)","v":0},null,{"$f":"IF(OR(AE16<>\"\",AE54<>\"\"),(IF(AE16=\"X\",SUM(AF13+10+AE54),(SUM(AF13+AE16+AE54)))),0)","v":0},null,{"$f":"IF(OR(AG16<>\"\",AG54<>\"\"),(IF(AG16=\"X\",SUM(AH13+10+AG54),(SUM(AH13+AG16+AG54)))),0)","v":0},null,{"$f":"IF(OR(AI16<>\"\",AI54<>\"\"),(IF(AI16=\"X\",SUM(AJ13+10+AI54),(SUM(AJ13+AI16+AI54)))),0)","v":0},null,{"$f":"IF(OR(AK16<>\"\",AK54<>\"\"),(IF(AK16=\"X\",SUM(AL13+10+AK54),(SUM(AL13+AK16+AK54)))),0)","v":0},null,{"$f":"IF(OR(AM16<>\"\",AM54<>\"\"),(IF(AM16=\"X\",SUM(AN13+10+AM54),(SUM(AN13+AM16+AM54)))),0)","v":0},null,{"$f":"IF(OR(AO16<>\"\",AO54<>\"\"),(IF(AO16=\"X\",SUM(AP13+10+AO54),(SUM(AP13+AO16+AO54)))),0)","v":0},null,{"$f":"IF(OR(AQ16<>\"\",AQ54<>\"\"),(IF(AQ16=\"X\",SUM(AR13+10+AQ54),(SUM(AR13+AQ16+AQ54)))),0)","v":0},null,{"$f":"IF(OR(AS16<>\"\",AS54<>\"\"),(IF(AS16=\"X\",SUM(AT13+10+AS54),(SUM(AT13+AS16+AS54)))),0)","v":0},null,{"$f":"IF(OR(AU16<>\"\",AU54<>\"\"),(IF(AU16=\"X\",SUM(AV13+10+AU54),(SUM(AV13+AU16+AU54)))),0)","v":0},null,{"$f":"IF(OR(AW16<>\"\",AW54<>\"\"),(IF(AW16=\"X\",SUM(AX13+10+AW54),(SUM(AX13+AW16+AW54)))),0)","v":0},null,{"$f":"IF(OR(AY16<>\"\",AY54<>\"\"),(IF(AY16=\"X\",SUM(AZ13+10+AY54),(SUM(AZ13+AY16+AY54)))),0)","v":0},null,{"$f":"IF(OR(BA16<>\"\",BA54<>\"\"),(IF(BA16=\"X\",SUM(BB13+10+BA54),(SUM(BB13+BA16+BA54)))),0)","v":0},null,{"$f":"IF(OR(BC16<>\"\",BC54<>\"\"),(IF(BC16=\"X\",SUM(BD13+10+BC54),(SUM(BD13+BC16+BC54)))),0)","v":0},null,{"$f":"IF(OR(BE16<>\"\",BE54<>\"\"),(IF(BE16=\"X\",SUM(BF13+10+BE54),(SUM(BF13+BE16+BE54)))),0)","v":0}]
[null,null,null,null,null,null,null,null,null,null,null,null,null,{"$f":"\"+\" & ABS(SUM(L13+L16-P13-P16))","v":"+0"}]
[]
[null,null,null,null,null,null,null,null,null,null,null,{"$f":" IF(AI4<>\"\", (SUM(MAX(AJ4:AJ31))),0)","v":0},null,"String 3",null,{"$f":" IF(AM4<>\"\", (SUM(MAX(AN4:AN31))),0)","v":0},null,6,null,{"$f":"IF(OR(S19<>\"\",S57<>\"\"),(IF(S19=\"X\",SUM(T16+10+S57),(SUM(T16+S19+S57)))),0)","v":0},null,{"$f":"IF(OR(U19<>\"\",U57<>\"\"),(IF(U19=\"X\",SUM(V16+10+U57),(SUM(V16+U19+U57)))),0)","v":0},null,{"$f":"IF(OR(W19<>\"\",W57<>\"\"),(IF(W19=\"X\",SUM(X16+10+W57),(SUM(X16+W19+W57)))),0)","v":0},null,{"$f":"IF(OR(Y19<>\"\",Y57<>\"\"),(IF(Y19=\"X\",SUM(Z16+10+Y57),(SUM(Z16+Y19+Y57)))),0)","v":0},null,{"$f":"IF(OR(AA19<>\"\",AA57<>\"\"),(IF(AA19=\"X\",SUM(AB16+10+AA57),(SUM(AB16+AA19+AA57)))),0)","v":0},null,{"$f":"IF(OR(AC19<>\"\",AC57<>\"\"),(IF(AC19=\"X\",SUM(AD16+10+AC57),(SUM(AD16+AC19+AC57)))),0)","v":0},null,{"$f":"IF(OR(AE19<>\"\",AE57<>\"\"),(IF(AE19=\"X\",SUM(AF16+10+AE57),(SUM(AF16+AE19+AE57)))),0)","v":0},null,{"$f":"IF(OR(AG19<>\"\",AG57<>\"\"),(IF(AG19=\"X\",SUM(AH16+10+AG57),(SUM(AH16+AG19+AG57)))),0)","v":0},null,{"$f":"IF(OR(AI19<>\"\",AI57<>\"\"),(IF(AI19=\"X\",SUM(AJ16+10+AI57),(SUM(AJ16+AI19+AI57)))),0)","v":0},null,{"$f":"IF(OR(AK19<>\"\",AK57<>\"\"),(IF(AK19=\"X\",SUM(AL16+10+AK57),(SUM(AL16+AK19+AK57)))),0)","v":0},null,{"$f":"IF(OR(AM19<>\"\",AM57<>\"\"),(IF(AM19=\"X\",SUM(AN16+10+AM57),(SUM(AN16+AM19+AM57)))),0)","v":0},null,{"$f":"IF(OR(AO19<>\"\",AO57<>\"\"),(IF(AO19=\"X\",SUM(AP16+10+AO57),(SUM(AP16+AO19+AO57)))),0)","v":0},null,{"$f":"IF(OR(AQ19<>\"\",AQ57<>\"\"),(IF(AQ19=\"X\",SUM(AR16+10+AQ57),(SUM(AR16+AQ19+AQ57)))),0)","v":0},null,{"$f":"IF(OR(AS19<>\"\",AS57<>\"\"),(IF(AS19=\"X\",SUM(AT16+10+AS57),(SUM(AT16+AS19+AS57)))),0)","v":0},null,{"$f":"IF(OR(AU19<>\"\",AU57<>\"\"),(IF(AU19=\"X\",SUM(AV16+10+AU57),(SUM(AV16+AU19+AU57)))),0)","v":0},null,{"$f":"IF(OR(AW19<>\"\",AW57<>\"\"),(IF(AW19=\"X\",SUM(AX16+10+AW57),(SUM(AX16+AW19+AW57)))),0)","v":0},null,{"$f":"IF(OR(AY19<>\"\",AY57<>\"\"),(IF(AY19=\"X\",SUM(AZ16+10+AY57),(SUM(AZ16+AY19+AY57)))),0)","v":0},null,{"$f":"IF(OR(BA19<>\"\",BA57<>\"\"),(IF(BA19=\"X\",SUM(BB16+10+BA57),(SUM(BB16+BA19+BA57)))),0)","v":0},null,{"$f":"IF(OR(BC19<>\"\",BC57<>\"\"),(IF(BC19=\"X\",SUM(BD16+10+BC57),(SUM(BD16+BC19+BC57)))),0)","v":0},null,{"$f":"IF(OR(BE19<>\"\",BE57<>\"\"),(IF(BE19=\"X\",SUM(BF16+10+BE57),(SUM(BF16+BE19+BE57)))),0)","v":0}]
["POINTS","Name","Total","Average","Stat",1,2,3,4,5,"Total",null,null,{"$f":"\"+\" & ABS(SUM(L13+L16+L19-P13-P16-P19))","v":"+0"}]
[]
[{"$f":"(SUM(IF(AND(S31<>\"\",W31<>\"\",L13=P13),\"1\",IF(AND(S31<>\"\",W31<>\"\",L13>P13),\"2\",\"0\")))+(IF(AND(AA31<>\"\",AE31<>\"\",L16=P16),\"1\",IF(AND(AA31<>\"\",AE31<>\"\",L16>P16),\"2\",\"0\")))+(IF(AND(AI31<>\"\",AM31<>\"\",L19=P19),\"1\",IF(AND(AI31<>\"\",AM31<>\"\",L19>P19),\"2\",\"0\")))+(IF(AND(AQ31<>\"\",AU31<>\"\",L22=P22),\"1\",IF(AND(AQ31<>\"\",AU31<>\"\",L22>P22),\"2\",\"0\")))+(IF(AND(AY31<>\"\",BC31<>\"\",L25=P25),\"1\",IF(AND(AY31<>\"\",BC31<>\"\",L25>P25),\"2\",\"0\")))+(IF(AND(AY31<>\"\",BC31<>\"\",L7=O7),\"2\",IF(AND(AY31<>\"\",BC31<>\"\",L7>O7),\"4\",\"0\"))))","v":0},"B1 First",{"$f":"SUM(S34,AA34,AI34,AQ34,AY34)","v":0},null,"HEADPINS",{"$f":"T74","v":0},{"$f":"AB74","v":0},{"$f":"AJ74","v":0},{"$f":"AR74","v":0},{"$f":"AZ74","v":0},{"$f":"SUM(F22:J22)","v":0},{"$f":" IF(AQ4<>\"\", (SUM(MAX(AR4:AR31))),0)","v":0},null,"String 4",null,{"$f":" IF(AU4<>\"\", (SUM(MAX(AV4:AV31))),0)","v":0},null,7,null,{"$f":"IF(OR(S22<>\"\",S60<>\"\"),(IF(S22=\"X\",SUM(T19+10+S60),(SUM(T19+S22+S60)))),0)","v":0},null,{"$f":"IF(OR(U22<>\"\",U60<>\"\"),(IF(U22=\"X\",SUM(V19+10+U60),(SUM(V19+U22+U60)))),0)","v":0},null,{"$f":"IF(OR(W22<>\"\",W60<>\"\"),(IF(W22=\"X\",SUM(X19+10+W60),(SUM(X19+W22+W60)))),0)","v":0},null,{"$f":"IF(OR(Y22<>\"\",Y60<>\"\"),(IF(Y22=\"X\",SUM(Z19+10+Y60),(SUM(Z19+Y22+Y60)))),0)","v":0},null,{"$f":"IF(OR(AA22<>\"\",AA60<>\"\"),(IF(AA22=\"X\",SUM(AB19+10+AA60),(SUM(AB19+AA22+AA60)))),0)","v":0},null,{"$f":"IF(OR(AC22<>\"\",AC60<>\"\"),(IF(AC22=\"X\",SUM(AD19+10+AC60),(SUM(AD19+AC22+AC60)))),0)","v":0},null,{"$f":"IF(OR(AE22<>\"\",AE60<>\"\"),(IF(AE22=\"X\",SUM(AF19+10+AE60),(SUM(AF19+AE22+AE60)))),0)","v":0},null,{"$f":"IF(OR(AG22<>\"\",AG60<>\"\"),(IF(AG22=\"X\",SUM(AH19+10+AG60),(SUM(AH19+AG22+AG60)))),0)","v":0},null,{"$f":"IF(OR(AI22<>\"\",AI60<>\"\"),(IF(AI22=\"X\",SUM(AJ19+10+AI60),(SUM(AJ19+AI22+AI60)))),0)","v":0},null,{"$f":"IF(OR(AK22<>\"\",AK60<>\"\"),(IF(AK22=\"X\",SUM(AL19+10+AK60),(SUM(AL19+AK22+AK60)))),0)","v":0},null,{"$f":"IF(OR(AM22<>\"\",AM60<>\"\"),(IF(AM22=\"X\",SUM(AN19+10+AM60),(SUM(AN19+AM22+AM60)))),0)","v":0},null,{"$f":"IF(OR(AO22<>\"\",AO60<>\"\"),(IF(AO22=\"X\",SUM(AP19+10+AO60),(SUM(AP19+AO22+AO60)))),0)","v":0},null,{"$f":"IF(OR(AQ22<>\"\",AQ60<>\"\"),(IF(AQ22=\"X\",SUM(AR19+10+AQ60),(SUM(AR19+AQ22+AQ60)))),0)","v":0},null,{"$f":"IF(OR(AS22<>\"\",AS60<>\"\"),(IF(AS22=\"X\",SUM(AT19+10+AS60),(SUM(AT19+AS22+AS60)))),0)","v":0},null,{"$f":"IF(OR(AU22<>\"\",AU60<>\"\"),(IF(AU22=\"X\",SUM(AV19+10+AU60),(SUM(AV19+AU22+AU60)))),0)","v":0},null,{"$f":"IF(OR(AW22<>\"\",AW60<>\"\"),(IF(AW22=\"X\",SUM(AX19+10+AW60),(SUM(AX19+AW22+AW60)))),0)","v":0},null,{"$f":"IF(OR(AY22<>\"\",AY60<>\"\"),(IF(AY22=\"X\",SUM(AZ19+10+AY60),(SUM(AZ19+AY22+AY60)))),0)","v":0},null,{"$f":"IF(OR(BA22<>\"\",BA60<>\"\"),(IF(BA22=\"X\",SUM(BB19+10+BA60),(SUM(BB19+BA22+BA60)))),0)","v":0},null,{"$f":"IF(OR(BC22<>\"\",BC60<>\"\"),(IF(BC22=\"X\",SUM(BD19+10+BC60),(SUM(BD19+BC22+BC60)))),0)","v":0},null,{"$f":"IF(OR(BE22<>\"\",BE60<>\"\"),(IF(BE22=\"X\",SUM(BF19+10+BE60),(SUM(BF19+BE22+BE60)))),0)","v":0}]
[null,null,null,null,"SPLITS",0,0,0,0,0,0,null,null,{"$f":"\"+\" & ABS(SUM(L13+L16+L19+L22-P13-P16-P19-P22))","v":"+0"}]
[null,null,{"$f":"SUM(IFERROR(((C22/(COUNTIF(S4:S33,\"<>\")+COUNTIF(AA4:AA33,\"<>\")+COUNTIF(AI4:AI33,\"<>\")+COUNTIF(AQ4:AQ33,\"<>\")+COUNTIF(AY4:AY33,\"<>\")))*10),0))","v":0},null,"STRIKES",0,0,0,0,0,0]
[null,null,null,null,"SPARES",0,0,0,0,0,0,{"$f":" IF(AY4<>\"\", (SUM(MAX(AZ4:AZ31))),0)","v":0},null,"String 5",null,{"$f":" IF(BC4<>\"\", (SUM(MAX(BD4:BD31))),0)","v":0},null,8,null,{"$f":"IF(OR(S25<>\"\",S63<>\"\"),(IF(S25=\"X\",SUM(T22+10+S63),(SUM(T22+S25+S63)))),0)","v":0},null,{"$f":"IF(OR(U25<>\"\",U63<>\"\"),(IF(U25=\"X\",SUM(V22+10+U63),(SUM(V22+U25+U63)))),0)","v":0},null,{"$f":"IF(OR(W25<>\"\",W63<>\"\"),(IF(W25=\"X\",SUM(X22+10+W63),(SUM(X22+W25+W63)))),0)","v":0},null,{"$f":"IF(OR(Y25<>\"\",Y63<>\"\"),(IF(Y25=\"X\",SUM(Z22+10+Y63),(SUM(Z22+Y25+Y63)))),0)","v":0},null,{"$f":"IF(OR(AA25<>\"\",AA63<>\"\"),(IF(AA25=\"X\",SUM(AB22+10+AA63),(SUM(AB22+AA25+AA63)))),0)","v":0},null,{"$f":"IF(OR(AC25<>\"\",AC63<>\"\"),(IF(AC25=\"X\",SUM(AD22+10+AC63),(SUM(AD22+AC25+AC63)))),0)","v":0},null,{"$f":"IF(OR(AE25<>\"\",AE63<>\"\"),(IF(AE25=\"X\",SUM(AF22+10+AE63),(SUM(AF22+AE25+AE63)))),0)","v":0},null,{"$f":"IF(OR(AG25<>\"\",AG63<>\"\"),(IF(AG25=\"X\",SUM(AH22+10+AG63),(SUM(AH22+AG25+AG63)))),0)","v":0},null,{"$f":"IF(OR(AI25<>\"\",AI63<>\"\"),(IF(AI25=\"X\",SUM(AJ22+10+AI63),(SUM(AJ22+AI25+AI63)))),0)","v":0},null,{"$f":"IF(OR(AK25<>\"\",AK63<>\"\"),(IF(AK25=\"X\",SUM(AL22+10+AK63),(SUM(AL22+AK25+AK63)))),0)","v":0},null,{"$f":"IF(OR(AM25<>\"\",AM63<>\"\"),(IF(AM25=\"X\",SUM(AN22+10+AM63),(SUM(AN22+AM25+AM63)))),0)","v":0},null,{"$f":"IF(OR(AO25<>\"\",AO63<>\"\"),(IF(AO25=\"X\",SUM(AP22+10+AO63),(SUM(AP22+AO25+AO63)))),0)","v":0},null,{"$f":"IF(OR(AQ25<>\"\",AQ63<>\"\"),(IF(AQ25=\"X\",SUM(AR22+10+AQ63),(SUM(AR22+AQ25+AQ63)))),0)","v":0},null,{"$f":"IF(OR(AS25<>\"\",AS63<>\"\"),(IF(AS25=\"X\",SUM(AT22+10+AS63),(SUM(AT22+AS25+AS63)))),0)","v":0},null,{"$f":"IF(OR(AU25<>\"\",AU63<>\"\"),(IF(AU25=\"X\",SUM(AV22+10+AU63),(SUM(AV22+AU25+AU63)))),0)","v":0},null,{"$f":"IF(OR(AW25<>\"\",AW63<>\"\"),(IF(AW25=\"X\",SUM(AX22+10+AW63),(SUM(AX22+AW25+AW63)))),0)","v":0},null,{"$f":"IF(OR(AY25<>\"\",AY63<>\"\"),(IF(AY25=\"X\",SUM(AZ22+10+AY63),(SUM(AZ22+AY25+AY63)))),0)","v":0},null,{"$f":"IF(OR(BA25<>\"\",BA63<>\"\"),(IF(BA25=\"X\",SUM(BB22+10+BA63),(SUM(BB22+BA25+BA63)))),0)","v":0},null,{"$f":"IF(OR(BC25<>\"\",BC63<>\"\"),(IF(BC25=\"X\",SUM(BD22+10+BC63),(SUM(BD22+BC25+BC63)))),0)","v":0},null,{"$f":"IF(OR(BE25<>\"\",BE63<>\"\"),(IF(BE25=\"X\",SUM(BF22+10+BE63),(SUM(BF22+BE25+BE63)))),0)","v":0}]
[null,"B1 Last",{"$f":"Q57","v":0},{"$f":"P57","v":0},"TENS",0,0,0,0,0,0,null,null,{"$f":"\"+\" & ABS(SUM(L13+L16+L19+L22+L25-P13-P16-P19-P22-P25))","v":"+0"}]
[null,null,null,null,"STANDING",0,0,0,0,0,0]
[null,null,null,null,"SCORES",0,0,0,0,0,0,{"$f":"IF((L31>O31),B36,(IF((L31<O31),B43,\"TIE\")))","v":"TIE"},null,null,null,{"$f":"\"+\"&SUM((MAX(L31,O31)-(LARGE((L31,O31),2))))","v":"+0"},null,9,null,{"$f":"IF(OR(S28<>\"\",S66<>\"\"),(IF(S28=\"X\",SUM(T25+10+S66),(SUM(T25+S28+S66)))),0)","v":0},null,{"$f":"IF(OR(U28<>\"\",U66<>\"\"),(IF(U28=\"X\",SUM(V25+10+U66),(SUM(V25+U28+U66)))),0)","v":0},null,{"$f":"IF(OR(W28<>\"\",W66<>\"\"),(IF(W28=\"X\",SUM(X25+10+W66),(SUM(X25+W28+W66)))),0)","v":0},null,{"$f":"IF(OR(Y28<>\"\",Y66<>\"\"),(IF(Y28=\"X\",SUM(Z25+10+Y66),(SUM(Z25+Y28+Y66)))),0)","v":0},null,{"$f":"IF(OR(AA28<>\"\",AA66<>\"\"),(IF(AA28=\"X\",SUM(AB25+10+AA66),(SUM(AB25+AA28+AA66)))),0)","v":0},null,{"$f":"IF(OR(AC28<>\"\",AC66<>\"\"),(IF(AC28=\"X\",SUM(AD25+10+AC66),(SUM(AD25+AC28+AC66)))),0)","v":0},null,{"$f":"IF(OR(AE28<>\"\",AE66<>\"\"),(IF(AE28=\"X\",SUM(AF25+10+AE66),(SUM(AF25+AE28+AE66)))),0)","v":0},null,{"$f":"IF(OR(AG28<>\"\",AG66<>\"\"),(IF(AG28=\"X\",SUM(AH25+10+AG66),(SUM(AH25+AG28+AG66)))),0)","v":0},null,{"$f":"IF(OR(AI28<>\"\",AI66<>\"\"),(IF(AI28=\"X\",SUM(AJ25+10+AI66),(SUM(AJ25+AI28+AI66)))),0)","v":0},null,{"$f":"IF(OR(AK28<>\"\",AK66<>\"\"),(IF(AK28=\"X\",SUM(AL25+10+AK66),(SUM(AL25+AK28+AK66)))),0)","v":0},null,{"$f":"IF(OR(AM28<>\"\",AM66<>\"\"),(IF(AM28=\"X\",SUM(AN25+10+AM66),(SUM(AN25+AM28+AM66)))),0)","v":0},null,{"$f":"IF(OR(AO28<>\"\",AO66<>\"\"),(IF(AO28=\"X\",SUM(AP25+10+AO66),(SUM(AP25+AO28+AO66)))),0)","v":0},null,{"$f":"IF(OR(AQ28<>\"\",AQ66<>\"\"),(IF(AQ28=\"X\",SUM(AR25+10+AQ66),(SUM(AR25+AQ28+AQ66)))),0)","v":0},null,{"$f":"IF(OR(AS28<>\"\",AS66<>\"\"),(IF(AS28=\"X\",SUM(AT25+10+AS66),(SUM(AT25+AS28+AS66)))),0)","v":0},null,{"$f":"IF(OR(AU28<>\"\",AU66<>\"\"),(IF(AU28=\"X\",SUM(AV25+10+AU66),(SUM(AV25+AU28+AU66)))),0)","v":0},null,{"$f":"IF(OR(AW28<>\"\",AW66<>\"\"),(IF(AW28=\"X\",SUM(AX25+10+AW66),(SUM(AX25+AW28+AW66)))),0)","v":0},null,{"$f":"IF(OR(AY28<>\"\",AY66<>\"\"),(IF(AY28=\"X\",SUM(AZ25+10+AY66),(SUM(AZ25+AY28+AY66)))),0)","v":0},null,{"$f":"IF(OR(BA28<>\"\",BA66<>\"\"),(IF(BA28=\"X\",SUM(BB25+10+BA66),(SUM(BB25+BA28+BA66)))),0)","v":0},null,{"$f":"IF(OR(BC28<>\"\",BC66<>\"\"),(IF(BC28=\"X\",SUM(BD25+10+BC66),(SUM(BD25+BC28+BC66)))),0)","v":0},null,{"$f":"IF(OR(BE28<>\"\",BE66<>\"\"),(IF(BE28=\"X\",SUM(BF25+10+BE66),(SUM(BF25+BE28+BE66)))),0)","v":0}]
[{"$f":"(SUM(IF(AND(S31<>\"\",W31<>\"\",L13=P13),\"1\",IF(AND(S31<>\"\",W31<>\"\",L13<P13),\"2\",\"0\")))+(IF(AND(AA31<>\"\",AE31<>\"\",L16=P16),\"1\",IF(AND(AA31<>\"\",AE31<>\"\",L16<P16),\"2\",\"0\")))+(IF(AND(AI31<>\"\",AM31<>\"\",L19=P19),\"1\",IF(AND(AI31<>\"\",AM31<>\"\",L19<P19),\"2\",\"0\")))+(IF(AND(AQ31<>\"\",AU31<>\"\",L22=P22),\"1\",IF(AND(AQ31<>\"\",AU31<>\"\",L22<P22),\"2\",\"0\")))+(IF(AND(AY31<>\"\",BC31<>\"\",L25=P25),\"1\",IF(AND(AY31<>\"\",BC31<>\"\",L25<P25),\"2\",\"0\")))+(IF(AND(AY31<>\"\",BC31<>\"\",L7=O7),\"2\",IF(AND(AY31<>\"\",BC31<>\"\",L7<O7),\"4\",\"0\"))))","v":0},"B2 First",{"$f":"SUM(W34,AE34,AM34,AU34,BC34)","v":0},null,"HEADPINS",{"$f":"X74","v":0},{"$f":"AF74","v":0},{"$f":"AN74","v":0},{"$f":"AV74","v":0},{"$f":"BD74","v":0},0]
[null,null,null,null,"SPLITS",0,0,0,0,0,0]
[null,null,{"$f":"SUM(IFERROR(((C29/(COUNTIF(W4:W33,\"<>\")+COUNTIF(AE4:AE33,\"<>\")+COUNTIF(AM4:AM33,\"<>\")+COUNTIF(AU4:AU33,\"<>\")+COUNTIF(BC4:BC33,\"<>\")))*10),0))","v":0},null,"STRIKES",0,0,0,0,0,0,{"$f":"SUM(L37:M51)","v":0},null,null,{"$f":"SUM(P37:Q51)","v":0},null,null,10,null,{"$f":"IF(OR(S31<>\"\",S69<>\"\"),(IF(S31=\"X\",SUM(T28+10+S69),(SUM(T28+S31+S69)))),0)","v":0},null,{"$f":"IF(OR(U31<>\"\",U69<>\"\"),(IF(U31=\"X\",SUM(V28+10+U69),(SUM(V28+U31+U69)))),0)","v":0},null,{"$f":"IF(OR(W31<>\"\",W69<>\"\"),(IF(W31=\"X\",SUM(X28+10+W69),(SUM(X28+W31+W69)))),0)","v":0},null,{"$f":"IF(OR(Y31<>\"\",Y69<>\"\"),(IF(Y31=\"X\",SUM(Z28+10+Y69),(SUM(Z28+Y31+Y69)))),0)","v":0},null,{"$f":"IF(OR(AA31<>\"\",AA69<>\"\"),(IF(AA31=\"X\",SUM(AB28+10+AA69),(SUM(AB28+AA31+AA69)))),0)","v":0},null,{"$f":"IF(OR(AC31<>\"\",AC69<>\"\"),(IF(AC31=\"X\",SUM(AD28+10+AC69),(SUM(AD28+AC31+AC69)))),0)","v":0},null,{"$f":"IF(OR(AE31<>\"\",AE69<>\"\"),(IF(AE31=\"X\",SUM(AF28+10+AE69),(SUM(AF28+AE31+AE69)))),0)","v":0},null,{"$f":"IF(OR(AG31<>\"\",AG69<>\"\"),(IF(AG31=\"X\",SUM(AH28+10+AG69),(SUM(AH28+AG31+AG69)))),0)","v":0},null,{"$f":"IF(OR(AI31<>\"\",AI69<>\"\"),(IF(AI31=\"X\",SUM(AJ28+10+AI69),(SUM(AJ28+AI31+AI69)))),0)","v":0},null,{"$f":"IF(OR(AK31<>\"\",AK69<>\"\"),(IF(AK31=\"X\",SUM(AL28+10+AK69),(SUM(AL28+AK31+AK69)))),0)","v":0},null,{"$f":"IF(OR(AM31<>\"\",AM69<>\"\"),(IF(AM31=\"X\",SUM(AN28+10+AM69),(SUM(AN28+AM31+AM69)))),0)","v":0},null,{"$f":"IF(OR(AO31<>\"\",AO69<>\"\"),(IF(AO31=\"X\",SUM(AP28+10+AO69),(SUM(AP28+AO31+AO69)))),0)","v":0},null,{"$f":"IF(OR(AQ31<>\"\",AQ69<>\"\"),(IF(AQ31=\"X\",SUM(AR28+10+AQ69),(SUM(AR28+AQ31+AQ69)))),0)","v":0},null,{"$f":"IF(OR(AS31<>\"\",AS69<>\"\"),(IF(AS31=\"X\",SUM(AT28+10+AS69),(SUM(AT28+AS31+AS69)))),0)","v":0},null,{"$f":"IF(OR(AU31<>\"\",AU69<>\"\"),(IF(AU31=\"X\",SUM(AV28+10+AU69),(SUM(AV28+AU31+AU69)))),0)","v":0},null,{"$f":"IF(OR(AW31<>\"\",AW69<>\"\"),(IF(AW31=\"X\",SUM(AX28+10+AW69),(SUM(AX28+AW31+AW69)))),0)","v":0},null,{"$f":"IF(OR(AY31<>\"\",AY69<>\"\"),(IF(AY31=\"X\",SUM(AZ28+10+AY69),(SUM(AZ28+AY31+AY69)))),0)","v":0},null,{"$f":"IF(OR(BA31<>\"\",BA69<>\"\"),(IF(BA31=\"X\",SUM(BB28+10+BA69),(SUM(BB28+BA31+BA69)))),0)","v":0},null,{"$f":"IF(OR(BC31<>\"\",BC69<>\"\"),(IF(BC31=\"X\",SUM(BD28+10+BC69),(SUM(BD28+BC31+BC69)))),0)","v":0},null,{"$f":"IF(OR(BE31<>\"\",BE69<>\"\"),(IF(BE31=\"X\",SUM(BF28+10+BE69),(SUM(BF28+BE31+BE69)))),0)","v":0}]
[null,null,null,null,"SPARES",0,0,0,0,0,0]
[null,"B2 Last",{"$f":"Q58","v":0},{"$f":"P58","v":0},"TENS",0,0,0,0,0,0]
[null,null,null,null,"STANDING",0,0,0,0,0,0,{"$f":"B36","v":"B3 First"},null,null,{"$f":"B43","v":"B4 First"},null,null,"Total",{"$f":" IF(S4<>\"\", (SUM(MAX(T4:T31))),0)","v":0},null,{"$f":" IF(U4<>\"\", (SUM(MAX(V4:V31))),0)","v":0},null,{"$f":" IF(W4<>\"\", (SUM(MAX(X4:X31))),0)","v":0},null,{"$f":" IF(Y4<>\"\", (SUM(MAX(Z4:Z31))),0)","v":0},null,{"$f":" IF(AA4<>\"\", (SUM(MAX(AB4:AB31))),0)","v":0},null,{"$f":" IF(AC4<>\"\", (SUM(MAX(AD4:AD31))),0)","v":0},null,{"$f":" IF(AE4<>\"\", (SUM(MAX(AF4:AF31))),0)","v":0},null,{"$f":" IF(AG4<>\"\", (SUM(MAX(AH4:AH31))),0)","v":0},null,{"$f":" IF(AI4<>\"\", (SUM(MAX(AJ4:AJ31))),0)","v":0},null,{"$f":" IF(AK4<>\"\", (SUM(MAX(AL4:AL31))),0)","v":0},null,{"$f":" IF(AM4<>\"\", (SUM(MAX(AN4:AN31))),0)","v":0},null,{"$f":" IF(AO4<>\"\", (SUM(MAX(AP4:AP31))),0)","v":0},null,{"$f":" IF(AQ4<>\"\", (SUM(MAX(AR4:AR31))),0)","v":0},null,{"$f":" IF(AS4<>\"\", (SUM(MAX(AT4:AT31))),0)","v":0},null,{"$f":" IF(AU4<>\"\", (SUM(MAX(AV4:AV31))),0)","v":0},null,{"$f":" IF(AW4<>\"\", (SUM(MAX(AX4:AX31))),0)","v":0},null,{"$f":" IF(AY4<>\"\", (SUM(MAX(AZ4:AZ31))),0)","v":0},null,{"$f":" IF(BA4<>\"\", (SUM(MAX(BB4:BB31))),0)","v":0},null,{"$f":" IF(BC4<>\"\", (SUM(MAX(BD4:BD31))),0)","v":0},null,{"$f":" IF(BE4<>\"\", (SUM(MAX(BF4:BF31))),0)","v":0}]
[null,null,null,null,"SCORES",0,0,0,0,0,0]
[{"$f":"(SUM(IF(AND(U31<>\"\",Y31<>\"\",L37=P37),\"1\",IF(AND(U31<>\"\",Y31<>\"\",L37>P37),\"2\",\"0\")))+(IF(AND(AC31<>\"\",AG31<>\"\",L40=P40),\"1\",IF(AND(AC31<>\"\",AG31<>\"\",L40>P40),\"2\",\"0\")))+(IF(AND(AK31<>\"\",AO31<>\"\",L43=P43),\"1\",IF(AND(AK31<>\"\",AO31<>\"\",L43>P43),\"2\",\"0\")))+(IF(AND(AS31<>\"\",AW31<>\"\",L46=P46),\"1\",IF(AND(AS31<>\"\",AW31<>\"\",L46>P46),\"2\",\"0\")))+(IF(AND(BA31<>\"\",BE31<>\"\",L49=P49),\"1\",IF(AND(BA31<>\"\",BE31<>\"\",L49>P49),\"2\",\"0\")))+(IF(AND(BA31<>\"\",BE31<>\"\",L31=O31),\"2\",IF(AND(BA31<>\"\",BE31<>\"\",L31>O31),\"4\",\"0\"))))","v":0},"B3 First",{"$f":"SUM(U34,AC34,AK34,AS34,BA34)","v":0},null,"HEADPINS",{"$f":"V74","v":0},{"$f":"AD74","v":0},{"$f":"AL74","v":0},{"$f":"AT74","v":0},{"$f":"BB74","v":0},0]
[null,null,null,null,"SPLITS",0,0,0,0,0,{"$f":"SUM(F37:J37)","v":0},{"$f":" IF(U4<>\"\", (SUM(MAX(V4:V33))),0)","v":0},null,"String 1",null,{"$f":" IF(Y4<>\"\", (SUM(MAX(Z4:Z33))),0)","v":0},null,null,"HALF / COMPLETED",null,"HALF / COMPLETED",null,"HALF / COMPLETED",null,"HALF / COMPLETED",null,"HALF / COMPLETED",null,"HALF / COMPLETED",null,"HALF / COMPLETED",null,"HALF / COMPLETED",null,"HALF / COMPLETED",null,"HALF / COMPLETED",null,"HALF / COMPLETED",null,"HALF / COMPLETED",null,"HALF / COMPLETED",null,"HALF / COMPLETED",null,"HALF / COMPLETED",null,"HALF / COMPLETED",null,"HALF / COMPLETED",null,"HALF / COMPLETED",null,"HALF / COMPLETED",null,"HALF / COMPLETED"]
[null,null,{"$f":"SUM(IFERROR(((C36/(COUNTIF(U4:U33,\"<>\")+COUNTIF(AC4:AC33,\"<>\")+COUNTIF(AK4:AK33,\"<>\")+COUNTIF(AS4:AS33,\"<>\")+COUNTIF(BA4:BA33,\"<>\")))*10),0))","v":0},null,"STRIKES",0,0,0,0,0,0,null,null,{"$f":"\"+\" & ABS(SUM(L37-P37))","v":"+0"},null,null,null,null,{"$f":"IF(S4<>\"\",(ABS(S34-W34)),\"\")","v":""},{"$f":"IF((AND(S31<>\"\",W31<>\"\")),(T31-X31),IF((AND(S28<>\"\",W28<>\"\")),(T28-X28),IF((AND(S25<>\"\",W25<>\"\")),(T25-X25),IF((AND(S22<>\"\",W22<>\"\")),(T22-X22),IF((AND(S19<>\"\",W19<>\"\")),(T19-X19),IF((AND(S16<>\"\",W16<>\"\")),(T16-X16),IF((AND(S13<>\"\",W13<>\"\")),(T13-X13),IF((AND(S10<>\"\",W10<>\"\")),(T10-X10),IF((AND(S7<>\"\",W7<>\"\")),(T7-X7),IF((AND(S4<>\"\",W4<>\"\")),(T4-X4),\"\"))))))))))","v":""},{"$f":"IF(U4<>\"\",(ABS(U34-Y34)),\"\")","v":""},{"$f":"IF((AND(U31<>\"\",Y31<>\"\")),(V31-Z31),IF((AND(U28<>\"\",Y28<>\"\")),(V28-Z28),IF((AND(U25<>\"\",Y25<>\"\")),(V25-Z25),IF((AND(U22<>\"\",Y22<>\"\")),(V22-Z22),IF((AND(U19<>\"\",Y19<>\"\")),(V19-Z19),IF((AND(U16<>\"\",Y16<>\"\")),(V16-Z16),IF((AND(U13<>\"\",Y13<>\"\")),(V13-Z13),IF((AND(U10<>\"\",Y10<>\"\")),(V10-Z10),IF((AND(U7<>\"\",Y7<>\"\")),(V7-Z7),IF((AND(U4<>\"\",Y4<>\"\")),(V4-Z4),\"\"))))))))))","v":""},{"$f":"IF(S4<>\"\",(ABS(S34-W34)),\"\")","v":""},{"$f":"IF((AND(S31<>\"\",W31<>\"\")),(T31-X31),IF((AND(S28<>\"\",W28<>\"\")),(T28-X28),IF((AND(S25<>\"\",W25<>\"\")),(T25-X25),IF((AND(S22<>\"\",W22<>\"\")),(T22-X22),IF((AND(S19<>\"\",W19<>\"\")),(T19-X19),IF((AND(S16<>\"\",W16<>\"\")),(T16-X16),IF((AND(S13<>\"\",W13<>\"\")),(T13-X13),IF((AND(S10<>\"\",W10<>\"\")),(T10-X10),IF((AND(S7<>\"\",W7<>\"\")),(T7-X7),IF((AND(S4<>\"\",W4<>\"\")),(T4-X4),\"\"))))))))))","v":""},{"$f":"IF(U4<>\"\",(ABS(U34-Y34)),\"\")","v":""},{"$f":"IF((AND(U31<>\"\",Y31<>\"\")),(V31-Z31),IF((AND(U28<>\"\",Y28<>\"\")),(V28-Z28),IF((AND(U25<>\"\",Y25<>\"\")),(V25-Z25),IF((AND(U22<>\"\",Y22<>\"\")),(V22-Z22),IF((AND(U19<>\"\",Y19<>\"\")),(V19-Z19),IF((AND(U16<>\"\",Y16<>\"\")),(V16-Z16),IF((AND(U13<>\"\",Y13<>\"\")),(V13-Z13),IF((AND(U10<>\"\",Y10<>\"\")),(V10-Z10),IF((AND(U7<>\"\",Y7<>\"\")),(V7-Z7),IF((AND(U4<>\"\",Y4<>\"\")),(V4-Z4),\"\"))))))))))","v":""},{"$f":"IF(AA4<>\"\",(ABS(AA34-AE34)),\"\")","v":""},{"$f":"IF((AND(AA31<>\"\",AE31<>\"\")),(AB31-AF31),IF((AND(AA28<>\"\",AE28<>\"\")),(AB28-AF28),IF((AND(AA25<>\"\",AE25<>\"\")),(AB25-AF25),IF((AND(AA22<>\"\",AE22<>\"\")),(AB22-AF22),IF((AND(AA19<>\"\",AE19<>\"\")),(AB19-AF19),IF((AND(AA16<>\"\",AE16<>\"\")),(AB16-AF16),IF((AND(AA13<>\"\",AE13<>\"\")),(AB13-AF13),IF((AND(AA10<>\"\",AE10<>\"\")),(AB10-AF10),IF((AND(AA7<>\"\",AE7<>\"\")),(AB7-AF7),IF((AND(AA4<>\"\",AE4<>\"\")),(AB4-AF4),\"\"))))))))))","v":""},{"$f":"IF(AC4<>\"\",(ABS(AC34-AG34)),\"\")","v":""},{"$f":"IF((AND(AC31<>\"\",AG31<>\"\")),(AD31-AH31),IF((AND(AC28<>\"\",AG28<>\"\")),(AD28-AH28),IF((AND(AC25<>\"\",AG25<>\"\")),(AD25-AH25),IF((AND(AC22<>\"\",AG22<>\"\")),(AD22-AH22),IF((AND(AC19<>\"\",AG19<>\"\")),(AD19-AH19),IF((AND(AC16<>\"\",AG16<>\"\")),(AD16-AH16),IF((AND(AC13<>\"\",AG13<>\"\")),(AD13-AH13),IF((AND(AC10<>\"\",AG10<>\"\")),(AD10-AH10),IF((AND(AC7<>\"\",AG7<>\"\")),(AD7-AH7),IF((AND(AC4<>\"\",AG4<>\"\")),(AD4-AH4),\"\"))))))))))","v":""},{"$f":"IF(AA4<>\"\",(ABS(AA34-AE34)),\"\")","v":""},{"$f":"IF((AND(AA31<>\"\",AE31<>\"\")),(AB31-AF31),IF((AND(AA28<>\"\",AE28<>\"\")),(AB28-AF28),IF((AND(AA25<>\"\",AE25<>\"\")),(AB25-AF25),IF((AND(AA22<>\"\",AE22<>\"\")),(AB22-AF22),IF((AND(AA19<>\"\",AE19<>\"\")),(AB19-AF19),IF((AND(AA16<>\"\",AE16<>\"\")),(AB16-AF16),IF((AND(AA13<>\"\",AE13<>\"\")),(AB13-AF13),IF((AND(AA10<>\"\",AE10<>\"\")),(AB10-AF10),IF((AND(AA7<>\"\",AE7<>\"\")),(AB7-AF7),IF((AND(AA4<>\"\",AE4<>\"\")),(AB4-AF4),\"\"))))))))))","v":""},{"$f":"IF(AC4<>\"\",(ABS(AC34-AG34)),\"\")","v":""},{"$f":"IF((AND(AC31<>\"\",AG31<>\"\")),(AD31-AH31),IF((AND(AC28<>\"\",AG28<>\"\")),(AD28-AH28),IF((AND(AC25<>\"\",AG25<>\"\")),(AD25-AH25),IF((AND(AC22<>\"\",AG22<>\"\")),(AD22-AH22),IF((AND(AC19<>\"\",AG19<>\"\")),(AD19-AH19),IF((AND(AC16<>\"\",AG16<>\"\")),(AD16-AH16),IF((AND(AC13<>\"\",AG13<>\"\")),(AD13-AH13),IF((AND(AC10<>\"\",AG10<>\"\")),(AD10-AH10),IF((AND(AC7<>\"\",AG7<>\"\")),(AD7-AH7),IF((AND(AC4<>\"\",AG4<>\"\")),(AD4-AH4),\"\"))))))))))","v":""},{"$f":"IF(AI4<>\"\",(ABS(AI34-AM34)),\"\")","v":""},{"$f":"IF((AND(AI31<>\"\",AM31<>\"\")),(AJ31-AN31),IF((AND(AI28<>\"\",AM28<>\"\")),(AJ28-AN28),IF((AND(AI25<>\"\",AM25<>\"\")),(AJ25-AN25),IF((AND(AI22<>\"\",AM22<>\"\")),(AJ22-AN22),IF((AND(AI19<>\"\",AM19<>\"\")),(AJ19-AN19),IF((AND(AI16<>\"\",AM16<>\"\")),(AJ16-AN16),IF((AND(AI13<>\"\",AM13<>\"\")),(AJ13-AN13),IF((AND(AI10<>\"\",AM10<>\"\")),(AJ10-AN10),IF((AND(AI7<>\"\",AM7<>\"\")),(AJ7-AN7),IF((AND(AI4<>\"\",AM4<>\"\")),(AJ4-AN4),\"\"))))))))))","v":""},{"$f":"IF(AK4<>\"\",(ABS(AK34-AO34)),\"\")","v":""},{"$f":"IF((AND(AK31<>\"\",AO31<>\"\")),(AL31-AP31),IF((AND(AK28<>\"\",AO28<>\"\")),(AL28-AP28),IF((AND(AK25<>\"\",AO25<>\"\")),(AL25-AP25),IF((AND(AK22<>\"\",AO22<>\"\")),(AL22-AP22),IF((AND(AK19<>\"\",AO19<>\"\")),(AL19-AP19),IF((AND(AK16<>\"\",AO16<>\"\")),(AL16-AP16),IF((AND(AK13<>\"\",AO13<>\"\")),(AL13-AP13),IF((AND(AK10<>\"\",AO10<>\"\")),(AL10-AP10),IF((AND(AK7<>\"\",AO7<>\"\")),(AL7-AP7),IF((AND(AK4<>\"\",AO4<>\"\")),(AL4-AP4),\"\"))))))))))","v":""},{"$f":"IF(AI4<>\"\",(ABS(AI34-AM34)),\"\")","v":""},{"$f":"IF((AND(AI31<>\"\",AM31<>\"\")),(AJ31-AN31),IF((AND(AI28<>\"\",AM28<>\"\")),(AJ28-AN28),IF((AND(AI25<>\"\",AM25<>\"\")),(AJ25-AN25),IF((AND(AI22<>\"\",AM22<>\"\")),(AJ22-AN22),IF((AND(AI19<>\"\",AM19<>\"\")),(AJ19-AN19),IF((AND(AI16<>\"\",AM16<>\"\")),(AJ16-AN16),IF((AND(AI13<>\"\",AM13<>\"\")),(AJ13-AN13),IF((AND(AI10<>\"\",AM10<>\"\")),(AJ10-AN10),IF((AND(AI7<>\"\",AM7<>\"\")),(AJ7-AN7),IF((AND(AI4<>\"\",AM4<>\"\")),(AJ4-AN4),\"\"))))))))))","v":""},{"$f":"IF(AK4<>\"\",(ABS(AK34-AO34)),\"\")","v":""},{"$f":"IF((AND(AK31<>\"\",AO31<>\"\")),(AL31-AP31),IF((AND(AK28<>\"\",AO28<>\"\")),(AL28-AP28),IF((AND(AK25<>\"\",AO25<>\"\")),(AL25-AP25),IF((AND(AK22<>\"\",AO22<>\"\")),(AL22-AP22),IF((AND(AK19<>\"\",AO19<>\"\")),(AL19-AP19),IF((AND(AK16<>\"\",AO16<>\"\")),(AL16-AP16),IF((AND(AK13<>\"\",AO13<>\"\")),(AL13-AP13),IF((AND(AK10<>\"\",AO10<>\"\")),(AL10-AP10),IF((AND(AK7<>\"\",AO7<>\"\")),(AL7-AP7),IF((AND(AK4<>\"\",AO4<>\"\")),(AL4-AP4),\"\"))))))))))","v":""},{"$f":"IF(AQ4<>\"\",(ABS(AQ34-AU34)),\"\")","v":""},{"$f":"IF((AND(AQ31<>\"\",AU31<>\"\")),(AR31-AV31),IF((AND(AQ28<>\"\",AU28<>\"\")),(AR28-AV28),IF((AND(AQ25<>\"\",AU25<>\"\")),(AR25-AV25),IF((AND(AQ22<>\"\",AU22<>\"\")),(AR22-AV22),IF((AND(AQ19<>\"\",AU19<>\"\")),(AR19-AV19),IF((AND(AQ16<>\"\",AU16<>\"\")),(AR16-AV16),IF((AND(AQ13<>\"\",AU13<>\"\")),(AR13-AV13),IF((AND(AQ10<>\"\",AU10<>\"\")),(AR10-AV10),IF((AND(AQ7<>\"\",AU7<>\"\")),(AR7-AV7),IF((AND(AQ4<>\"\",AU4<>\"\")),(AR4-AV4),\"\"))))))))))","v":""},{"$f":"IF(AS4<>\"\",(ABS(AS34-AW34)),\"\")","v":""},{"$f":"IF((AND(AS31<>\"\",AW31<>\"\")),(AT31-AX31),IF((AND(AS28<>\"\",AW28<>\"\")),(AT28-AX28),IF((AND(AS25<>\"\",AW25<>\"\")),(AT25-AX25),IF((AND(AS22<>\"\",AW22<>\"\")),(AT22-AX22),IF((AND(AS19<>\"\",AW19<>\"\")),(AT19-AX19),IF((AND(AS16<>\"\",AW16<>\"\")),(AT16-AX16),IF((AND(AS13<>\"\",AW13<>\"\")),(AT13-AX13),IF((AND(AS10<>\"\",AW10<>\"\")),(AT10-AX10),IF((AND(AS7<>\"\",AW7<>\"\")),(AT7-AX7),IF((AND(AS4<>\"\",AW4<>\"\")),(AT4-AX4),\"\"))))))))))","v":""},{"$f":"IF(AQ4<>\"\",(ABS(AQ34-AU34)),\"\")","v":""},{"$f":"IF((AND(AQ31<>\"\",AU31<>\"\")),(AR31-AV31),IF((AND(AQ28<>\"\",AU28<>\"\")),(AR28-AV28),IF((AND(AQ25<>\"\",AU25<>\"\")),(AR25-AV25),IF((AND(AQ22<>\"\",AU22<>\"\")),(AR22-AV22),IF((AND(AQ19<>\"\",AU19<>\"\")),(AR19-AV19),IF((AND(AQ16<>\"\",AU16<>\"\")),(AR16-AV16),IF((AND(AQ13<>\"\",AU13<>\"\")),(AR13-AV13),IF((AND(AQ10<>\"\",AU10<>\"\")),(AR10-AV10),IF((AND(AQ7<>\"\",AU7<>\"\")),(AR7-AV7),IF((AND(AQ4<>\"\",AU4<>\"\")),(AR4-AV4),\"\"))))))))))","v":""},{"$f":"IF(AS4<>\"\",(ABS(AS34-AW34)),\"\")","v":""},{"$f":"IF((AND(AS31<>\"\",AW31<>\"\")),(AT31-AX31),IF((AND(AS28<>\"\",AW28<>\"\")),(AT28-AX28),IF((AND(AS25<>\"\",AW25<>\"\")),(AT25-AX25),IF((AND(AS22<>\"\",AW22<>\"\")),(AT22-AX22),IF((AND(AS19<>\"\",AW19<>\"\")),(AT19-AX19),IF((AND(AS16<>\"\",AW16<>\"\")),(AT16-AX16),IF((AND(AS13<>\"\",AW13<>\"\")),(AT13-AX13),IF((AND(AS10<>\"\",AW10<>\"\")),(AT10-AX10),IF((AND(AS7<>\"\",AW7<>\"\")),(AT7-AX7),IF((AND(AS4<>\"\",AW4<>\"\")),(AT4-AX4),\"\"))))))))))","v":""},{"$f":"IF(AY4<>\"\",(ABS(AY34-BC34)),\"\")","v":""},{"$f":"IF((AND(AY31<>\"\",BC31<>\"\")),(AZ31-BD31),IF((AND(AY28<>\"\",BC28<>\"\")),(AZ28-BD28),IF((AND(AY25<>\"\",BC25<>\"\")),(AZ25-BD25),IF((AND(AY22<>\"\",BC22<>\"\")),(AZ22-BD22),IF((AND(AY19<>\"\",BC19<>\"\")),(AZ19-BD19),IF((AND(AY16<>\"\",BC16<>\"\")),(AZ16-BD16),IF((AND(AY13<>\"\",BC13<>\"\")),(AZ13-BD13),IF((AND(AY10<>\"\",BC10<>\"\")),(AZ10-BD10),IF((AND(AY7<>\"\",BC7<>\"\")),(AZ7-BD7),IF((AND(AY4<>\"\",BC4<>\"\")),(AZ4-BD4),\"\"))))))))))","v":""},{"$f":"IF(BA4<>\"\",(ABS(BA34-BE34)),\"\")","v":""},{"$f":"IF((AND(BA31<>\"\",BE31<>\"\")),(BB31-BF31),IF((AND(BA28<>\"\",BE28<>\"\")),(BB28-BF28),IF((AND(BA25<>\"\",BE25<>\"\")),(BB25-BF25),IF((AND(BA22<>\"\",BE22<>\"\")),(BB22-BF22),IF((AND(BA19<>\"\",BE19<>\"\")),(BB19-BF19),IF((AND(BA16<>\"\",BE16<>\"\")),(BB16-BF16),IF((AND(BA13<>\"\",BE13<>\"\")),(BB13-BF13),IF((AND(BA10<>\"\",BE10<>\"\")),(BB10-BF10),IF((AND(BA7<>\"\",BE7<>\"\")),(BB7-BF7),IF((AND(BA4<>\"\",BE4<>\"\")),(BB4-BF4),\"\"))))))))))","v":""},{"$f":"IF(AY4<>\"\",(ABS(AY34-BC34)),\"\")","v":""},{"$f":"IF((AND(AY31<>\"\",BC31<>\"\")),(AZ31-BD31),IF((AND(AY28<>\"\",BC28<>\"\")),(AZ28-BD28),IF((AND(AY25<>\"\",BC25<>\"\")),(AZ25-BD25),IF((AND(AY22<>\"\",BC22<>\"\")),(AZ22-BD22),IF((AND(AY19<>\"\",BC19<>\"\")),(AZ19-BD19),IF((AND(AY16<>\"\",BC16<>\"\")),(AZ16-BD16),IF((AND(AY13<>\"\",BC13<>\"\")),(AZ13-BD13),IF((AND(AY10<>\"\",BC10<>\"\")),(AZ10-BD10),IF((AND(AY7<>\"\",BC7<>\"\")),(AZ7-BD7),IF((AND(AY4<>\"\",BC4<>\"\")),(AZ4-BD4),\"\"))))))))))","v":""},{"$f":"IF(BA4<>\"\",(ABS(BA34-BE34)),\"\")","v":""},{"$f":"IF((AND(BA31<>\"\",BE31<>\"\")),(BB31-BF31),IF((AND(BA28<>\"\",BE28<>\"\")),(BB28-BF28),IF((AND(BA25<>\"\",BE25<>\"\")),(BB25-BF25),IF((AND(BA22<>\"\",BE22<>\"\")),(BB22-BF22),IF((AND(BA19<>\"\",BE19<>\"\")),(BB19-BF19),IF((AND(BA16<>\"\",BE16<>\"\")),(BB16-BF16),IF((AND(BA13<>\"\",BE13<>\"\")),(BB13-BF13),IF((AND(BA10<>\"\",BE10<>\"\")),(BB10-BF10),IF((AND(BA7<>\"\",BE7<>\"\")),(BB7-BF7),IF((AND(BA4<>\"\",BE4<>\"\")),(BB4-BF4),\"\"))))))))))","v":""}]
[null,null,null,null,"SPARES",0,0,0,0,0,0]
[null,"B3 Last",{"$f":"Q59","v":0},{"$f":"P59","v":0},"TENS",0,0,0,0,0,0,{"$f":" IF(AC4<>\"\", (SUM(MAX(AD4:AD33))),0)","v":0},null,"String 2",null,{"$f":" IF(AG4<>\"\", (SUM(MAX(AH4:AH33))),0)","v":0}]
[null,null,null,null,"STANDING",0,0,0,0,0,0,null,null,{"$f":"\"+\" & ABS(SUM(L37+L40-P37-P40))","v":"+0"}]
[null,null,null,null,"SCORES",0,0,0,0,0,0]
[{"$f":"(SUM(IF(AND(U31<>\"\",Y31<>\"\",L37=P37),\"1\",IF(AND(U31<>\"\",Y31<>\"\",L37<P37),\"2\",\"0\")))+(IF(AND(AC31<>\"\",AG31<>\"\",L40=P40),\"1\",IF(AND(AC31<>\"\",AG31<>\"\",L40,P40),\"2\",\"0\")))+(IF(AND(AK31<>\"\",AO31<>\"\",L43=P43),\"1\",IF(AND(AK31<>\"\",AO31<>\"\",L43<P43),\"2\",\"0\")))+(IF(AND(AS31<>\"\",AW31<>\"\",L46=P46),\"1\",IF(AND(AS31<>\"\",AW31<>\"\",L46<P46),\"2\",\"0\")))+(IF(AND(BA31<>\"\",BE31<>\"\",L49=P49),\"1\",IF(AND(BA31<>\"\",BE31<>\"\",L49<P49),\"2\",\"0\")))+(IF(AND(BA31<>\"\",BE31<>\"\",L31=O31),\"2\",IF(AND(BA31<>\"\",BE31<>\"\",L31<O31),\"4\",\"0\"))))","v":0},"B4 First",{"$f":"SUM(Y34,AG34,AO34,AW34,BE34)","v":0},null,"HEADPINS",{"$f":"Z74","v":0},{"$f":"AH74","v":0},{"$f":"AP74","v":0},{"$f":"AX74","v":0},{"$f":"BF74","v":0},{"$f":"SUM(F43:J43)","v":0},{"$f":" IF(AK4<>\"\", (SUM(MAX(AL4:AL33))),0)","v":0},null,"String 3",null,{"$f":" IF(AO4<>\"\", (SUM(MAX(AP4:AP33))),0)","v":0}]
[null,null,null,null,"SPLITS",{"$f":"Z75","v":0},{"$f":"AH75","v":0},{"$f":"AP75","v":0},{"$f":"AX75","v":0},{"$f":"BF75","v":0},{"$f":"SUM(F44:J44)","v":0},null,null,{"$f":"\"+\" & ABS(SUM(L37+L40+L43-P37-P40-P43))","v":"+0"},null,null,null,null,"Box 01",{"$f":"IF(AND(T43=\"HP\",S43=0,T42=\"\"),1,IF(AND(T43=\"HP\",S43=\"SPL\",T42=\"\"),2,IF(AND(T43=0,S43=\"SPL\",T42=\"\"),3,IF(AND(T43=0,S43=0,T42=\"SPA\"),4,IF(AND(T43=0,S43=\"SPL\",T42=\"SPA\"),5,IF(AND(T43=\"HP\",S43=\"SPL\",T42=\"SPA\"),6,IF(AND(T43=\"HP\",S43=0,T42=\"SPA\"),7,IF(AND(S42=10,T43=0,T42=\"STR\"),8,IF(AND(S42=10,T43=\"HP\",T42=\"STR\"),9,IF(AND(S42=20,T43=0),10,IF(AND(S42=20,T43=\"HP\"),11,0)))))))))))","v":0},"Box 01",{"$f":"IF(AND(V43=\"HP\",U43=0,V42=\"\"),1,IF(AND(V43=\"HP\",U43=\"SPL\",V42=\"\"),2,IF(AND(V43=0,U43=\"SPL\",V42=\"\"),3,IF(AND(V43=0,U43=0,V42=\"SPA\"),4,IF(AND(V43=0,U43=\"SPL\",V42=\"SPA\"),5,IF(AND(V43=\"HP\",U43=\"SPL\",V42=\"SPA\"),6,IF(AND(V43=\"HP\",U43=0,V42=\"SPA\"),7,IF(AND(U42=10,V43=0,V42=\"STR\"),8,IF(AND(U42=10,V43=\"HP\",V42=\"STR\"),9,IF(AND(U42=20,V43=0),10,IF(AND(U42=20,V43=\"HP\"),11,0)))))))))))","v":0},"Box 01",{"$f":"IF(AND(X43=\"HP\",W43=0,X42=\"\"),1,IF(AND(X43=\"HP\",W43=\"SPL\",X42=\"\"),2,IF(AND(X43=0,W43=\"SPL\",X42=\"\"),3,IF(AND(X43=0,W43=0,X42=\"SPA\"),4,IF(AND(X43=0,W43=\"SPL\",X42=\"SPA\"),5,IF(AND(X43=\"HP\",W43=\"SPL\",X42=\"SPA\"),6,IF(AND(X43=\"HP\",W43=0,X42=\"SPA\"),7,IF(AND(W42=10,X43=0,X42=\"STR\"),8,IF(AND(W42=10,X43=\"HP\",X42=\"STR\"),9,IF(AND(W42=20,X43=0),10,IF(AND(W42=20,X43=\"HP\"),11,0)))))))))))","v":0},"Box 01",{"$f":"IF(AND(Z43=\"HP\",Y43=0,Z42=\"\"),1,IF(AND(Z43=\"HP\",Y43=\"SPL\",Z42=\"\"),2,IF(AND(Z43=0,Y43=\"SPL\",Z42=\"\"),3,IF(AND(Z43=0,Y43=0,Z42=\"SPA\"),4,IF(AND(Z43=0,Y43=\"SPL\",Z42=\"SPA\"),5,IF(AND(Z43=\"HP\",Y43=\"SPL\",Z42=\"SPA\"),6,IF(AND(Z43=\"HP\",Y43=0,Z42=\"SPA\"),7,IF(AND(Y42=10,Z43=0,Z42=\"STR\"),8,IF(AND(Y42=10,Z43=\"HP\",Z42=\"STR\"),9,IF(AND(Y42=20,Z43=0),10,IF(AND(Y42=20,Z43=\"HP\"),11,0)))))))))))","v":0},"Box 01",{"$f":"IF(AND(AB43=\"HP\",AA43=0,AB42=\"\"),1,IF(AND(AB43=\"HP\",AA43=\"SPL\",AB42=\"\"),2,IF(AND(AB43=0,AA43=\"SPL\",AB42=\"\"),3,IF(AND(AB43=0,AA43=0,AB42=\"SPA\"),4,IF(AND(AB43=0,AA43=\"SPL\",AB42=\"SPA\"),5,IF(AND(AB43=\"HP\",AA43=\"SPL\",AB42=\"SPA\"),6,IF(AND(AB43=\"HP\",AA43=0,AB42=\"SPA\"),7,IF(AND(AA42=10,AB43=0,AB42=\"STR\"),8,IF(AND(AA42=10,AB43=\"HP\",AB42=\"STR\"),9,IF(AND(AA42=20,AB43=0),10,IF(AND(AA42=20,AB43=\"HP\"),11,0)))))))))))","v":0},"Box 01",{"$f":"IF(AND(AD43=\"HP\",AC43=0,AD42=\"\"),1,IF(AND(AD43=\"HP\",AC43=\"SPL\",AD42=\"\"),2,IF(AND(AD43=0,AC43=\"SPL\",AD42=\"\"),3,IF(AND(AD43=0,AC43=0,AD42=\"SPA\"),4,IF(AND(AD43=0,AC43=\"SPL\",AD42=\"SPA\"),5,IF(AND(AD43=\"HP\",AC43=\"SPL\",AD42=\"SPA\"),6,IF(AND(AD43=\"HP\",AC43=0,AD42=\"SPA\"),7,IF(AND(AC42=10,AD43=0,AD42=\"STR\"),8,IF(AND(AC42=10,AD43=\"HP\",AD42=\"STR\"),9,IF(AND(AC42=20,AD43=0),10,IF(AND(AC42=20,AD43=\"HP\"),11,0)))))))))))","v":0},"Box 01",{"$f":"IF(AND(AF43=\"HP\",AE43=0,AF42=\"\"),1,IF(AND(AF43=\"HP\",AE43=\"SPL\",AF42=\"\"),2,IF(AND(AF43=0,AE43=\"SPL\",AF42=\"\"),3,IF(AND(AF43=0,AE43=0,AF42=\"SPA\"),4,IF(AND(AF43=0,AE43=\"SPL\",AF42=\"SPA\"),5,IF(AND(AF43=\"HP\",AE43=\"SPL\",AF42=\"SPA\"),6,IF(AND(AF43=\"HP\",AE43=0,AF42=\"SPA\"),7,IF(AND(AE42=10,AF43=0,AF42=\"STR\"),8,IF(AND(AE42=10,AF43=\"HP\",AF42=\"STR\"),9,IF(AND(AE42=20,AF43=0),10,IF(AND(AE42=20,AF43=\"HP\"),11,0)))))))))))","v":0},"Box 01",{"$f":"IF(AND(AH43=\"HP\",AG43=0,AH42=\"\"),1,IF(AND(AH43=\"HP\",AG43=\"SPL\",AH42=\"\"),2,IF(AND(AH43=0,AG43=\"SPL\",AH42=\"\"),3,IF(AND(AH43=0,AG43=0,AH42=\"SPA\"),4,IF(AND(AH43=0,AG43=\"SPL\",AH42=\"SPA\"),5,IF(AND(AH43=\"HP\",AG43=\"SPL\",AH42=\"SPA\"),6,IF(AND(AH43=\"HP\",AG43=0,AH42=\"SPA\"),7,IF(AND(AG42=10,AH43=0,AH42=\"STR\"),8,IF(AND(AG42=10,AH43=\"HP\",AH42=\"STR\"),9,IF(AND(AG42=20,AH43=0),10,IF(AND(AG42=20,AH43=\"HP\"),11,0)))))))))))","v":0},"Box 01",{"$f":"IF(AND(AJ43=\"HP\",AI43=0,AJ42=\"\"),1,IF(AND(AJ43=\"HP\",AI43=\"SPL\",AJ42=\"\"),2,IF(AND(AJ43=0,AI43=\"SPL\",AJ42=\"\"),3,IF(AND(AJ43=0,AI43=0,AJ42=\"SPA\"),4,IF(AND(AJ43=0,AI43=\"SPL\",AJ42=\"SPA\"),5,IF(AND(AJ43=\"HP\",AI43=\"SPL\",AJ42=\"SPA\"),6,IF(AND(AJ43=\"HP\",AI43=0,AJ42=\"SPA\"),7,IF(AND(AI42=10,AJ43=0,AJ42=\"STR\"),8,IF(AND(AI42=10,AJ43=\"HP\",AJ42=\"STR\"),9,IF(AND(AI42=20,AJ43=0),10,IF(AND(AI42=20,AJ43=\"HP\"),11,0)))))))))))","v":0},"Box 01",{"$f":"IF(AND(AL43=\"HP\",AK43=0,AL42=\"\"),1,IF(AND(AL43=\"HP\",AK43=\"SPL\",AL42=\"\"),2,IF(AND(AL43=0,AK43=\"SPL\",AL42=\"\"),3,IF(AND(AL43=0,AK43=0,AL42=\"SPA\"),4,IF(AND(AL43=0,AK43=\"SPL\",AL42=\"SPA\"),5,IF(AND(AL43=\"HP\",AK43=\"SPL\",AL42=\"SPA\"),6,IF(AND(AL43=\"HP\",AK43=0,AL42=\"SPA\"),7,IF(AND(AK42=10,AL43=0,AL42=\"STR\"),8,IF(AND(AK42=10,AL43=\"HP\",AL42=\"STR\"),9,IF(AND(AK42=20,AL43=0),10,IF(AND(AK42=20,AL43=\"HP\"),11,0)))))))))))","v":0},"Box 01",{"$f":"IF(AND(AN43=\"HP\",AM43=0,AN42=\"\"),1,IF(AND(AN43=\"HP\",AM43=\"SPL\",AN42=\"\"),2,IF(AND(AN43=0,AM43=\"SPL\",AN42=\"\"),3,IF(AND(AN43=0,AM43=0,AN42=\"SPA\"),4,IF(AND(AN43=0,AM43=\"SPL\",AN42=\"SPA\"),5,IF(AND(AN43=\"HP\",AM43=\"SPL\",AN42=\"SPA\"),6,IF(AND(AN43=\"HP\",AM43=0,AN42=\"SPA\"),7,IF(AND(AM42=10,AN43=0,AN42=\"STR\"),8,IF(AND(AM42=10,AN43=\"HP\",AN42=\"STR\"),9,IF(AND(AM42=20,AN43=0),10,IF(AND(AM42=20,AN43=\"HP\"),11,0)))))))))))","v":0},"Box 01",{"$f":"IF(AND(AP43=\"HP\",AO43=0,AP42=\"\"),1,IF(AND(AP43=\"HP\",AO43=\"SPL\",AP42=\"\"),2,IF(AND(AP43=0,AO43=\"SPL\",AP42=\"\"),3,IF(AND(AP43=0,AO43=0,AP42=\"SPA\"),4,IF(AND(AP43=0,AO43=\"SPL\",AP42=\"SPA\"),5,IF(AND(AP43=\"HP\",AO43=\"SPL\",AP42=\"SPA\"),6,IF(AND(AP43=\"HP\",AO43=0,AP42=\"SPA\"),7,IF(AND(AO42=10,AP43=0,AP42=\"STR\"),8,IF(AND(AO42=10,AP43=\"HP\",AP42=\"STR\"),9,IF(AND(AO42=20,AP43=0),10,IF(AND(AO42=20,AP43=\"HP\"),11,0)))))))))))","v":0},"Box 01",{"$f":"IF(AND(AR43=\"HP\",AQ43=0,AR42=\"\"),1,IF(AND(AR43=\"HP\",AQ43=\"SPL\",AR42=\"\"),2,IF(AND(AR43=0,AQ43=\"SPL\",AR42=\"\"),3,IF(AND(AR43=0,AQ43=0,AR42=\"SPA\"),4,IF(AND(AR43=0,AQ43=\"SPL\",AR42=\"SPA\"),5,IF(AND(AR43=\"HP\",AQ43=\"SPL\",AR42=\"SPA\"),6,IF(AND(AR43=\"HP\",AQ43=0,AR42=\"SPA\"),7,IF(AND(AQ42=10,AR43=0,AR42=\"STR\"),8,IF(AND(AQ42=10,AR43=\"HP\",AR42=\"STR\"),9,IF(AND(AQ42=20,AR43=0),10,IF(AND(AQ42=20,AR43=\"HP\"),11,0)))))))))))","v":0},"Box 01",{"$f":"IF(AND(AT43=\"HP\",AS43=0,AT42=\"\"),1,IF(AND(AT43=\"HP\",AS43=\"SPL\",AT42=\"\"),2,IF(AND(AT43=0,AS43=\"SPL\",AT42=\"\"),3,IF(AND(AT43=0,AS43=0,AT42=\"SPA\"),4,IF(AND(AT43=0,AS43=\"SPL\",AT42=\"SPA\"),5,IF(AND(AT43=\"HP\",AS43=\"SPL\",AT42=\"SPA\"),6,IF(AND(AT43=\"HP\",AS43=0,AT42=\"SPA\"),7,IF(AND(AS42=10,AT43=0,AT42=\"STR\"),8,IF(AND(AS42=10,AT43=\"HP\",AT42=\"STR\"),9,IF(AND(AS42=20,AT43=0),10,IF(AND(AS42=20,AT43=\"HP\"),11,0)))))))))))","v":0},"Box 01",{"$f":"IF(AND(AV43=\"HP\",AU43=0,AV42=\"\"),1,IF(AND(AV43=\"HP\",AU43=\"SPL\",AV42=\"\"),2,IF(AND(AV43=0,AU43=\"SPL\",AV42=\"\"),3,IF(AND(AV43=0,AU43=0,AV42=\"SPA\"),4,IF(AND(AV43=0,AU43=\"SPL\",AV42=\"SPA\"),5,IF(AND(AV43=\"HP\",AU43=\"SPL\",AV42=\"SPA\"),6,IF(AND(AV43=\"HP\",AU43=0,AV42=\"SPA\"),7,IF(AND(AU42=10,AV43=0,AV42=\"STR\"),8,IF(AND(AU42=10,AV43=\"HP\",AV42=\"STR\"),9,IF(AND(AU42=20,AV43=0),10,IF(AND(AU42=20,AV43=\"HP\"),11,0)))))))))))","v":0},"Box 01",{"$f":"IF(AND(AX43=\"HP\",AW43=0,AX42=\"\"),1,IF(AND(AX43=\"HP\",AW43=\"SPL\",AX42=\"\"),2,IF(AND(AX43=0,AW43=\"SPL\",AX42=\"\"),3,IF(AND(AX43=0,AW43=0,AX42=\"SPA\"),4,IF(AND(AX43=0,AW43=\"SPL\",AX42=\"SPA\"),5,IF(AND(AX43=\"HP\",AW43=\"SPL\",AX42=\"SPA\"),6,IF(AND(AX43=\"HP\",AW43=0,AX42=\"SPA\"),7,IF(AND(AW42=10,AX43=0,AX42=\"STR\"),8,IF(AND(AW42=10,AX43=\"HP\",AX42=\"STR\"),9,IF(AND(AW42=20,AX43=0),10,IF(AND(AW42=20,AX43=\"HP\"),11,0)))))))))))","v":0},"Box 01",{"$f":"IF(AND(AZ43=\"HP\",AY43=0,AZ42=\"\"),1,IF(AND(AZ43=\"HP\",AY43=\"SPL\",AZ42=\"\"),2,IF(AND(AZ43=0,AY43=\"SPL\",AZ42=\"\"),3,IF(AND(AZ43=0,AY43=0,AZ42=\"SPA\"),4,IF(AND(AZ43=0,AY43=\"SPL\",AZ42=\"SPA\"),5,IF(AND(AZ43=\"HP\",AY43=\"SPL\",AZ42=\"SPA\"),6,IF(AND(AZ43=\"HP\",AY43=0,AZ42=\"SPA\"),7,IF(AND(AY42=10,AZ43=0,AZ42=\"STR\"),8,IF(AND(AY42=10,AZ43=\"HP\",AZ42=\"STR\"),9,IF(AND(AY42=20,AZ43=0),10,IF(AND(AY42=20,AZ43=\"HP\"),11,0)))))))))))","v":0},"Box 01",{"$f":"IF(AND(BB43=\"HP\",BA43=0,BB42=\"\"),1,IF(AND(BB43=\"HP\",BA43=\"SPL\",BB42=\"\"),2,IF(AND(BB43=0,BA43=\"SPL\",BB42=\"\"),3,IF(AND(BB43=0,BA43=0,BB42=\"SPA\"),4,IF(AND(BB43=0,BA43=\"SPL\",BB42=\"SPA\"),5,IF(AND(BB43=\"HP\",BA43=\"SPL\",BB42=\"SPA\"),6,IF(AND(BB43=\"HP\",BA43=0,BB42=\"SPA\"),7,IF(AND(BA42=10,BB43=0,BB42=\"STR\"),8,IF(AND(BA42=10,BB43=\"HP\",BB42=\"STR\"),9,IF(AND(BA42=20,BB43=0),10,IF(AND(BA42=20,BB43=\"HP\"),11,0)))))))))))","v":0},"Box 01",{"$f":"IF(AND(BD43=\"HP\",BC43=0,BD42=\"\"),1,IF(AND(BD43=\"HP\",BC43=\"SPL\",BD42=\"\"),2,IF(AND(BD43=0,BC43=\"SPL\",BD42=\"\"),3,IF(AND(BD43=0,BC43=0,BD42=\"SPA\"),4,IF(AND(BD43=0,BC43=\"SPL\",BD42=\"SPA\"),5,IF(AND(BD43=\"HP\",BC43=\"SPL\",BD42=\"SPA\"),6,IF(AND(BD43=\"HP\",BC43=0,BD42=\"SPA\"),7,IF(AND(BC42=10,BD43=0,BD42=\"STR\"),8,IF(AND(BC42=10,BD43=\"HP\",BD42=\"STR\"),9,IF(AND(BC42=20,BD43=0),10,IF(AND(BC42=20,BD43=\"HP\"),11,0)))))))))))","v":0},"Box 01",{"$f":"IF(AND(BF43=\"HP\",BE43=0,BF42=\"\"),1,IF(AND(BF43=\"HP\",BE43=\"SPL\",BF42=\"\"),2,IF(AND(BF43=0,BE43=\"SPL\",BF42=\"\"),3,IF(AND(BF43=0,BE43=0,BF42=\"SPA\"),4,IF(AND(BF43=0,BE43=\"SPL\",BF42=\"SPA\"),5,IF(AND(BF43=\"HP\",BE43=\"SPL\",BF42=\"SPA\"),6,IF(AND(BF43=\"HP\",BE43=0,BF42=\"SPA\"),7,IF(AND(BE42=10,BF43=0,BF42=\"STR\"),8,IF(AND(BE42=10,BF43=\"HP\",BF42=\"STR\"),9,IF(AND(BE42=20,BF43=0),10,IF(AND(BE42=20,BF43=\"HP\"),11,0)))))))))))","v":0}]
[null,null,{"$f":"SUM(IFERROR(((C43/(COUNTIF(Y4:Y33,\"<>\")+COUNTIF(AG4:AG33,\"<>\")+COUNTIF(AO4:AO33,\"<>\")+COUNTIF(AW4:AW33,\"<>\")+COUNTIF(BE4:BE33,\"<>\")))*10),0))","v":0},null,"STRIKES",0,0,0,0,0,0]
[null,null,null,null,"SPARES",0,0,0,0,0,0,{"$f":" IF(AS4<>\"\", (SUM(MAX(AT4:AT33))),0)","v":0},null,"String 4",null,{"$f":" IF(AW4<>\"\", (SUM(MAX(AX4:AX33))),0)","v":0}]
[null,"B4 Last",{"$f":"Q60","v":0},{"$f":"P60","v":0},"TENS",0,0,0,0,0,0,null,null,{"$f":"\"+\" & ABS(SUM(L37+L40+L43+L46-P37-P40-P43-P46))","v":"+0"},null,null,null,null,"Box 02",{"$f":"IF(AND(T46=\"HP\",S46=0,T45=\"\"),1,IF(AND(T46=\"HP\",S46=\"SPL\",T45=\"\"),2,IF(AND(T46=0,S46=\"SPL\",T45=\"\"),3,IF(AND(T46=0,S46=0,T45=\"SPA\"),4,IF(AND(T46=0,S46=\"SPL\",T45=\"SPA\"),5,IF(AND(T46=\"HP\",S46=\"SPL\",T45=\"SPA\"),6,IF(AND(T46=\"HP\",S46=0,T45=\"SPA\"),7,IF(AND(S45=10,T46=0,T45=\"STR\"),8,IF(AND(S45=10,T46=\"HP\",T45=\"STR\"),9,IF(AND(S45=20,T46=0),10,IF(AND(S45=20,T46=\"HP\"),11,0)))))))))))","v":0},"Box 02",{"$f":"IF(AND(V46=\"HP\",U46=0,V45=\"\"),1,IF(AND(V46=\"HP\",U46=\"SPL\",V45=\"\"),2,IF(AND(V46=0,U46=\"SPL\",V45=\"\"),3,IF(AND(V46=0,U46=0,V45=\"SPA\"),4,IF(AND(V46=0,U46=\"SPL\",V45=\"SPA\"),5,IF(AND(V46=\"HP\",U46=\"SPL\",V45=\"SPA\"),6,IF(AND(V46=\"HP\",U46=0,V45=\"SPA\"),7,IF(AND(U45=10,V46=0,V45=\"STR\"),8,IF(AND(U45=10,V46=\"HP\",V45=\"STR\"),9,IF(AND(U45=20,V46=0),10,IF(AND(U45=20,V46=\"HP\"),11,0)))))))))))","v":0},"Box 02",{"$f":"IF(AND(X46=\"HP\",W46=0,X45=\"\"),1,IF(AND(X46=\"HP\",W46=\"SPL\",X45=\"\"),2,IF(AND(X46=0,W46=\"SPL\",X45=\"\"),3,IF(AND(X46=0,W46=0,X45=\"SPA\"),4,IF(AND(X46=0,W46=\"SPL\",X45=\"SPA\"),5,IF(AND(X46=\"HP\",W46=\"SPL\",X45=\"SPA\"),6,IF(AND(X46=\"HP\",W46=0,X45=\"SPA\"),7,IF(AND(W45=10,X46=0,X45=\"STR\"),8,IF(AND(W45=10,X46=\"HP\",X45=\"STR\"),9,IF(AND(W45=20,X46=0),10,IF(AND(W45=20,X46=\"HP\"),11,0)))))))))))","v":0},"Box 02",{"$f":"IF(AND(Z46=\"HP\",Y46=0,Z45=\"\"),1,IF(AND(Z46=\"HP\",Y46=\"SPL\",Z45=\"\"),2,IF(AND(Z46=0,Y46=\"SPL\",Z45=\"\"),3,IF(AND(Z46=0,Y46=0,Z45=\"SPA\"),4,IF(AND(Z46=0,Y46=\"SPL\",Z45=\"SPA\"),5,IF(AND(Z46=\"HP\",Y46=\"SPL\",Z45=\"SPA\"),6,IF(AND(Z46=\"HP\",Y46=0,Z45=\"SPA\"),7,IF(AND(Y45=10,Z46=0,Z45=\"STR\"),8,IF(AND(Y45=10,Z46=\"HP\",Z45=\"STR\"),9,IF(AND(Y45=20,Z46=0),10,IF(AND(Y45=20,Z46=\"HP\"),11,0)))))))))))","v":0},"Box 02",{"$f":"IF(AND(AB46=\"HP\",AA46=0,AB45=\"\"),1,IF(AND(AB46=\"HP\",AA46=\"SPL\",AB45=\"\"),2,IF(AND(AB46=0,AA46=\"SPL\",AB45=\"\"),3,IF(AND(AB46=0,AA46=0,AB45=\"SPA\"),4,IF(AND(AB46=0,AA46=\"SPL\",AB45=\"SPA\"),5,IF(AND(AB46=\"HP\",AA46=\"SPL\",AB45=\"SPA\"),6,IF(AND(AB46=\"HP\",AA46=0,AB45=\"SPA\"),7,IF(AND(AA45=10,AB46=0,AB45=\"STR\"),8,IF(AND(AA45=10,AB46=\"HP\",AB45=\"STR\"),9,IF(AND(AA45=20,AB46=0),10,IF(AND(AA45=20,AB46=\"HP\"),11,0)))))))))))","v":0},"Box 02",{"$f":"IF(AND(AD46=\"HP\",AC46=0,AD45=\"\"),1,IF(AND(AD46=\"HP\",AC46=\"SPL\",AD45=\"\"),2,IF(AND(AD46=0,AC46=\"SPL\",AD45=\"\"),3,IF(AND(AD46=0,AC46=0,AD45=\"SPA\"),4,IF(AND(AD46=0,AC46=\"SPL\",AD45=\"SPA\"),5,IF(AND(AD46=\"HP\",AC46=\"SPL\",AD45=\"SPA\"),6,IF(AND(AD46=\"HP\",AC46=0,AD45=\"SPA\"),7,IF(AND(AC45=10,AD46=0,AD45=\"STR\"),8,IF(AND(AC45=10,AD46=\"HP\",AD45=\"STR\"),9,IF(AND(AC45=20,AD46=0),10,IF(AND(AC45=20,AD46=\"HP\"),11,0)))))))))))","v":0},"Box 02",{"$f":"IF(AND(AF46=\"HP\",AE46=0,AF45=\"\"),1,IF(AND(AF46=\"HP\",AE46=\"SPL\",AF45=\"\"),2,IF(AND(AF46=0,AE46=\"SPL\",AF45=\"\"),3,IF(AND(AF46=0,AE46=0,AF45=\"SPA\"),4,IF(AND(AF46=0,AE46=\"SPL\",AF45=\"SPA\"),5,IF(AND(AF46=\"HP\",AE46=\"SPL\",AF45=\"SPA\"),6,IF(AND(AF46=\"HP\",AE46=0,AF45=\"SPA\"),7,IF(AND(AE45=10,AF46=0,AF45=\"STR\"),8,IF(AND(AE45=10,AF46=\"HP\",AF45=\"STR\"),9,IF(AND(AE45=20,AF46=0),10,IF(AND(AE45=20,AF46=\"HP\"),11,0)))))))))))","v":0},"Box 02",{"$f":"IF(AND(AH46=\"HP\",AG46=0,AH45=\"\"),1,IF(AND(AH46=\"HP\",AG46=\"SPL\",AH45=\"\"),2,IF(AND(AH46=0,AG46=\"SPL\",AH45=\"\"),3,IF(AND(AH46=0,AG46=0,AH45=\"SPA\"),4,IF(AND(AH46=0,AG46=\"SPL\",AH45=\"SPA\"),5,IF(AND(AH46=\"HP\",AG46=\"SPL\",AH45=\"SPA\"),6,IF(AND(AH46=\"HP\",AG46=0,AH45=\"SPA\"),7,IF(AND(AG45=10,AH46=0,AH45=\"STR\"),8,IF(AND(AG45=10,AH46=\"HP\",AH45=\"STR\"),9,IF(AND(AG45=20,AH46=0),10,IF(AND(AG45=20,AH46=\"HP\"),11,0)))))))))))","v":0},"Box 02",{"$f":"IF(AND(AJ46=\"HP\",AI46=0,AJ45=\"\"),1,IF(AND(AJ46=\"HP\",AI46=\"SPL\",AJ45=\"\"),2,IF(AND(AJ46=0,AI46=\"SPL\",AJ45=\"\"),3,IF(AND(AJ46=0,AI46=0,AJ45=\"SPA\"),4,IF(AND(AJ46=0,AI46=\"SPL\",AJ45=\"SPA\"),5,IF(AND(AJ46=\"HP\",AI46=\"SPL\",AJ45=\"SPA\"),6,IF(AND(AJ46=\"HP\",AI46=0,AJ45=\"SPA\"),7,IF(AND(AI45=10,AJ46=0,AJ45=\"STR\"),8,IF(AND(AI45=10,AJ46=\"HP\",AJ45=\"STR\"),9,IF(AND(AI45=20,AJ46=0),10,IF(AND(AI45=20,AJ46=\"HP\"),11,0)))))))))))","v":0},"Box 02",{"$f":"IF(AND(AL46=\"HP\",AK46=0,AL45=\"\"),1,IF(AND(AL46=\"HP\",AK46=\"SPL\",AL45=\"\"),2,IF(AND(AL46=0,AK46=\"SPL\",AL45=\"\"),3,IF(AND(AL46=0,AK46=0,AL45=\"SPA\"),4,IF(AND(AL46=0,AK46=\"SPL\",AL45=\"SPA\"),5,IF(AND(AL46=\"HP\",AK46=\"SPL\",AL45=\"SPA\"),6,IF(AND(AL46=\"HP\",AK46=0,AL45=\"SPA\"),7,IF(AND(AK45=10,AL46=0,AL45=\"STR\"),8,IF(AND(AK45=10,AL46=\"HP\",AL45=\"STR\"),9,IF(AND(AK45=20,AL46=0),10,IF(AND(AK45=20,AL46=\"HP\"),11,0)))))))))))","v":0},"Box 02",{"$f":"IF(AND(AN46=\"HP\",AM46=0,AN45=\"\"),1,IF(AND(AN46=\"HP\",AM46=\"SPL\",AN45=\"\"),2,IF(AND(AN46=0,AM46=\"SPL\",AN45=\"\"),3,IF(AND(AN46=0,AM46=0,AN45=\"SPA\"),4,IF(AND(AN46=0,AM46=\"SPL\",AN45=\"SPA\"),5,IF(AND(AN46=\"HP\",AM46=\"SPL\",AN45=\"SPA\"),6,IF(AND(AN46=\"HP\",AM46=0,AN45=\"SPA\"),7,IF(AND(AM45=10,AN46=0,AN45=\"STR\"),8,IF(AND(AM45=10,AN46=\"HP\",AN45=\"STR\"),9,IF(AND(AM45=20,AN46=0),10,IF(AND(AM45=20,AN46=\"HP\"),11,0)))))))))))","v":0},"Box 02",{"$f":"IF(AND(AP46=\"HP\",AO46=0,AP45=\"\"),1,IF(AND(AP46=\"HP\",AO46=\"SPL\",AP45=\"\"),2,IF(AND(AP46=0,AO46=\"SPL\",AP45=\"\"),3,IF(AND(AP46=0,AO46=0,AP45=\"SPA\"),4,IF(AND(AP46=0,AO46=\"SPL\",AP45=\"SPA\"),5,IF(AND(AP46=\"HP\",AO46=\"SPL\",AP45=\"SPA\"),6,IF(AND(AP46=\"HP\",AO46=0,AP45=\"SPA\"),7,IF(AND(AO45=10,AP46=0,AP45=\"STR\"),8,IF(AND(AO45=10,AP46=\"HP\",AP45=\"STR\"),9,IF(AND(AO45=20,AP46=0),10,IF(AND(AO45=20,AP46=\"HP\"),11,0)))))))))))","v":0},"Box 02",{"$f":"IF(AND(AR46=\"HP\",AQ46=0,AR45=\"\"),1,IF(AND(AR46=\"HP\",AQ46=\"SPL\",AR45=\"\"),2,IF(AND(AR46=0,AQ46=\"SPL\",AR45=\"\"),3,IF(AND(AR46=0,AQ46=0,AR45=\"SPA\"),4,IF(AND(AR46=0,AQ46=\"SPL\",AR45=\"SPA\"),5,IF(AND(AR46=\"HP\",AQ46=\"SPL\",AR45=\"SPA\"),6,IF(AND(AR46=\"HP\",AQ46=0,AR45=\"SPA\"),7,IF(AND(AQ45=10,AR46=0,AR45=\"STR\"),8,IF(AND(AQ45=10,AR46=\"HP\",AR45=\"STR\"),9,IF(AND(AQ45=20,AR46=0),10,IF(AND(AQ45=20,AR46=\"HP\"),11,0)))))))))))","v":0},"Box 02",{"$f":"IF(AND(AT46=\"HP\",AS46=0,AT45=\"\"),1,IF(AND(AT46=\"HP\",AS46=\"SPL\",AT45=\"\"),2,IF(AND(AT46=0,AS46=\"SPL\",AT45=\"\"),3,IF(AND(AT46=0,AS46=0,AT45=\"SPA\"),4,IF(AND(AT46=0,AS46=\"SPL\",AT45=\"SPA\"),5,IF(AND(AT46=\"HP\",AS46=\"SPL\",AT45=\"SPA\"),6,IF(AND(AT46=\"HP\",AS46=0,AT45=\"SPA\"),7,IF(AND(AS45=10,AT46=0,AT45=\"STR\"),8,IF(AND(AS45=10,AT46=\"HP\",AT45=\"STR\"),9,IF(AND(AS45=20,AT46=0),10,IF(AND(AS45=20,AT46=\"HP\"),11,0)))))))))))","v":0},"Box 02",{"$f":"IF(AND(AV46=\"HP\",AU46=0,AV45=\"\"),1,IF(AND(AV46=\"HP\",AU46=\"SPL\",AV45=\"\"),2,IF(AND(AV46=0,AU46=\"SPL\",AV45=\"\"),3,IF(AND(AV46=0,AU46=0,AV45=\"SPA\"),4,IF(AND(AV46=0,AU46=\"SPL\",AV45=\"SPA\"),5,IF(AND(AV46=\"HP\",AU46=\"SPL\",AV45=\"SPA\"),6,IF(AND(AV46=\"HP\",AU46=0,AV45=\"SPA\"),7,IF(AND(AU45=10,AV46=0,AV45=\"STR\"),8,IF(AND(AU45=10,AV46=\"HP\",AV45=\"STR\"),9,IF(AND(AU45=20,AV46=0),10,IF(AND(AU45=20,AV46=\"HP\"),11,0)))))))))))","v":0},"Box 02",{"$f":"IF(AND(AX46=\"HP\",AW46=0,AX45=\"\"),1,IF(AND(AX46=\"HP\",AW46=\"SPL\",AX45=\"\"),2,IF(AND(AX46=0,AW46=\"SPL\",AX45=\"\"),3,IF(AND(AX46=0,AW46=0,AX45=\"SPA\"),4,IF(AND(AX46=0,AW46=\"SPL\",AX45=\"SPA\"),5,IF(AND(AX46=\"HP\",AW46=\"SPL\",AX45=\"SPA\"),6,IF(AND(AX46=\"HP\",AW46=0,AX45=\"SPA\"),7,IF(AND(AW45=10,AX46=0,AX45=\"STR\"),8,IF(AND(AW45=10,AX46=\"HP\",AX45=\"STR\"),9,IF(AND(AW45=20,AX46=0),10,IF(AND(AW45=20,AX46=\"HP\"),11,0)))))))))))","v":0},"Box 02",{"$f":"IF(AND(AZ46=\"HP\",AY46=0,AZ45=\"\"),1,IF(AND(AZ46=\"HP\",AY46=\"SPL\",AZ45=\"\"),2,IF(AND(AZ46=0,AY46=\"SPL\",AZ45=\"\"),3,IF(AND(AZ46=0,AY46=0,AZ45=\"SPA\"),4,IF(AND(AZ46=0,AY46=\"SPL\",AZ45=\"SPA\"),5,IF(AND(AZ46=\"HP\",AY46=\"SPL\",AZ45=\"SPA\"),6,IF(AND(AZ46=\"HP\",AY46=0,AZ45=\"SPA\"),7,IF(AND(AY45=10,AZ46=0,AZ45=\"STR\"),8,IF(AND(AY45=10,AZ46=\"HP\",AZ45=\"STR\"),9,IF(AND(AY45=20,AZ46=0),10,IF(AND(AY45=20,AZ46=\"HP\"),11,0)))))))))))","v":0},"Box 02",{"$f":"IF(AND(BB46=\"HP\",BA46=0,BB45=\"\"),1,IF(AND(BB46=\"HP\",BA46=\"SPL\",BB45=\"\"),2,IF(AND(BB46=0,BA46=\"SPL\",BB45=\"\"),3,IF(AND(BB46=0,BA46=0,BB45=\"SPA\"),4,IF(AND(BB46=0,BA46=\"SPL\",BB45=\"SPA\"),5,IF(AND(BB46=\"HP\",BA46=\"SPL\",BB45=\"SPA\"),6,IF(AND(BB46=\"HP\",BA46=0,BB45=\"SPA\"),7,IF(AND(BA45=10,BB46=0,BB45=\"STR\"),8,IF(AND(BA45=10,BB46=\"HP\",BB45=\"STR\"),9,IF(AND(BA45=20,BB46=0),10,IF(AND(BA45=20,BB46=\"HP\"),11,0)))))))))))","v":0},"Box 02",{"$f":"IF(AND(BD46=\"HP\",BC46=0,BD45=\"\"),1,IF(AND(BD46=\"HP\",BC46=\"SPL\",BD45=\"\"),2,IF(AND(BD46=0,BC46=\"SPL\",BD45=\"\"),3,IF(AND(BD46=0,BC46=0,BD45=\"SPA\"),4,IF(AND(BD46=0,BC46=\"SPL\",BD45=\"SPA\"),5,IF(AND(BD46=\"HP\",BC46=\"SPL\",BD45=\"SPA\"),6,IF(AND(BD46=\"HP\",BC46=0,BD45=\"SPA\"),7,IF(AND(BC45=10,BD46=0,BD45=\"STR\"),8,IF(AND(BC45=10,BD46=\"HP\",BD45=\"STR\"),9,IF(AND(BC45=20,BD46=0),10,IF(AND(BC45=20,BD46=\"HP\"),11,0)))))))))))","v":0},"Box 02",{"$f":"IF(AND(BF46=\"HP\",BE46=0,BF45=\"\"),1,IF(AND(BF46=\"HP\",BE46=\"SPL\",BF45=\"\"),2,IF(AND(BF46=0,BE46=\"SPL\",BF45=\"\"),3,IF(AND(BF46=0,BE46=0,BF45=\"SPA\"),4,IF(AND(BF46=0,BE46=\"SPL\",BF45=\"SPA\"),5,IF(AND(BF46=\"HP\",BE46=\"SPL\",BF45=\"SPA\"),6,IF(AND(BF46=\"HP\",BE46=0,BF45=\"SPA\"),7,IF(AND(BE45=10,BF46=0,BF45=\"STR\"),8,IF(AND(BE45=10,BF46=\"HP\",BF45=\"STR\"),9,IF(AND(BE45=20,BF46=0),10,IF(AND(BE45=20,BF46=\"HP\"),11,0)))))))))))","v":0}]
[null,null,null,null,"STANDING",0,0,0,0,0,0]
[null,null,null,null,"SCORES",0,0,0,0,0,0,{"$f":" IF(BA4<>\"\", (SUM(MAX(BB4:BB33))),0)","v":0},null,"String 5",null,{"$f":" IF(BE4<>\"\", (SUM(MAX(BF4:BF33))),0)","v":0}]
["POINTS","Name","Total","Average","Stat",1,2,3,4,5,"Total",null,null,{"$f":"\"+\" & ABS(SUM(L37+L40+L43+L46+L49-P37-P40-P43-P46-P49))","v":"+0"},null,null,null,null,"Box 03",{"$f":"IF(AND(T49=\"HP\",S49=0,T48=\"\"),1,IF(AND(T49=\"HP\",S49=\"SPL\",T48=\"\"),2,IF(AND(T49=0,S49=\"SPL\",T48=\"\"),3,IF(AND(T49=0,S49=0,T48=\"SPA\"),4,IF(AND(T49=0,S49=\"SPL\",T48=\"SPA\"),5,IF(AND(T49=\"HP\",S49=\"SPL\",T48=\"SPA\"),6,IF(AND(T49=\"HP\",S49=0,T48=\"SPA\"),7,IF(AND(S48=10,T49=0,T48=\"STR\"),8,IF(AND(S48=10,T49=\"HP\",T48=\"STR\"),9,IF(AND(S48=20,T49=0),10,IF(AND(S48=20,T49=\"HP\"),11,0)))))))))))","v":0},"Box 03",{"$f":"IF(AND(V49=\"HP\",U49=0,V48=\"\"),1,IF(AND(V49=\"HP\",U49=\"SPL\",V48=\"\"),2,IF(AND(V49=0,U49=\"SPL\",V48=\"\"),3,IF(AND(V49=0,U49=0,V48=\"SPA\"),4,IF(AND(V49=0,U49=\"SPL\",V48=\"SPA\"),5,IF(AND(V49=\"HP\",U49=\"SPL\",V48=\"SPA\"),6,IF(AND(V49=\"HP\",U49=0,V48=\"SPA\"),7,IF(AND(U48=10,V49=0,V48=\"STR\"),8,IF(AND(U48=10,V49=\"HP\",V48=\"STR\"),9,IF(AND(U48=20,V49=0),10,IF(AND(U48=20,V49=\"HP\"),11,0)))))))))))","v":0},"Box 03",{"$f":"IF(AND(X49=\"HP\",W49=0,X48=\"\"),1,IF(AND(X49=\"HP\",W49=\"SPL\",X48=\"\"),2,IF(AND(X49=0,W49=\"SPL\",X48=\"\"),3,IF(AND(X49=0,W49=0,X48=\"SPA\"),4,IF(AND(X49=0,W49=\"SPL\",X48=\"SPA\"),5,IF(AND(X49=\"HP\",W49=\"SPL\",X48=\"SPA\"),6,IF(AND(X49=\"HP\",W49=0,X48=\"SPA\"),7,IF(AND(W48=10,X49=0,X48=\"STR\"),8,IF(AND(W48=10,X49=\"HP\",X48=\"STR\"),9,IF(AND(W48=20,X49=0),10,IF(AND(W48=20,X49=\"HP\"),11,0)))))))))))","v":0},"Box 03",{"$f":"IF(AND(Z49=\"HP\",Y49=0,Z48=\"\"),1,IF(AND(Z49=\"HP\",Y49=\"SPL\",Z48=\"\"),2,IF(AND(Z49=0,Y49=\"SPL\",Z48=\"\"),3,IF(AND(Z49=0,Y49=0,Z48=\"SPA\"),4,IF(AND(Z49=0,Y49=\"SPL\",Z48=\"SPA\"),5,IF(AND(Z49=\"HP\",Y49=\"SPL\",Z48=\"SPA\"),6,IF(AND(Z49=\"HP\",Y49=0,Z48=\"SPA\"),7,IF(AND(Y48=10,Z49=0,Z48=\"STR\"),8,IF(AND(Y48=10,Z49=\"HP\",Z48=\"STR\"),9,IF(AND(Y48=20,Z49=0),10,IF(AND(Y48=20,Z49=\"HP\"),11,0)))))))))))","v":0},"Box 03",{"$f":"IF(AND(AB49=\"HP\",AA49=0,AB48=\"\"),1,IF(AND(AB49=\"HP\",AA49=\"SPL\",AB48=\"\"),2,IF(AND(AB49=0,AA49=\"SPL\",AB48=\"\"),3,IF(AND(AB49=0,AA49=0,AB48=\"SPA\"),4,IF(AND(AB49=0,AA49=\"SPL\",AB48=\"SPA\"),5,IF(AND(AB49=\"HP\",AA49=\"SPL\",AB48=\"SPA\"),6,IF(AND(AB49=\"HP\",AA49=0,AB48=\"SPA\"),7,IF(AND(AA48=10,AB49=0,AB48=\"STR\"),8,IF(AND(AA48=10,AB49=\"HP\",AB48=\"STR\"),9,IF(AND(AA48=20,AB49=0),10,IF(AND(AA48=20,AB49=\"HP\"),11,0)))))))))))","v":0},"Box 03",{"$f":"IF(AND(AD49=\"HP\",AC49=0,AD48=\"\"),1,IF(AND(AD49=\"HP\",AC49=\"SPL\",AD48=\"\"),2,IF(AND(AD49=0,AC49=\"SPL\",AD48=\"\"),3,IF(AND(AD49=0,AC49=0,AD48=\"SPA\"),4,IF(AND(AD49=0,AC49=\"SPL\",AD48=\"SPA\"),5,IF(AND(AD49=\"HP\",AC49=\"SPL\",AD48=\"SPA\"),6,IF(AND(AD49=\"HP\",AC49=0,AD48=\"SPA\"),7,IF(AND(AC48=10,AD49=0,AD48=\"STR\"),8,IF(AND(AC48=10,AD49=\"HP\",AD48=\"STR\"),9,IF(AND(AC48=20,AD49=0),10,IF(AND(AC48=20,AD49=\"HP\"),11,0)))))))))))","v":0},"Box 03",{"$f":"IF(AND(AF49=\"HP\",AE49=0,AF48=\"\"),1,IF(AND(AF49=\"HP\",AE49=\"SPL\",AF48=\"\"),2,IF(AND(AF49=0,AE49=\"SPL\",AF48=\"\"),3,IF(AND(AF49=0,AE49=0,AF48=\"SPA\"),4,IF(AND(AF49=0,AE49=\"SPL\",AF48=\"SPA\"),5,IF(AND(AF49=\"HP\",AE49=\"SPL\",AF48=\"SPA\"),6,IF(AND(AF49=\"HP\",AE49=0,AF48=\"SPA\"),7,IF(AND(AE48=10,AF49=0,AF48=\"STR\"),8,IF(AND(AE48=10,AF49=\"HP\",AF48=\"STR\"),9,IF(AND(AE48=20,AF49=0),10,IF(AND(AE48=20,AF49=\"HP\"),11,0)))))))))))","v":0},"Box 03",{"$f":"IF(AND(AH49=\"HP\",AG49=0,AH48=\"\"),1,IF(AND(AH49=\"HP\",AG49=\"SPL\",AH48=\"\"),2,IF(AND(AH49=0,AG49=\"SPL\",AH48=\"\"),3,IF(AND(AH49=0,AG49=0,AH48=\"SPA\"),4,IF(AND(AH49=0,AG49=\"SPL\",AH48=\"SPA\"),5,IF(AND(AH49=\"HP\",AG49=\"SPL\",AH48=\"SPA\"),6,IF(AND(AH49=\"HP\",AG49=0,AH48=\"SPA\"),7,IF(AND(AG48=10,AH49=0,AH48=\"STR\"),8,IF(AND(AG48=10,AH49=\"HP\",AH48=\"STR\"),9,IF(AND(AG48=20,AH49=0),10,IF(AND(AG48=20,AH49=\"HP\"),11,0)))))))))))","v":0},"Box 03",{"$f":"IF(AND(AJ49=\"HP\",AI49=0,AJ48=\"\"),1,IF(AND(AJ49=\"HP\",AI49=\"SPL\",AJ48=\"\"),2,IF(AND(AJ49=0,AI49=\"SPL\",AJ48=\"\"),3,IF(AND(AJ49=0,AI49=0,AJ48=\"SPA\"),4,IF(AND(AJ49=0,AI49=\"SPL\",AJ48=\"SPA\"),5,IF(AND(AJ49=\"HP\",AI49=\"SPL\",AJ48=\"SPA\"),6,IF(AND(AJ49=\"HP\",AI49=0,AJ48=\"SPA\"),7,IF(AND(AI48=10,AJ49=0,AJ48=\"STR\"),8,IF(AND(AI48=10,AJ49=\"HP\",AJ48=\"STR\"),9,IF(AND(AI48=20,AJ49=0),10,IF(AND(AI48=20,AJ49=\"HP\"),11,0)))))))))))","v":0},"Box 03",{"$f":"IF(AND(AL49=\"HP\",AK49=0,AL48=\"\"),1,IF(AND(AL49=\"HP\",AK49=\"SPL\",AL48=\"\"),2,IF(AND(AL49=0,AK49=\"SPL\",AL48=\"\"),3,IF(AND(AL49=0,AK49=0,AL48=\"SPA\"),4,IF(AND(AL49=0,AK49=\"SPL\",AL48=\"SPA\"),5,IF(AND(AL49=\"HP\",AK49=\"SPL\",AL48=\"SPA\"),6,IF(AND(AL49=\"HP\",AK49=0,AL48=\"SPA\"),7,IF(AND(AK48=10,AL49=0,AL48=\"STR\"),8,IF(AND(AK48=10,AL49=\"HP\",AL48=\"STR\"),9,IF(AND(AK48=20,AL49=0),10,IF(AND(AK48=20,AL49=\"HP\"),11,0)))))))))))","v":0},"Box 03",{"$f":"IF(AND(AN49=\"HP\",AM49=0,AN48=\"\"),1,IF(AND(AN49=\"HP\",AM49=\"SPL\",AN48=\"\"),2,IF(AND(AN49=0,AM49=\"SPL\",AN48=\"\"),3,IF(AND(AN49=0,AM49=0,AN48=\"SPA\"),4,IF(AND(AN49=0,AM49=\"SPL\",AN48=\"SPA\"),5,IF(AND(AN49=\"HP\",AM49=\"SPL\",AN48=\"SPA\"),6,IF(AND(AN49=\"HP\",AM49=0,AN48=\"SPA\"),7,IF(AND(AM48=10,AN49=0,AN48=\"STR\"),8,IF(AND(AM48=10,AN49=\"HP\",AN48=\"STR\"),9,IF(AND(AM48=20,AN49=0),10,IF(AND(AM48=20,AN49=\"HP\"),11,0)))))))))))","v":0},"Box 03",{"$f":"IF(AND(AP49=\"HP\",AO49=0,AP48=\"\"),1,IF(AND(AP49=\"HP\",AO49=\"SPL\",AP48=\"\"),2,IF(AND(AP49=0,AO49=\"SPL\",AP48=\"\"),3,IF(AND(AP49=0,AO49=0,AP48=\"SPA\"),4,IF(AND(AP49=0,AO49=\"SPL\",AP48=\"SPA\"),5,IF(AND(AP49=\"HP\",AO49=\"SPL\",AP48=\"SPA\"),6,IF(AND(AP49=\"HP\",AO49=0,AP48=\"SPA\"),7,IF(AND(AO48=10,AP49=0,AP48=\"STR\"),8,IF(AND(AO48=10,AP49=\"HP\",AP48=\"STR\"),9,IF(AND(AO48=20,AP49=0),10,IF(AND(AO48=20,AP49=\"HP\"),11,0)))))))))))","v":0},"Box 03",{"$f":"IF(AND(AR49=\"HP\",AQ49=0,AR48=\"\"),1,IF(AND(AR49=\"HP\",AQ49=\"SPL\",AR48=\"\"),2,IF(AND(AR49=0,AQ49=\"SPL\",AR48=\"\"),3,IF(AND(AR49=0,AQ49=0,AR48=\"SPA\"),4,IF(AND(AR49=0,AQ49=\"SPL\",AR48=\"SPA\"),5,IF(AND(AR49=\"HP\",AQ49=\"SPL\",AR48=\"SPA\"),6,IF(AND(AR49=\"HP\",AQ49=0,AR48=\"SPA\"),7,IF(AND(AQ48=10,AR49=0,AR48=\"STR\"),8,IF(AND(AQ48=10,AR49=\"HP\",AR48=\"STR\"),9,IF(AND(AQ48=20,AR49=0),10,IF(AND(AQ48=20,AR49=\"HP\"),11,0)))))))))))","v":0},"Box 03",{"$f":"IF(AND(AT49=\"HP\",AS49=0,AT48=\"\"),1,IF(AND(AT49=\"HP\",AS49=\"SPL\",AT48=\"\"),2,IF(AND(AT49=0,AS49=\"SPL\",AT48=\"\"),3,IF(AND(AT49=0,AS49=0,AT48=\"SPA\"),4,IF(AND(AT49=0,AS49=\"SPL\",AT48=\"SPA\"),5,IF(AND(AT49=\"HP\",AS49=\"SPL\",AT48=\"SPA\"),6,IF(AND(AT49=\"HP\",AS49=0,AT48=\"SPA\"),7,IF(AND(AS48=10,AT49=0,AT48=\"STR\"),8,IF(AND(AS48=10,AT49=\"HP\",AT48=\"STR\"),9,IF(AND(AS48=20,AT49=0),10,IF(AND(AS48=20,AT49=\"HP\"),11,0)))))))))))","v":0},"Box 03",{"$f":"IF(AND(AV49=\"HP\",AU49=0,AV48=\"\"),1,IF(AND(AV49=\"HP\",AU49=\"SPL\",AV48=\"\"),2,IF(AND(AV49=0,AU49=\"SPL\",AV48=\"\"),3,IF(AND(AV49=0,AU49=0,AV48=\"SPA\"),4,IF(AND(AV49=0,AU49=\"SPL\",AV48=\"SPA\"),5,IF(AND(AV49=\"HP\",AU49=\"SPL\",AV48=\"SPA\"),6,IF(AND(AV49=\"HP\",AU49=0,AV48=\"SPA\"),7,IF(AND(AU48=10,AV49=0,AV48=\"STR\"),8,IF(AND(AU48=10,AV49=\"HP\",AV48=\"STR\"),9,IF(AND(AU48=20,AV49=0),10,IF(AND(AU48=20,AV49=\"HP\"),11,0)))))))))))","v":0},"Box 03",{"$f":"IF(AND(AX49=\"HP\",AW49=0,AX48=\"\"),1,IF(AND(AX49=\"HP\",AW49=\"SPL\",AX48=\"\"),2,IF(AND(AX49=0,AW49=\"SPL\",AX48=\"\"),3,IF(AND(AX49=0,AW49=0,AX48=\"SPA\"),4,IF(AND(AX49=0,AW49=\"SPL\",AX48=\"SPA\"),5,IF(AND(AX49=\"HP\",AW49=\"SPL\",AX48=\"SPA\"),6,IF(AND(AX49=\"HP\",AW49=0,AX48=\"SPA\"),7,IF(AND(AW48=10,AX49=0,AX48=\"STR\"),8,IF(AND(AW48=10,AX49=\"HP\",AX48=\"STR\"),9,IF(AND(AW48=20,AX49=0),10,IF(AND(AW48=20,AX49=\"HP\"),11,0)))))))))))","v":0},"Box 03",{"$f":"IF(AND(AZ49=\"HP\",AY49=0,AZ48=\"\"),1,IF(AND(AZ49=\"HP\",AY49=\"SPL\",AZ48=\"\"),2,IF(AND(AZ49=0,AY49=\"SPL\",AZ48=\"\"),3,IF(AND(AZ49=0,AY49=0,AZ48=\"SPA\"),4,IF(AND(AZ49=0,AY49=\"SPL\",AZ48=\"SPA\"),5,IF(AND(AZ49=\"HP\",AY49=\"SPL\",AZ48=\"SPA\"),6,IF(AND(AZ49=\"HP\",AY49=0,AZ48=\"SPA\"),7,IF(AND(AY48=10,AZ49=0,AZ48=\"STR\"),8,IF(AND(AY48=10,AZ49=\"HP\",AZ48=\"STR\"),9,IF(AND(AY48=20,AZ49=0),10,IF(AND(AY48=20,AZ49=\"HP\"),11,0)))))))))))","v":0},"Box 03",{"$f":"IF(AND(BB49=\"HP\",BA49=0,BB48=\"\"),1,IF(AND(BB49=\"HP\",BA49=\"SPL\",BB48=\"\"),2,IF(AND(BB49=0,BA49=\"SPL\",BB48=\"\"),3,IF(AND(BB49=0,BA49=0,BB48=\"SPA\"),4,IF(AND(BB49=0,BA49=\"SPL\",BB48=\"SPA\"),5,IF(AND(BB49=\"HP\",BA49=\"SPL\",BB48=\"SPA\"),6,IF(AND(BB49=\"HP\",BA49=0,BB48=\"SPA\"),7,IF(AND(BA48=10,BB49=0,BB48=\"STR\"),8,IF(AND(BA48=10,BB49=\"HP\",BB48=\"STR\"),9,IF(AND(BA48=20,BB49=0),10,IF(AND(BA48=20,BB49=\"HP\"),11,0)))))))))))","v":0},"Box 03",{"$f":"IF(AND(BD49=\"HP\",BC49=0,BD48=\"\"),1,IF(AND(BD49=\"HP\",BC49=\"SPL\",BD48=\"\"),2,IF(AND(BD49=0,BC49=\"SPL\",BD48=\"\"),3,IF(AND(BD49=0,BC49=0,BD48=\"SPA\"),4,IF(AND(BD49=0,BC49=\"SPL\",BD48=\"SPA\"),5,IF(AND(BD49=\"HP\",BC49=\"SPL\",BD48=\"SPA\"),6,IF(AND(BD49=\"HP\",BC49=0,BD48=\"SPA\"),7,IF(AND(BC48=10,BD49=0,BD48=\"STR\"),8,IF(AND(BC48=10,BD49=\"HP\",BD48=\"STR\"),9,IF(AND(BC48=20,BD49=0),10,IF(AND(BC48=20,BD49=\"HP\"),11,0)))))))))))","v":0},"Box 03",{"$f":"IF(AND(BF49=\"HP\",BE49=0,BF48=\"\"),1,IF(AND(BF49=\"HP\",BE49=\"SPL\",BF48=\"\"),2,IF(AND(BF49=0,BE49=\"SPL\",BF48=\"\"),3,IF(AND(BF49=0,BE49=0,BF48=\"SPA\"),4,IF(AND(BF49=0,BE49=\"SPL\",BF48=\"SPA\"),5,IF(AND(BF49=\"HP\",BE49=\"SPL\",BF48=\"SPA\"),6,IF(AND(BF49=\"HP\",BE49=0,BF48=\"SPA\"),7,IF(AND(BE48=10,BF49=0,BF48=\"STR\"),8,IF(AND(BE48=10,BF49=\"HP\",BF48=\"STR\"),9,IF(AND(BE48=20,BF49=0),10,IF(AND(BE48=20,BF49=\"HP\"),11,0)))))))))))","v":0}]
[]
[]
[null,null,null,null,null,null,null,null,null,null,null,null,null,null,null,null,null,null,"Box 04",{"$f":"IF(AND(T52=\"HP\",S52=0,T51=\"\"),1,IF(AND(T52=\"HP\",S52=\"SPL\",T51=\"\"),2,IF(AND(T52=0,S52=\"SPL\",T51=\"\"),3,IF(AND(T52=0,S52=0,T51=\"SPA\"),4,IF(AND(T52=0,S52=\"SPL\",T51=\"SPA\"),5,IF(AND(T52=\"HP\",S52=\"SPL\",T51=\"SPA\"),6,IF(AND(T52=\"HP\",S52=0,T51=\"SPA\"),7,IF(AND(S51=10,T52=0,T51=\"STR\"),8,IF(AND(S51=10,T52=\"HP\",T51=\"STR\"),9,IF(AND(S51=20,T52=0),10,IF(AND(S51=20,T52=\"HP\"),11,0)))))))))))","v":0},"Box 04",{"$f":"IF(AND(V52=\"HP\",U52=0,V51=\"\"),1,IF(AND(V52=\"HP\",U52=\"SPL\",V51=\"\"),2,IF(AND(V52=0,U52=\"SPL\",V51=\"\"),3,IF(AND(V52=0,U52=0,V51=\"SPA\"),4,IF(AND(V52=0,U52=\"SPL\",V51=\"SPA\"),5,IF(AND(V52=\"HP\",U52=\"SPL\",V51=\"SPA\"),6,IF(AND(V52=\"HP\",U52=0,V51=\"SPA\"),7,IF(AND(U51=10,V52=0,V51=\"STR\"),8,IF(AND(U51=10,V52=\"HP\",V51=\"STR\"),9,IF(AND(U51=20,V52=0),10,IF(AND(U51=20,V52=\"HP\"),11,0)))))))))))","v":0},"Box 04",{"$f":"IF(AND(X52=\"HP\",W52=0,X51=\"\"),1,IF(AND(X52=\"HP\",W52=\"SPL\",X51=\"\"),2,IF(AND(X52=0,W52=\"SPL\",X51=\"\"),3,IF(AND(X52=0,W52=0,X51=\"SPA\"),4,IF(AND(X52=0,W52=\"SPL\",X51=\"SPA\"),5,IF(AND(X52=\"HP\",W52=\"SPL\",X51=\"SPA\"),6,IF(AND(X52=\"HP\",W52=0,X51=\"SPA\"),7,IF(AND(W51=10,X52=0,X51=\"STR\"),8,IF(AND(W51=10,X52=\"HP\",X51=\"STR\"),9,IF(AND(W51=20,X52=0),10,IF(AND(W51=20,X52=\"HP\"),11,0)))))))))))","v":0},"Box 04",{"$f":"IF(AND(Z52=\"HP\",Y52=0,Z51=\"\"),1,IF(AND(Z52=\"HP\",Y52=\"SPL\",Z51=\"\"),2,IF(AND(Z52=0,Y52=\"SPL\",Z51=\"\"),3,IF(AND(Z52=0,Y52=0,Z51=\"SPA\"),4,IF(AND(Z52=0,Y52=\"SPL\",Z51=\"SPA\"),5,IF(AND(Z52=\"HP\",Y52=\"SPL\",Z51=\"SPA\"),6,IF(AND(Z52=\"HP\",Y52=0,Z51=\"SPA\"),7,IF(AND(Y51=10,Z52=0,Z51=\"STR\"),8,IF(AND(Y51=10,Z52=\"HP\",Z51=\"STR\"),9,IF(AND(Y51=20,Z52=0),10,IF(AND(Y51=20,Z52=\"HP\"),11,0)))))))))))","v":0},"Box 04",{"$f":"IF(AND(AB52=\"HP\",AA52=0,AB51=\"\"),1,IF(AND(AB52=\"HP\",AA52=\"SPL\",AB51=\"\"),2,IF(AND(AB52=0,AA52=\"SPL\",AB51=\"\"),3,IF(AND(AB52=0,AA52=0,AB51=\"SPA\"),4,IF(AND(AB52=0,AA52=\"SPL\",AB51=\"SPA\"),5,IF(AND(AB52=\"HP\",AA52=\"SPL\",AB51=\"SPA\"),6,IF(AND(AB52=\"HP\",AA52=0,AB51=\"SPA\"),7,IF(AND(AA51=10,AB52=0,AB51=\"STR\"),8,IF(AND(AA51=10,AB52=\"HP\",AB51=\"STR\"),9,IF(AND(AA51=20,AB52=0),10,IF(AND(AA51=20,AB52=\"HP\"),11,0)))))))))))","v":0},"Box 04",{"$f":"IF(AND(AD52=\"HP\",AC52=0,AD51=\"\"),1,IF(AND(AD52=\"HP\",AC52=\"SPL\",AD51=\"\"),2,IF(AND(AD52=0,AC52=\"SPL\",AD51=\"\"),3,IF(AND(AD52=0,AC52=0,AD51=\"SPA\"),4,IF(AND(AD52=0,AC52=\"SPL\",AD51=\"SPA\"),5,IF(AND(AD52=\"HP\",AC52=\"SPL\",AD51=\"SPA\"),6,IF(AND(AD52=\"HP\",AC52=0,AD51=\"SPA\"),7,IF(AND(AC51=10,AD52=0,AD51=\"STR\"),8,IF(AND(AC51=10,AD52=\"HP\",AD51=\"STR\"),9,IF(AND(AC51=20,AD52=0),10,IF(AND(AC51=20,AD52=\"HP\"),11,0)))))))))))","v":0},"Box 04",{"$f":"IF(AND(AF52=\"HP\",AE52=0,AF51=\"\"),1,IF(AND(AF52=\"HP\",AE52=\"SPL\",AF51=\"\"),2,IF(AND(AF52=0,AE52=\"SPL\",AF51=\"\"),3,IF(AND(AF52=0,AE52=0,AF51=\"SPA\"),4,IF(AND(AF52=0,AE52=\"SPL\",AF51=\"SPA\"),5,IF(AND(AF52=\"HP\",AE52=\"SPL\",AF51=\"SPA\"),6,IF(AND(AF52=\"HP\",AE52=0,AF51=\"SPA\"),7,IF(AND(AE51=10,AF52=0,AF51=\"STR\"),8,IF(AND(AE51=10,AF52=\"HP\",AF51=\"STR\"),9,IF(AND(AE51=20,AF52=0),10,IF(AND(AE51=20,AF52=\"HP\"),11,0)))))))))))","v":0},"Box 04",{"$f":"IF(AND(AH52=\"HP\",AG52=0,AH51=\"\"),1,IF(AND(AH52=\"HP\",AG52=\"SPL\",AH51=\"\"),2,IF(AND(AH52=0,AG52=\"SPL\",AH51=\"\"),3,IF(AND(AH52=0,AG52=0,AH51=\"SPA\"),4,IF(AND(AH52=0,AG52=\"SPL\",AH51=\"SPA\"),5,IF(AND(AH52=\"HP\",AG52=\"SPL\",AH51=\"SPA\"),6,IF(AND(AH52=\"HP\",AG52=0,AH51=\"SPA\"),7,IF(AND(AG51=10,AH52=0,AH51=\"STR\"),8,IF(AND(AG51=10,AH52=\"HP\",AH51=\"STR\"),9,IF(AND(AG51=20,AH52=0),10,IF(AND(AG51=20,AH52=\"HP\"),11,0)))))))))))","v":0},"Box 04",{"$f":"IF(AND(AJ52=\"HP\",AI52=0,AJ51=\"\"),1,IF(AND(AJ52=\"HP\",AI52=\"SPL\",AJ51=\"\"),2,IF(AND(AJ52=0,AI52=\"SPL\",AJ51=\"\"),3,IF(AND(AJ52=0,AI52=0,AJ51=\"SPA\"),4,IF(AND(AJ52=0,AI52=\"SPL\",AJ51=\"SPA\"),5,IF(AND(AJ52=\"HP\",AI52=\"SPL\",AJ51=\"SPA\"),6,IF(AND(AJ52=\"HP\",AI52=0,AJ51=\"SPA\"),7,IF(AND(AI51=10,AJ52=0,AJ51=\"STR\"),8,IF(AND(AI51=10,AJ52=\"HP\",AJ51=\"STR\"),9,IF(AND(AI51=20,AJ52=0),10,IF(AND(AI51=20,AJ52=\"HP\"),11,0)))))))))))","v":0},"Box 04",{"$f":"IF(AND(AL52=\"HP\",AK52=0,AL51=\"\"),1,IF(AND(AL52=\"HP\",AK52=\"SPL\",AL51=\"\"),2,IF(AND(AL52=0,AK52=\"SPL\",AL51=\"\"),3,IF(AND(AL52=0,AK52=0,AL51=\"SPA\"),4,IF(AND(AL52=0,AK52=\"SPL\",AL51=\"SPA\"),5,IF(AND(AL52=\"HP\",AK52=\"SPL\",AL51=\"SPA\"),6,IF(AND(AL52=\"HP\",AK52=0,AL51=\"SPA\"),7,IF(AND(AK51=10,AL52=0,AL51=\"STR\"),8,IF(AND(AK51=10,AL52=\"HP\",AL51=\"STR\"),9,IF(AND(AK51=20,AL52=0),10,IF(AND(AK51=20,AL52=\"HP\"),11,0)))))))))))","v":0},"Box 04",{"$f":"IF(AND(AN52=\"HP\",AM52=0,AN51=\"\"),1,IF(AND(AN52=\"HP\",AM52=\"SPL\",AN51=\"\"),2,IF(AND(AN52=0,AM52=\"SPL\",AN51=\"\"),3,IF(AND(AN52=0,AM52=0,AN51=\"SPA\"),4,IF(AND(AN52=0,AM52=\"SPL\",AN51=\"SPA\"),5,IF(AND(AN52=\"HP\",AM52=\"SPL\",AN51=\"SPA\"),6,IF(AND(AN52=\"HP\",AM52=0,AN51=\"SPA\"),7,IF(AND(AM51=10,AN52=0,AN51=\"STR\"),8,IF(AND(AM51=10,AN52=\"HP\",AN51=\"STR\"),9,IF(AND(AM51=20,AN52=0),10,IF(AND(AM51=20,AN52=\"HP\"),11,0)))))))))))","v":0},"Box 04",{"$f":"IF(AND(AP52=\"HP\",AO52=0,AP51=\"\"),1,IF(AND(AP52=\"HP\",AO52=\"SPL\",AP51=\"\"),2,IF(AND(AP52=0,AO52=\"SPL\",AP51=\"\"),3,IF(AND(AP52=0,AO52=0,AP51=\"SPA\"),4,IF(AND(AP52=0,AO52=\"SPL\",AP51=\"SPA\"),5,IF(AND(AP52=\"HP\",AO52=\"SPL\",AP51=\"SPA\"),6,IF(AND(AP52=\"HP\",AO52=0,AP51=\"SPA\"),7,IF(AND(AO51=10,AP52=0,AP51=\"STR\"),8,IF(AND(AO51=10,AP52=\"HP\",AP51=\"STR\"),9,IF(AND(AO51=20,AP52=0),10,IF(AND(AO51=20,AP52=\"HP\"),11,0)))))))))))","v":0},"Box 04",{"$f":"IF(AND(AR52=\"HP\",AQ52=0,AR51=\"\"),1,IF(AND(AR52=\"HP\",AQ52=\"SPL\",AR51=\"\"),2,IF(AND(AR52=0,AQ52=\"SPL\",AR51=\"\"),3,IF(AND(AR52=0,AQ52=0,AR51=\"SPA\"),4,IF(AND(AR52=0,AQ52=\"SPL\",AR51=\"SPA\"),5,IF(AND(AR52=\"HP\",AQ52=\"SPL\",AR51=\"SPA\"),6,IF(AND(AR52=\"HP\",AQ52=0,AR51=\"SPA\"),7,IF(AND(AQ51=10,AR52=0,AR51=\"STR\"),8,IF(AND(AQ51=10,AR52=\"HP\",AR51=\"STR\"),9,IF(AND(AQ51=20,AR52=0),10,IF(AND(AQ51=20,AR52=\"HP\"),11,0)))))))))))","v":0},"Box 04",{"$f":"IF(AND(AT52=\"HP\",AS52=0,AT51=\"\"),1,IF(AND(AT52=\"HP\",AS52=\"SPL\",AT51=\"\"),2,IF(AND(AT52=0,AS52=\"SPL\",AT51=\"\"),3,IF(AND(AT52=0,AS52=0,AT51=\"SPA\"),4,IF(AND(AT52=0,AS52=\"SPL\",AT51=\"SPA\"),5,IF(AND(AT52=\"HP\",AS52=\"SPL\",AT51=\"SPA\"),6,IF(AND(AT52=\"HP\",AS52=0,AT51=\"SPA\"),7,IF(AND(AS51=10,AT52=0,AT51=\"STR\"),8,IF(AND(AS51=10,AT52=\"HP\",AT51=\"STR\"),9,IF(AND(AS51=20,AT52=0),10,IF(AND(AS51=20,AT52=\"HP\"),11,0)))))))))))","v":0},"Box 04",{"$f":"IF(AND(AV52=\"HP\",AU52=0,AV51=\"\"),1,IF(AND(AV52=\"HP\",AU52=\"SPL\",AV51=\"\"),2,IF(AND(AV52=0,AU52=\"SPL\",AV51=\"\"),3,IF(AND(AV52=0,AU52=0,AV51=\"SPA\"),4,IF(AND(AV52=0,AU52=\"SPL\",AV51=\"SPA\"),5,IF(AND(AV52=\"HP\",AU52=\"SPL\",AV51=\"SPA\"),6,IF(AND(AV52=\"HP\",AU52=0,AV51=\"SPA\"),7,IF(AND(AU51=10,AV52=0,AV51=\"STR\"),8,IF(AND(AU51=10,AV52=\"HP\",AV51=\"STR\"),9,IF(AND(AU51=20,AV52=0),10,IF(AND(AU51=20,AV52=\"HP\"),11,0)))))))))))","v":0},"Box 04",{"$f":"IF(AND(AX52=\"HP\",AW52=0,AX51=\"\"),1,IF(AND(AX52=\"HP\",AW52=\"SPL\",AX51=\"\"),2,IF(AND(AX52=0,AW52=\"SPL\",AX51=\"\"),3,IF(AND(AX52=0,AW52=0,AX51=\"SPA\"),4,IF(AND(AX52=0,AW52=\"SPL\",AX51=\"SPA\"),5,IF(AND(AX52=\"HP\",AW52=\"SPL\",AX51=\"SPA\"),6,IF(AND(AX52=\"HP\",AW52=0,AX51=\"SPA\"),7,IF(AND(AW51=10,AX52=0,AX51=\"STR\"),8,IF(AND(AW51=10,AX52=\"HP\",AX51=\"STR\"),9,IF(AND(AW51=20,AX52=0),10,IF(AND(AW51=20,AX52=\"HP\"),11,0)))))))))))","v":0},"Box 04",{"$f":"IF(AND(AZ52=\"HP\",AY52=0,AZ51=\"\"),1,IF(AND(AZ52=\"HP\",AY52=\"SPL\",AZ51=\"\"),2,IF(AND(AZ52=0,AY52=\"SPL\",AZ51=\"\"),3,IF(AND(AZ52=0,AY52=0,AZ51=\"SPA\"),4,IF(AND(AZ52=0,AY52=\"SPL\",AZ51=\"SPA\"),5,IF(AND(AZ52=\"HP\",AY52=\"SPL\",AZ51=\"SPA\"),6,IF(AND(AZ52=\"HP\",AY52=0,AZ51=\"SPA\"),7,IF(AND(AY51=10,AZ52=0,AZ51=\"STR\"),8,IF(AND(AY51=10,AZ52=\"HP\",AZ51=\"STR\"),9,IF(AND(AY51=20,AZ52=0),10,IF(AND(AY51=20,AZ52=\"HP\"),11,0)))))))))))","v":0},"Box 04",{"$f":"IF(AND(BB52=\"HP\",BA52=0,BB51=\"\"),1,IF(AND(BB52=\"HP\",BA52=\"SPL\",BB51=\"\"),2,IF(AND(BB52=0,BA52=\"SPL\",BB51=\"\"),3,IF(AND(BB52=0,BA52=0,BB51=\"SPA\"),4,IF(AND(BB52=0,BA52=\"SPL\",BB51=\"SPA\"),5,IF(AND(BB52=\"HP\",BA52=\"SPL\",BB51=\"SPA\"),6,IF(AND(BB52=\"HP\",BA52=0,BB51=\"SPA\"),7,IF(AND(BA51=10,BB52=0,BB51=\"STR\"),8,IF(AND(BA51=10,BB52=\"HP\",BB51=\"STR\"),9,IF(AND(BA51=20,BB52=0),10,IF(AND(BA51=20,BB52=\"HP\"),11,0)))))))))))","v":0},"Box 04",{"$f":"IF(AND(BD52=\"HP\",BC52=0,BD51=\"\"),1,IF(AND(BD52=\"HP\",BC52=\"SPL\",BD51=\"\"),2,IF(AND(BD52=0,BC52=\"SPL\",BD51=\"\"),3,IF(AND(BD52=0,BC52=0,BD51=\"SPA\"),4,IF(AND(BD52=0,BC52=\"SPL\",BD51=\"SPA\"),5,IF(AND(BD52=\"HP\",BC52=\"SPL\",BD51=\"SPA\"),6,IF(AND(BD52=\"HP\",BC52=0,BD51=\"SPA\"),7,IF(AND(BC51=10,BD52=0,BD51=\"STR\"),8,IF(AND(BC51=10,BD52=\"HP\",BD51=\"STR\"),9,IF(AND(BC51=20,BD52=0),10,IF(AND(BC51=20,BD52=\"HP\"),11,0)))))))))))","v":0},"Box 04",{"$f":"IF(AND(BF52=\"HP\",BE52=0,BF51=\"\"),1,IF(AND(BF52=\"HP\",BE52=\"SPL\",BF51=\"\"),2,IF(AND(BF52=0,BE52=\"SPL\",BF51=\"\"),3,IF(AND(BF52=0,BE52=0,BF51=\"SPA\"),4,IF(AND(BF52=0,BE52=\"SPL\",BF51=\"SPA\"),5,IF(AND(BF52=\"HP\",BE52=\"SPL\",BF51=\"SPA\"),6,IF(AND(BF52=\"HP\",BE52=0,BF51=\"SPA\"),7,IF(AND(BE51=10,BF52=0,BF51=\"STR\"),8,IF(AND(BE51=10,BF52=\"HP\",BF51=\"STR\"),9,IF(AND(BE51=20,BF52=0),10,IF(AND(BE51=20,BF52=\"HP\"),11,0)))))))))))","v":0}]
[]
[]
[null,null,null,null,null,null,null,null,null,null,null,null,null,"SPAFL","STRFL","SPAAVG","STRAVG",null,"Box 05",{"$f":"IF(AND(T55=\"HP\",S55=0,T54=\"\"),1,IF(AND(T55=\"HP\",S55=\"SPL\",T54=\"\"),2,IF(AND(T55=0,S55=\"SPL\",T54=\"\"),3,IF(AND(T55=0,S55=0,T54=\"SPA\"),4,IF(AND(T55=0,S55=\"SPL\",T54=\"SPA\"),5,IF(AND(T55=\"HP\",S55=\"SPL\",T54=\"SPA\"),6,IF(AND(T55=\"HP\",S55=0,T54=\"SPA\"),7,IF(AND(S54=10,T55=0,T54=\"STR\"),8,IF(AND(S54=10,T55=\"HP\",T54=\"STR\"),9,IF(AND(S54=20,T55=0),10,IF(AND(S54=20,T55=\"HP\"),11,0)))))))))))","v":0},"Box 05",{"$f":"IF(AND(V55=\"HP\",U55=0,V54=\"\"),1,IF(AND(V55=\"HP\",U55=\"SPL\",V54=\"\"),2,IF(AND(V55=0,U55=\"SPL\",V54=\"\"),3,IF(AND(V55=0,U55=0,V54=\"SPA\"),4,IF(AND(V55=0,U55=\"SPL\",V54=\"SPA\"),5,IF(AND(V55=\"HP\",U55=\"SPL\",V54=\"SPA\"),6,IF(AND(V55=\"HP\",U55=0,V54=\"SPA\"),7,IF(AND(U54=10,V55=0,V54=\"STR\"),8,IF(AND(U54=10,V55=\"HP\",V54=\"STR\"),9,IF(AND(U54=20,V55=0),10,IF(AND(U54=20,V55=\"HP\"),11,0)))))))))))","v":0},"Box 05",{"$f":"IF(AND(X55=\"HP\",W55=0,X54=\"\"),1,IF(AND(X55=\"HP\",W55=\"SPL\",X54=\"\"),2,IF(AND(X55=0,W55=\"SPL\",X54=\"\"),3,IF(AND(X55=0,W55=0,X54=\"SPA\"),4,IF(AND(X55=0,W55=\"SPL\",X54=\"SPA\"),5,IF(AND(X55=\"HP\",W55=\"SPL\",X54=\"SPA\"),6,IF(AND(X55=\"HP\",W55=0,X54=\"SPA\"),7,IF(AND(W54=10,X55=0,X54=\"STR\"),8,IF(AND(W54=10,X55=\"HP\",X54=\"STR\"),9,IF(AND(W54=20,X55=0),10,IF(AND(W54=20,X55=\"HP\"),11,0)))))))))))","v":0},"Box 05",{"$f":"IF(AND(Z55=\"HP\",Y55=0,Z54=\"\"),1,IF(AND(Z55=\"HP\",Y55=\"SPL\",Z54=\"\"),2,IF(AND(Z55=0,Y55=\"SPL\",Z54=\"\"),3,IF(AND(Z55=0,Y55=0,Z54=\"SPA\"),4,IF(AND(Z55=0,Y55=\"SPL\",Z54=\"SPA\"),5,IF(AND(Z55=\"HP\",Y55=\"SPL\",Z54=\"SPA\"),6,IF(AND(Z55=\"HP\",Y55=0,Z54=\"SPA\"),7,IF(AND(Y54=10,Z55=0,Z54=\"STR\"),8,IF(AND(Y54=10,Z55=\"HP\",Z54=\"STR\"),9,IF(AND(Y54=20,Z55=0),10,IF(AND(Y54=20,Z55=\"HP\"),11,0)))))))))))","v":0},"Box 05",{"$f":"IF(AND(AB55=\"HP\",AA55=0,AB54=\"\"),1,IF(AND(AB55=\"HP\",AA55=\"SPL\",AB54=\"\"),2,IF(AND(AB55=0,AA55=\"SPL\",AB54=\"\"),3,IF(AND(AB55=0,AA55=0,AB54=\"SPA\"),4,IF(AND(AB55=0,AA55=\"SPL\",AB54=\"SPA\"),5,IF(AND(AB55=\"HP\",AA55=\"SPL\",AB54=\"SPA\"),6,IF(AND(AB55=\"HP\",AA55=0,AB54=\"SPA\"),7,IF(AND(AA54=10,AB55=0,AB54=\"STR\"),8,IF(AND(AA54=10,AB55=\"HP\",AB54=\"STR\"),9,IF(AND(AA54=20,AB55=0),10,IF(AND(AA54=20,AB55=\"HP\"),11,0)))))))))))","v":0},"Box 05",{"$f":"IF(AND(AD55=\"HP\",AC55=0,AD54=\"\"),1,IF(AND(AD55=\"HP\",AC55=\"SPL\",AD54=\"\"),2,IF(AND(AD55=0,AC55=\"SPL\",AD54=\"\"),3,IF(AND(AD55=0,AC55=0,AD54=\"SPA\"),4,IF(AND(AD55=0,AC55=\"SPL\",AD54=\"SPA\"),5,IF(AND(AD55=\"HP\",AC55=\"SPL\",AD54=\"SPA\"),6,IF(AND(AD55=\"HP\",AC55=0,AD54=\"SPA\"),7,IF(AND(AC54=10,AD55=0,AD54=\"STR\"),8,IF(AND(AC54=10,AD55=\"HP\",AD54=\"STR\"),9,IF(AND(AC54=20,AD55=0),10,IF(AND(AC54=20,AD55=\"HP\"),11,0)))))))))))","v":0},"Box 05",{"$f":"IF(AND(AF55=\"HP\",AE55=0,AF54=\"\"),1,IF(AND(AF55=\"HP\",AE55=\"SPL\",AF54=\"\"),2,IF(AND(AF55=0,AE55=\"SPL\",AF54=\"\"),3,IF(AND(AF55=0,AE55=0,AF54=\"SPA\"),4,IF(AND(AF55=0,AE55=\"SPL\",AF54=\"SPA\"),5,IF(AND(AF55=\"HP\",AE55=\"SPL\",AF54=\"SPA\"),6,IF(AND(AF55=\"HP\",AE55=0,AF54=\"SPA\"),7,IF(AND(AE54=10,AF55=0,AF54=\"STR\"),8,IF(AND(AE54=10,AF55=\"HP\",AF54=\"STR\"),9,IF(AND(AE54=20,AF55=0),10,IF(AND(AE54=20,AF55=\"HP\"),11,0)))))))))))","v":0},"Box 05",{"$f":"IF(AND(AH55=\"HP\",AG55=0,AH54=\"\"),1,IF(AND(AH55=\"HP\",AG55=\"SPL\",AH54=\"\"),2,IF(AND(AH55=0,AG55=\"SPL\",AH54=\"\"),3,IF(AND(AH55=0,AG55=0,AH54=\"SPA\"),4,IF(AND(AH55=0,AG55=\"SPL\",AH54=\"SPA\"),5,IF(AND(AH55=\"HP\",AG55=\"SPL\",AH54=\"SPA\"),6,IF(AND(AH55=\"HP\",AG55=0,AH54=\"SPA\"),7,IF(AND(AG54=10,AH55=0,AH54=\"STR\"),8,IF(AND(AG54=10,AH55=\"HP\",AH54=\"STR\"),9,IF(AND(AG54=20,AH55=0),10,IF(AND(AG54=20,AH55=\"HP\"),11,0)))))))))))","v":0},"Box 05",{"$f":"IF(AND(AJ55=\"HP\",AI55=0,AJ54=\"\"),1,IF(AND(AJ55=\"HP\",AI55=\"SPL\",AJ54=\"\"),2,IF(AND(AJ55=0,AI55=\"SPL\",AJ54=\"\"),3,IF(AND(AJ55=0,AI55=0,AJ54=\"SPA\"),4,IF(AND(AJ55=0,AI55=\"SPL\",AJ54=\"SPA\"),5,IF(AND(AJ55=\"HP\",AI55=\"SPL\",AJ54=\"SPA\"),6,IF(AND(AJ55=\"HP\",AI55=0,AJ54=\"SPA\"),7,IF(AND(AI54=10,AJ55=0,AJ54=\"STR\"),8,IF(AND(AI54=10,AJ55=\"HP\",AJ54=\"STR\"),9,IF(AND(AI54=20,AJ55=0),10,IF(AND(AI54=20,AJ55=\"HP\"),11,0)))))))))))","v":0},"Box 05",{"$f":"IF(AND(AL55=\"HP\",AK55=0,AL54=\"\"),1,IF(AND(AL55=\"HP\",AK55=\"SPL\",AL54=\"\"),2,IF(AND(AL55=0,AK55=\"SPL\",AL54=\"\"),3,IF(AND(AL55=0,AK55=0,AL54=\"SPA\"),4,IF(AND(AL55=0,AK55=\"SPL\",AL54=\"SPA\"),5,IF(AND(AL55=\"HP\",AK55=\"SPL\",AL54=\"SPA\"),6,IF(AND(AL55=\"HP\",AK55=0,AL54=\"SPA\"),7,IF(AND(AK54=10,AL55=0,AL54=\"STR\"),8,IF(AND(AK54=10,AL55=\"HP\",AL54=\"STR\"),9,IF(AND(AK54=20,AL55=0),10,IF(AND(AK54=20,AL55=\"HP\"),11,0)))))))))))","v":0},"Box 05",{"$f":"IF(AND(AN55=\"HP\",AM55=0,AN54=\"\"),1,IF(AND(AN55=\"HP\",AM55=\"SPL\",AN54=\"\"),2,IF(AND(AN55=0,AM55=\"SPL\",AN54=\"\"),3,IF(AND(AN55=0,AM55=0,AN54=\"SPA\"),4,IF(AND(AN55=0,AM55=\"SPL\",AN54=\"SPA\"),5,IF(AND(AN55=\"HP\",AM55=\"SPL\",AN54=\"SPA\"),6,IF(AND(AN55=\"HP\",AM55=0,AN54=\"SPA\"),7,IF(AND(AM54=10,AN55=0,AN54=\"STR\"),8,IF(AND(AM54=10,AN55=\"HP\",AN54=\"STR\"),9,IF(AND(AM54=20,AN55=0),10,IF(AND(AM54=20,AN55=\"HP\"),11,0)))))))))))","v":0},"Box 05",{"$f":"IF(AND(AP55=\"HP\",AO55=0,AP54=\"\"),1,IF(AND(AP55=\"HP\",AO55=\"SPL\",AP54=\"\"),2,IF(AND(AP55=0,AO55=\"SPL\",AP54=\"\"),3,IF(AND(AP55=0,AO55=0,AP54=\"SPA\"),4,IF(AND(AP55=0,AO55=\"SPL\",AP54=\"SPA\"),5,IF(AND(AP55=\"HP\",AO55=\"SPL\",AP54=\"SPA\"),6,IF(AND(AP55=\"HP\",AO55=0,AP54=\"SPA\"),7,IF(AND(AO54=10,AP55=0,AP54=\"STR\"),8,IF(AND(AO54=10,AP55=\"HP\",AP54=\"STR\"),9,IF(AND(AO54=20,AP55=0),10,IF(AND(AO54=20,AP55=\"HP\"),11,0)))))))))))","v":0},"Box 05",{"$f":"IF(AND(AR55=\"HP\",AQ55=0,AR54=\"\"),1,IF(AND(AR55=\"HP\",AQ55=\"SPL\",AR54=\"\"),2,IF(AND(AR55=0,AQ55=\"SPL\",AR54=\"\"),3,IF(AND(AR55=0,AQ55=0,AR54=\"SPA\"),4,IF(AND(AR55=0,AQ55=\"SPL\",AR54=\"SPA\"),5,IF(AND(AR55=\"HP\",AQ55=\"SPL\",AR54=\"SPA\"),6,IF(AND(AR55=\"HP\",AQ55=0,AR54=\"SPA\"),7,IF(AND(AQ54=10,AR55=0,AR54=\"STR\"),8,IF(AND(AQ54=10,AR55=\"HP\",AR54=\"STR\"),9,IF(AND(AQ54=20,AR55=0),10,IF(AND(AQ54=20,AR55=\"HP\"),11,0)))))))))))","v":0},"Box 05",{"$f":"IF(AND(AT55=\"HP\",AS55=0,AT54=\"\"),1,IF(AND(AT55=\"HP\",AS55=\"SPL\",AT54=\"\"),2,IF(AND(AT55=0,AS55=\"SPL\",AT54=\"\"),3,IF(AND(AT55=0,AS55=0,AT54=\"SPA\"),4,IF(AND(AT55=0,AS55=\"SPL\",AT54=\"SPA\"),5,IF(AND(AT55=\"HP\",AS55=\"SPL\",AT54=\"SPA\"),6,IF(AND(AT55=\"HP\",AS55=0,AT54=\"SPA\"),7,IF(AND(AS54=10,AT55=0,AT54=\"STR\"),8,IF(AND(AS54=10,AT55=\"HP\",AT54=\"STR\"),9,IF(AND(AS54=20,AT55=0),10,IF(AND(AS54=20,AT55=\"HP\"),11,0)))))))))))","v":0},"Box 05",{"$f":"IF(AND(AV55=\"HP\",AU55=0,AV54=\"\"),1,IF(AND(AV55=\"HP\",AU55=\"SPL\",AV54=\"\"),2,IF(AND(AV55=0,AU55=\"SPL\",AV54=\"\"),3,IF(AND(AV55=0,AU55=0,AV54=\"SPA\"),4,IF(AND(AV55=0,AU55=\"SPL\",AV54=\"SPA\"),5,IF(AND(AV55=\"HP\",AU55=\"SPL\",AV54=\"SPA\"),6,IF(AND(AV55=\"HP\",AU55=0,AV54=\"SPA\"),7,IF(AND(AU54=10,AV55=0,AV54=\"STR\"),8,IF(AND(AU54=10,AV55=\"HP\",AV54=\"STR\"),9,IF(AND(AU54=20,AV55=0),10,IF(AND(AU54=20,AV55=\"HP\"),11,0)))))))))))","v":0},"Box 05",{"$f":"IF(AND(AX55=\"HP\",AW55=0,AX54=\"\"),1,IF(AND(AX55=\"HP\",AW55=\"SPL\",AX54=\"\"),2,IF(AND(AX55=0,AW55=\"SPL\",AX54=\"\"),3,IF(AND(AX55=0,AW55=0,AX54=\"SPA\"),4,IF(AND(AX55=0,AW55=\"SPL\",AX54=\"SPA\"),5,IF(AND(AX55=\"HP\",AW55=\"SPL\",AX54=\"SPA\"),6,IF(AND(AX55=\"HP\",AW55=0,AX54=\"SPA\"),7,IF(AND(AW54=10,AX55=0,AX54=\"STR\"),8,IF(AND(AW54=10,AX55=\"HP\",AX54=\"STR\"),9,IF(AND(AW54=20,AX55=0),10,IF(AND(AW54=20,AX55=\"HP\"),11,0)))))))))))","v":0},"Box 05",{"$f":"IF(AND(AZ55=\"HP\",AY55=0,AZ54=\"\"),1,IF(AND(AZ55=\"HP\",AY55=\"SPL\",AZ54=\"\"),2,IF(AND(AZ55=0,AY55=\"SPL\",AZ54=\"\"),3,IF(AND(AZ55=0,AY55=0,AZ54=\"SPA\"),4,IF(AND(AZ55=0,AY55=\"SPL\",AZ54=\"SPA\"),5,IF(AND(AZ55=\"HP\",AY55=\"SPL\",AZ54=\"SPA\"),6,IF(AND(AZ55=\"HP\",AY55=0,AZ54=\"SPA\"),7,IF(AND(AY54=10,AZ55=0,AZ54=\"STR\"),8,IF(AND(AY54=10,AZ55=\"HP\",AZ54=\"STR\"),9,IF(AND(AY54=20,AZ55=0),10,IF(AND(AY54=20,AZ55=\"HP\"),11,0)))))))))))","v":0},"Box 05",{"$f":"IF(AND(BB55=\"HP\",BA55=0,BB54=\"\"),1,IF(AND(BB55=\"HP\",BA55=\"SPL\",BB54=\"\"),2,IF(AND(BB55=0,BA55=\"SPL\",BB54=\"\"),3,IF(AND(BB55=0,BA55=0,BB54=\"SPA\"),4,IF(AND(BB55=0,BA55=\"SPL\",BB54=\"SPA\"),5,IF(AND(BB55=\"HP\",BA55=\"SPL\",BB54=\"SPA\"),6,IF(AND(BB55=\"HP\",BA55=0,BB54=\"SPA\"),7,IF(AND(BA54=10,BB55=0,BB54=\"STR\"),8,IF(AND(BA54=10,BB55=\"HP\",BB54=\"STR\"),9,IF(AND(BA54=20,BB55=0),10,IF(AND(BA54=20,BB55=\"HP\"),11,0)))))))))))","v":0},"Box 05",{"$f":"IF(AND(BD55=\"HP\",BC55=0,BD54=\"\"),1,IF(AND(BD55=\"HP\",BC55=\"SPL\",BD54=\"\"),2,IF(AND(BD55=0,BC55=\"SPL\",BD54=\"\"),3,IF(AND(BD55=0,BC55=0,BD54=\"SPA\"),4,IF(AND(BD55=0,BC55=\"SPL\",BD54=\"SPA\"),5,IF(AND(BD55=\"HP\",BC55=\"SPL\",BD54=\"SPA\"),6,IF(AND(BD55=\"HP\",BC55=0,BD54=\"SPA\"),7,IF(AND(BC54=10,BD55=0,BD54=\"STR\"),8,IF(AND(BC54=10,BD55=\"HP\",BD54=\"STR\"),9,IF(AND(BC54=20,BD55=0),10,IF(AND(BC54=20,BD55=\"HP\"),11,0)))))))))))","v":0},"Box 05",{"$f":"IF(AND(BF55=\"HP\",BE55=0,BF54=\"\"),1,IF(AND(BF55=\"HP\",BE55=\"SPL\",BF54=\"\"),2,IF(AND(BF55=0,BE55=\"SPL\",BF54=\"\"),3,IF(AND(BF55=0,BE55=0,BF54=\"SPA\"),4,IF(AND(BF55=0,BE55=\"SPL\",BF54=\"SPA\"),5,IF(AND(BF55=\"HP\",BE55=\"SPL\",BF54=\"SPA\"),6,IF(AND(BF55=\"HP\",BE55=0,BF54=\"SPA\"),7,IF(AND(BE54=10,BF55=0,BF54=\"STR\"),8,IF(AND(BE54=10,BF55=\"HP\",BF54=\"STR\"),9,IF(AND(BE54=20,BF55=0),10,IF(AND(BE54=20,BF55=\"HP\"),11,0)))))))))))","v":0}]
[null,null,null,null,null,null,null,null,null,null,null,null,"B1",{"$f":"SUM(T81,AB81,AJ81,AR81,AZ81)","v":0},{"$f":"SUM(T82,AB82,AJ82,AR82,AZ82)","v":0},{"$f":"IFERROR((N57/(SUM(T84,AB84,AJ84,AR84,AZ84))),0)","v":0},{"$f":"IFERROR((O57/(SUM(T83,AB83,AJ83,AR83,AZ83))),0)","v":0}]
[null,null,null,null,null,null,null,null,null,null,null,null,"B2",{"$f":"SUM(X81,AF81,AN81,AV81,BD81)","v":0},{"$f":"SUM(X82,AF82,AN82,AV82,BD82)","v":0},{"$f":"IFERROR((N58/(SUM(X84,AF84,AN84,AV84,BD84))),0)","v":0},{"$f":"IFERROR((O58/(SUM(X83,AF83,AN83,AV83,BD83))),0)","v":0}]
[null,null,null,null,null,null,null,null,null,null,null,null,"B3",{"$f":"SUM(V81,AD81,AL81,AT81,BB81)","v":0},{"$f":"SUM(V82,AD82,AL82,AT82,BB82)","v":0},{"$f":"IFERROR((N59/(SUM(V84,AD84,AL84,AT84,BB84))),0)","v":0},{"$f":"IFERROR((O59/(SUM(V83,AD83,AL83,AT83,BB83))),0)","v":0},null,"Box 06",{"$f":"IF(AND(T58=\"HP\",S58=0,T57=\"\"),1,IF(AND(T58=\"HP\",S58=\"SPL\",T57=\"\"),2,IF(AND(T58=0,S58=\"SPL\",T57=\"\"),3,IF(AND(T58=0,S58=0,T57=\"SPA\"),4,IF(AND(T58=0,S58=\"SPL\",T57=\"SPA\"),5,IF(AND(T58=\"HP\",S58=\"SPL\",T57=\"SPA\"),6,IF(AND(T58=\"HP\",S58=0,T57=\"SPA\"),7,IF(AND(S57=10,T58=0,T57=\"STR\"),8,IF(AND(S57=10,T58=\"HP\",T57=\"STR\"),9,IF(AND(S57=20,T58=0),10,IF(AND(S57=20,T58=\"HP\"),11,0)))))))))))","v":0},"Box 06",{"$f":"IF(AND(V58=\"HP\",U58=0,V57=\"\"),1,IF(AND(V58=\"HP\",U58=\"SPL\",V57=\"\"),2,IF(AND(V58=0,U58=\"SPL\",V57=\"\"),3,IF(AND(V58=0,U58=0,V57=\"SPA\"),4,IF(AND(V58=0,U58=\"SPL\",V57=\"SPA\"),5,IF(AND(V58=\"HP\",U58=\"SPL\",V57=\"SPA\"),6,IF(AND(V58=\"HP\",U58=0,V57=\"SPA\"),7,IF(AND(U57=10,V58=0,V57=\"STR\"),8,IF(AND(U57=10,V58=\"HP\",V57=\"STR\"),9,IF(AND(U57=20,V58=0),10,IF(AND(U57=20,V58=\"HP\"),11,0)))))))))))","v":0},"Box 06",{"$f":"IF(AND(X58=\"HP\",W58=0,X57=\"\"),1,IF(AND(X58=\"HP\",W58=\"SPL\",X57=\"\"),2,IF(AND(X58=0,W58=\"SPL\",X57=\"\"),3,IF(AND(X58=0,W58=0,X57=\"SPA\"),4,IF(AND(X58=0,W58=\"SPL\",X57=\"SPA\"),5,IF(AND(X58=\"HP\",W58=\"SPL\",X57=\"SPA\"),6,IF(AND(X58=\"HP\",W58=0,X57=\"SPA\"),7,IF(AND(W57=10,X58=0,X57=\"STR\"),8,IF(AND(W57=10,X58=\"HP\",X57=\"STR\"),9,IF(AND(W57=20,X58=0),10,IF(AND(W57=20,X58=\"HP\"),11,0)))))))))))","v":0},"Box 06",{"$f":"IF(AND(Z58=\"HP\",Y58=0,Z57=\"\"),1,IF(AND(Z58=\"HP\",Y58=\"SPL\",Z57=\"\"),2,IF(AND(Z58=0,Y58=\"SPL\",Z57=\"\"),3,IF(AND(Z58=0,Y58=0,Z57=\"SPA\"),4,IF(AND(Z58=0,Y58=\"SPL\",Z57=\"SPA\"),5,IF(AND(Z58=\"HP\",Y58=\"SPL\",Z57=\"SPA\"),6,IF(AND(Z58=\"HP\",Y58=0,Z57=\"SPA\"),7,IF(AND(Y57=10,Z58=0,Z57=\"STR\"),8,IF(AND(Y57=10,Z58=\"HP\",Z57=\"STR\"),9,IF(AND(Y57=20,Z58=0),10,IF(AND(Y57=20,Z58=\"HP\"),11,0)))))))))))","v":0},"Box 06",{"$f":"IF(AND(AB58=\"HP\",AA58=0,AB57=\"\"),1,IF(AND(AB58=\"HP\",AA58=\"SPL\",AB57=\"\"),2,IF(AND(AB58=0,AA58=\"SPL\",AB57=\"\"),3,IF(AND(AB58=0,AA58=0,AB57=\"SPA\"),4,IF(AND(AB58=0,AA58=\"SPL\",AB57=\"SPA\"),5,IF(AND(AB58=\"HP\",AA58=\"SPL\",AB57=\"SPA\"),6,IF(AND(AB58=\"HP\",AA58=0,AB57=\"SPA\"),7,IF(AND(AA57=10,AB58=0,AB57=\"STR\"),8,IF(AND(AA57=10,AB58=\"HP\",AB57=\"STR\"),9,IF(AND(AA57=20,AB58=0),10,IF(AND(AA57=20,AB58=\"HP\"),11,0)))))))))))","v":0},"Box 06",{"$f":"IF(AND(AD58=\"HP\",AC58=0,AD57=\"\"),1,IF(AND(AD58=\"HP\",AC58=\"SPL\",AD57=\"\"),2,IF(AND(AD58=0,AC58=\"SPL\",AD57=\"\"),3,IF(AND(AD58=0,AC58=0,AD57=\"SPA\"),4,IF(AND(AD58=0,AC58=\"SPL\",AD57=\"SPA\"),5,IF(AND(AD58=\"HP\",AC58=\"SPL\",AD57=\"SPA\"),6,IF(AND(AD58=\"HP\",AC58=0,AD57=\"SPA\"),7,IF(AND(AC57=10,AD58=0,AD57=\"STR\"),8,IF(AND(AC57=10,AD58=\"HP\",AD57=\"STR\"),9,IF(AND(AC57=20,AD58=0),10,IF(AND(AC57=20,AD58=\"HP\"),11,0)))))))))))","v":0},"Box 06",{"$f":"IF(AND(AF58=\"HP\",AE58=0,AF57=\"\"),1,IF(AND(AF58=\"HP\",AE58=\"SPL\",AF57=\"\"),2,IF(AND(AF58=0,AE58=\"SPL\",AF57=\"\"),3,IF(AND(AF58=0,AE58=0,AF57=\"SPA\"),4,IF(AND(AF58=0,AE58=\"SPL\",AF57=\"SPA\"),5,IF(AND(AF58=\"HP\",AE58=\"SPL\",AF57=\"SPA\"),6,IF(AND(AF58=\"HP\",AE58=0,AF57=\"SPA\"),7,IF(AND(AE57=10,AF58=0,AF57=\"STR\"),8,IF(AND(AE57=10,AF58=\"HP\",AF57=\"STR\"),9,IF(AND(AE57=20,AF58=0),10,IF(AND(AE57=20,AF58=\"HP\"),11,0)))))))))))","v":0},"Box 06",{"$f":"IF(AND(AH58=\"HP\",AG58=0,AH57=\"\"),1,IF(AND(AH58=\"HP\",AG58=\"SPL\",AH57=\"\"),2,IF(AND(AH58=0,AG58=\"SPL\",AH57=\"\"),3,IF(AND(AH58=0,AG58=0,AH57=\"SPA\"),4,IF(AND(AH58=0,AG58=\"SPL\",AH57=\"SPA\"),5,IF(AND(AH58=\"HP\",AG58=\"SPL\",AH57=\"SPA\"),6,IF(AND(AH58=\"HP\",AG58=0,AH57=\"SPA\"),7,IF(AND(AG57=10,AH58=0,AH57=\"STR\"),8,IF(AND(AG57=10,AH58=\"HP\",AH57=\"STR\"),9,IF(AND(AG57=20,AH58=0),10,IF(AND(AG57=20,AH58=\"HP\"),11,0)))))))))))","v":0},"Box 06",{"$f":"IF(AND(AJ58=\"HP\",AI58=0,AJ57=\"\"),1,IF(AND(AJ58=\"HP\",AI58=\"SPL\",AJ57=\"\"),2,IF(AND(AJ58=0,AI58=\"SPL\",AJ57=\"\"),3,IF(AND(AJ58=0,AI58=0,AJ57=\"SPA\"),4,IF(AND(AJ58=0,AI58=\"SPL\",AJ57=\"SPA\"),5,IF(AND(AJ58=\"HP\",AI58=\"SPL\",AJ57=\"SPA\"),6,IF(AND(AJ58=\"HP\",AI58=0,AJ57=\"SPA\"),7,IF(AND(AI57=10,AJ58=0,AJ57=\"STR\"),8,IF(AND(AI57=10,AJ58=\"HP\",AJ57=\"STR\"),9,IF(AND(AI57=20,AJ58=0),10,IF(AND(AI57=20,AJ58=\"HP\"),11,0)))))))))))","v":0},"Box 06",{"$f":"IF(AND(AL58=\"HP\",AK58=0,AL57=\"\"),1,IF(AND(AL58=\"HP\",AK58=\"SPL\",AL57=\"\"),2,IF(AND(AL58=0,AK58=\"SPL\",AL57=\"\"),3,IF(AND(AL58=0,AK58=0,AL57=\"SPA\"),4,IF(AND(AL58=0,AK58=\"SPL\",AL57=\"SPA\"),5,IF(AND(AL58=\"HP\",AK58=\"SPL\",AL57=\"SPA\"),6,IF(AND(AL58=\"HP\",AK58=0,AL57=\"SPA\"),7,IF(AND(AK57=10,AL58=0,AL57=\"STR\"),8,IF(AND(AK57=10,AL58=\"HP\",AL57=\"STR\"),9,IF(AND(AK57=20,AL58=0),10,IF(AND(AK57=20,AL58=\"HP\"),11,0)))))))))))","v":0},"Box 06",{"$f":"IF(AND(AN58=\"HP\",AM58=0,AN57=\"\"),1,IF(AND(AN58=\"HP\",AM58=\"SPL\",AN57=\"\"),2,IF(AND(AN58=0,AM58=\"SPL\",AN57=\"\"),3,IF(AND(AN58=0,AM58=0,AN57=\"SPA\"),4,IF(AND(AN58=0,AM58=\"SPL\",AN57=\"SPA\"),5,IF(AND(AN58=\"HP\",AM58=\"SPL\",AN57=\"SPA\"),6,IF(AND(AN58=\"HP\",AM58=0,AN57=\"SPA\"),7,IF(AND(AM57=10,AN58=0,AN57=\"STR\"),8,IF(AND(AM57=10,AN58=\"HP\",AN57=\"STR\"),9,IF(AND(AM57=20,AN58=0),10,IF(AND(AM57=20,AN58=\"HP\"),11,0)))))))))))","v":0},"Box 06",{"$f":"IF(AND(AP58=\"HP\",AO58=0,AP57=\"\"),1,IF(AND(AP58=\"HP\",AO58=\"SPL\",AP57=\"\"),2,IF(AND(AP58=0,AO58=\"SPL\",AP57=\"\"),3,IF(AND(AP58=0,AO58=0,AP57=\"SPA\"),4,IF(AND(AP58=0,AO58=\"SPL\",AP57=\"SPA\"),5,IF(AND(AP58=\"HP\",AO58=\"SPL\",AP57=\"SPA\"),6,IF(AND(AP58=\"HP\",AO58=0,AP57=\"SPA\"),7,IF(AND(AO57=10,AP58=0,AP57=\"STR\"),8,IF(AND(AO57=10,AP58=\"HP\",AP57=\"STR\"),9,IF(AND(AO57=20,AP58=0),10,IF(AND(AO57=20,AP58=\"HP\"),11,0)))))))))))","v":0},"Box 06",{"$f":"IF(AND(AR58=\"HP\",AQ58=0,AR57=\"\"),1,IF(AND(AR58=\"HP\",AQ58=\"SPL\",AR57=\"\"),2,IF(AND(AR58=0,AQ58=\"SPL\",AR57=\"\"),3,IF(AND(AR58=0,AQ58=0,AR57=\"SPA\"),4,IF(AND(AR58=0,AQ58=\"SPL\",AR57=\"SPA\"),5,IF(AND(AR58=\"HP\",AQ58=\"SPL\",AR57=\"SPA\"),6,IF(AND(AR58=\"HP\",AQ58=0,AR57=\"SPA\"),7,IF(AND(AQ57=10,AR58=0,AR57=\"STR\"),8,IF(AND(AQ57=10,AR58=\"HP\",AR57=\"STR\"),9,IF(AND(AQ57=20,AR58=0),10,IF(AND(AQ57=20,AR58=\"HP\"),11,0)))))))))))","v":0},"Box 06",{"$f":"IF(AND(AT58=\"HP\",AS58=0,AT57=\"\"),1,IF(AND(AT58=\"HP\",AS58=\"SPL\",AT57=\"\"),2,IF(AND(AT58=0,AS58=\"SPL\",AT57=\"\"),3,IF(AND(AT58=0,AS58=0,AT57=\"SPA\"),4,IF(AND(AT58=0,AS58=\"SPL\",AT57=\"SPA\"),5,IF(AND(AT58=\"HP\",AS58=\"SPL\",AT57=\"SPA\"),6,IF(AND(AT58=\"HP\",AS58=0,AT57=\"SPA\"),7,IF(AND(AS57=10,AT58=0,AT57=\"STR\"),8,IF(AND(AS57=10,AT58=\"HP\",AT57=\"STR\"),9,IF(AND(AS57=20,AT58=0),10,IF(AND(AS57=20,AT58=\"HP\"),11,0)))))))))))","v":0},"Box 06",{"$f":"IF(AND(AV58=\"HP\",AU58=0,AV57=\"\"),1,IF(AND(AV58=\"HP\",AU58=\"SPL\",AV57=\"\"),2,IF(AND(AV58=0,AU58=\"SPL\",AV57=\"\"),3,IF(AND(AV58=0,AU58=0,AV57=\"SPA\"),4,IF(AND(AV58=0,AU58=\"SPL\",AV57=\"SPA\"),5,IF(AND(AV58=\"HP\",AU58=\"SPL\",AV57=\"SPA\"),6,IF(AND(AV58=\"HP\",AU58=0,AV57=\"SPA\"),7,IF(AND(AU57=10,AV58=0,AV57=\"STR\"),8,IF(AND(AU57=10,AV58=\"HP\",AV57=\"STR\"),9,IF(AND(AU57=20,AV58=0),10,IF(AND(AU57=20,AV58=\"HP\"),11,0)))))))))))","v":0},"Box 06",{"$f":"IF(AND(AX58=\"HP\",AW58=0,AX57=\"\"),1,IF(AND(AX58=\"HP\",AW58=\"SPL\",AX57=\"\"),2,IF(AND(AX58=0,AW58=\"SPL\",AX57=\"\"),3,IF(AND(AX58=0,AW58=0,AX57=\"SPA\"),4,IF(AND(AX58=0,AW58=\"SPL\",AX57=\"SPA\"),5,IF(AND(AX58=\"HP\",AW58=\"SPL\",AX57=\"SPA\"),6,IF(AND(AX58=\"HP\",AW58=0,AX57=\"SPA\"),7,IF(AND(AW57=10,AX58=0,AX57=\"STR\"),8,IF(AND(AW57=10,AX58=\"HP\",AX57=\"STR\"),9,IF(AND(AW57=20,AX58=0),10,IF(AND(AW57=20,AX58=\"HP\"),11,0)))))))))))","v":0},"Box 06",{"$f":"IF(AND(AZ58=\"HP\",AY58=0,AZ57=\"\"),1,IF(AND(AZ58=\"HP\",AY58=\"SPL\",AZ57=\"\"),2,IF(AND(AZ58=0,AY58=\"SPL\",AZ57=\"\"),3,IF(AND(AZ58=0,AY58=0,AZ57=\"SPA\"),4,IF(AND(AZ58=0,AY58=\"SPL\",AZ57=\"SPA\"),5,IF(AND(AZ58=\"HP\",AY58=\"SPL\",AZ57=\"SPA\"),6,IF(AND(AZ58=\"HP\",AY58=0,AZ57=\"SPA\"),7,IF(AND(AY57=10,AZ58=0,AZ57=\"STR\"),8,IF(AND(AY57=10,AZ58=\"HP\",AZ57=\"STR\"),9,IF(AND(AY57=20,AZ58=0),10,IF(AND(AY57=20,AZ58=\"HP\"),11,0)))))))))))","v":0},"Box 06",{"$f":"IF(AND(BB58=\"HP\",BA58=0,BB57=\"\"),1,IF(AND(BB58=\"HP\",BA58=\"SPL\",BB57=\"\"),2,IF(AND(BB58=0,BA58=\"SPL\",BB57=\"\"),3,IF(AND(BB58=0,BA58=0,BB57=\"SPA\"),4,IF(AND(BB58=0,BA58=\"SPL\",BB57=\"SPA\"),5,IF(AND(BB58=\"HP\",BA58=\"SPL\",BB57=\"SPA\"),6,IF(AND(BB58=\"HP\",BA58=0,BB57=\"SPA\"),7,IF(AND(BA57=10,BB58=0,BB57=\"STR\"),8,IF(AND(BA57=10,BB58=\"HP\",BB57=\"STR\"),9,IF(AND(BA57=20,BB58=0),10,IF(AND(BA57=20,BB58=\"HP\"),11,0)))))))))))","v":0},"Box 06",{"$f":"IF(AND(BD58=\"HP\",BC58=0,BD57=\"\"),1,IF(AND(BD58=\"HP\",BC58=\"SPL\",BD57=\"\"),2,IF(AND(BD58=0,BC58=\"SPL\",BD57=\"\"),3,IF(AND(BD58=0,BC58=0,BD57=\"SPA\"),4,IF(AND(BD58=0,BC58=\"SPL\",BD57=\"SPA\"),5,IF(AND(BD58=\"HP\",BC58=\"SPL\",BD57=\"SPA\"),6,IF(AND(BD58=\"HP\",BC58=0,BD57=\"SPA\"),7,IF(AND(BC57=10,BD58=0,BD57=\"STR\"),8,IF(AND(BC57=10,BD58=\"HP\",BD57=\"STR\"),9,IF(AND(BC57=20,BD58=0),10,IF(AND(BC57=20,BD58=\"HP\"),11,0)))))))))))","v":0},"Box 06",{"$f":"IF(AND(BF58=\"HP\",BE58=0,BF57=\"\"),1,IF(AND(BF58=\"HP\",BE58=\"SPL\",BF57=\"\"),2,IF(AND(BF58=0,BE58=\"SPL\",BF57=\"\"),3,IF(AND(BF58=0,BE58=0,BF57=\"SPA\"),4,IF(AND(BF58=0,BE58=\"SPL\",BF57=\"SPA\"),5,IF(AND(BF58=\"HP\",BE58=\"SPL\",BF57=\"SPA\"),6,IF(AND(BF58=\"HP\",BE58=0,BF57=\"SPA\"),7,IF(AND(BE57=10,BF58=0,BF57=\"STR\"),8,IF(AND(BE57=10,BF58=\"HP\",BF57=\"STR\"),9,IF(AND(BE57=20,BF58=0),10,IF(AND(BE57=20,BF58=\"HP\"),11,0)))))))))))","v":0}]
[null,null,null,null,null,null,null,null,null,null,null,null,"B4",{"$f":"SUM(Z81,AH81,AP81,AX81,BF81)","v":0},{"$f":"SUM(Z82,AH82,AP82,AX82,BF82)","v":0},{"$f":"IFERROR((N60/(SUM(Z84,AH84,AP84,AX84,BF84))),0)","v":0},{"$f":"IFERROR((O60/(SUM(Z83,AH83,AP83,AX83,BF83))),0)","v":0}]
[]
[null,null,null,null,null,null,null,null,null,null,null,null,null,null,null,null,null,null,"Box 07",{"$f":"IF(AND(T61=\"HP\",S61=0,T60=\"\"),1,IF(AND(T61=\"HP\",S61=\"SPL\",T60=\"\"),2,IF(AND(T61=0,S61=\"SPL\",T60=\"\"),3,IF(AND(T61=0,S61=0,T60=\"SPA\"),4,IF(AND(T61=0,S61=\"SPL\",T60=\"SPA\"),5,IF(AND(T61=\"HP\",S61=\"SPL\",T60=\"SPA\"),6,IF(AND(T61=\"HP\",S61=0,T60=\"SPA\"),7,IF(AND(S60=10,T61=0,T60=\"STR\"),8,IF(AND(S60=10,T61=\"HP\",T60=\"STR\"),9,IF(AND(S60=20,T61=0),10,IF(AND(S60=20,T61=\"HP\"),11,0)))))))))))","v":0},"Box 07",{"$f":"IF(AND(V61=\"HP\",U61=0,V60=\"\"),1,IF(AND(V61=\"HP\",U61=\"SPL\",V60=\"\"),2,IF(AND(V61=0,U61=\"SPL\",V60=\"\"),3,IF(AND(V61=0,U61=0,V60=\"SPA\"),4,IF(AND(V61=0,U61=\"SPL\",V60=\"SPA\"),5,IF(AND(V61=\"HP\",U61=\"SPL\",V60=\"SPA\"),6,IF(AND(V61=\"HP\",U61=0,V60=\"SPA\"),7,IF(AND(U60=10,V61=0,V60=\"STR\"),8,IF(AND(U60=10,V61=\"HP\",V60=\"STR\"),9,IF(AND(U60=20,V61=0),10,IF(AND(U60=20,V61=\"HP\"),11,0)))))))))))","v":0},"Box 07",{"$f":"IF(AND(X61=\"HP\",W61=0,X60=\"\"),1,IF(AND(X61=\"HP\",W61=\"SPL\",X60=\"\"),2,IF(AND(X61=0,W61=\"SPL\",X60=\"\"),3,IF(AND(X61=0,W61=0,X60=\"SPA\"),4,IF(AND(X61=0,W61=\"SPL\",X60=\"SPA\"),5,IF(AND(X61=\"HP\",W61=\"SPL\",X60=\"SPA\"),6,IF(AND(X61=\"HP\",W61=0,X60=\"SPA\"),7,IF(AND(W60=10,X61=0,X60=\"STR\"),8,IF(AND(W60=10,X61=\"HP\",X60=\"STR\"),9,IF(AND(W60=20,X61=0),10,IF(AND(W60=20,X61=\"HP\"),11,0)))))))))))","v":0},"Box 07",{"$f":"IF(AND(Z61=\"HP\",Y61=0,Z60=\"\"),1,IF(AND(Z61=\"HP\",Y61=\"SPL\",Z60=\"\"),2,IF(AND(Z61=0,Y61=\"SPL\",Z60=\"\"),3,IF(AND(Z61=0,Y61=0,Z60=\"SPA\"),4,IF(AND(Z61=0,Y61=\"SPL\",Z60=\"SPA\"),5,IF(AND(Z61=\"HP\",Y61=\"SPL\",Z60=\"SPA\"),6,IF(AND(Z61=\"HP\",Y61=0,Z60=\"SPA\"),7,IF(AND(Y60=10,Z61=0,Z60=\"STR\"),8,IF(AND(Y60=10,Z61=\"HP\",Z60=\"STR\"),9,IF(AND(Y60=20,Z61=0),10,IF(AND(Y60=20,Z61=\"HP\"),11,0)))))))))))","v":0},"Box 07",{"$f":"IF(AND(AB61=\"HP\",AA61=0,AB60=\"\"),1,IF(AND(AB61=\"HP\",AA61=\"SPL\",AB60=\"\"),2,IF(AND(AB61=0,AA61=\"SPL\",AB60=\"\"),3,IF(AND(AB61=0,AA61=0,AB60=\"SPA\"),4,IF(AND(AB61=0,AA61=\"SPL\",AB60=\"SPA\"),5,IF(AND(AB61=\"HP\",AA61=\"SPL\",AB60=\"SPA\"),6,IF(AND(AB61=\"HP\",AA61=0,AB60=\"SPA\"),7,IF(AND(AA60=10,AB61=0,AB60=\"STR\"),8,IF(AND(AA60=10,AB61=\"HP\",AB60=\"STR\"),9,IF(AND(AA60=20,AB61=0),10,IF(AND(AA60=20,AB61=\"HP\"),11,0)))))))))))","v":0},"Box 07",{"$f":"IF(AND(AD61=\"HP\",AC61=0,AD60=\"\"),1,IF(AND(AD61=\"HP\",AC61=\"SPL\",AD60=\"\"),2,IF(AND(AD61=0,AC61=\"SPL\",AD60=\"\"),3,IF(AND(AD61=0,AC61=0,AD60=\"SPA\"),4,IF(AND(AD61=0,AC61=\"SPL\",AD60=\"SPA\"),5,IF(AND(AD61=\"HP\",AC61=\"SPL\",AD60=\"SPA\"),6,IF(AND(AD61=\"HP\",AC61=0,AD60=\"SPA\"),7,IF(AND(AC60=10,AD61=0,AD60=\"STR\"),8,IF(AND(AC60=10,AD61=\"HP\",AD60=\"STR\"),9,IF(AND(AC60=20,AD61=0),10,IF(AND(AC60=20,AD61=\"HP\"),11,0)))))))))))","v":0},"Box 07",{"$f":"IF(AND(AF61=\"HP\",AE61=0,AF60=\"\"),1,IF(AND(AF61=\"HP\",AE61=\"SPL\",AF60=\"\"),2,IF(AND(AF61=0,AE61=\"SPL\",AF60=\"\"),3,IF(AND(AF61=0,AE61=0,AF60=\"SPA\"),4,IF(AND(AF61=0,AE61=\"SPL\",AF60=\"SPA\"),5,IF(AND(AF61=\"HP\",AE61=\"SPL\",AF60=\"SPA\"),6,IF(AND(AF61=\"HP\",AE61=0,AF60=\"SPA\"),7,IF(AND(AE60=10,AF61=0,AF60=\"STR\"),8,IF(AND(AE60=10,AF61=\"HP\",AF60=\"STR\"),9,IF(AND(AE60=20,AF61=0),10,IF(AND(AE60=20,AF61=\"HP\"),11,0)))))))))))","v":0},"Box 07",{"$f":"IF(AND(AH61=\"HP\",AG61=0,AH60=\"\"),1,IF(AND(AH61=\"HP\",AG61=\"SPL\",AH60=\"\"),2,IF(AND(AH61=0,AG61=\"SPL\",AH60=\"\"),3,IF(AND(AH61=0,AG61=0,AH60=\"SPA\"),4,IF(AND(AH61=0,AG61=\"SPL\",AH60=\"SPA\"),5,IF(AND(AH61=\"HP\",AG61=\"SPL\",AH60=\"SPA\"),6,IF(AND(AH61=\"HP\",AG61=0,AH60=\"SPA\"),7,IF(AND(AG60=10,AH61=0,AH60=\"STR\"),8,IF(AND(AG60=10,AH61=\"HP\",AH60=\"STR\"),9,IF(AND(AG60=20,AH61=0),10,IF(AND(AG60=20,AH61=\"HP\"),11,0)))))))))))","v":0},"Box 07",{"$f":"IF(AND(AJ61=\"HP\",AI61=0,AJ60=\"\"),1,IF(AND(AJ61=\"HP\",AI61=\"SPL\",AJ60=\"\"),2,IF(AND(AJ61=0,AI61=\"SPL\",AJ60=\"\"),3,IF(AND(AJ61=0,AI61=0,AJ60=\"SPA\"),4,IF(AND(AJ61=0,AI61=\"SPL\",AJ60=\"SPA\"),5,IF(AND(AJ61=\"HP\",AI61=\"SPL\",AJ60=\"SPA\"),6,IF(AND(AJ61=\"HP\",AI61=0,AJ60=\"SPA\"),7,IF(AND(AI60=10,AJ61=0,AJ60=\"STR\"),8,IF(AND(AI60=10,AJ61=\"HP\",AJ60=\"STR\"),9,IF(AND(AI60=20,AJ61=0),10,IF(AND(AI60=20,AJ61=\"HP\"),11,0)))))))))))","v":0},"Box 07",{"$f":"IF(AND(AL61=\"HP\",AK61=0,AL60=\"\"),1,IF(AND(AL61=\"HP\",AK61=\"SPL\",AL60=\"\"),2,IF(AND(AL61=0,AK61=\"SPL\",AL60=\"\"),3,IF(AND(AL61=0,AK61=0,AL60=\"SPA\"),4,IF(AND(AL61=0,AK61=\"SPL\",AL60=\"SPA\"),5,IF(AND(AL61=\"HP\",AK61=\"SPL\",AL60=\"SPA\"),6,IF(AND(AL61=\"HP\",AK61=0,AL60=\"SPA\"),7,IF(AND(AK60=10,AL61=0,AL60=\"STR\"),8,IF(AND(AK60=10,AL61=\"HP\",AL60=\"STR\"),9,IF(AND(AK60=20,AL61=0),10,IF(AND(AK60=20,AL61=\"HP\"),11,0)))))))))))","v":0},"Box 07",{"$f":"IF(AND(AN61=\"HP\",AM61=0,AN60=\"\"),1,IF(AND(AN61=\"HP\",AM61=\"SPL\",AN60=\"\"),2,IF(AND(AN61=0,AM61=\"SPL\",AN60=\"\"),3,IF(AND(AN61=0,AM61=0,AN60=\"SPA\"),4,IF(AND(AN61=0,AM61=\"SPL\",AN60=\"SPA\"),5,IF(AND(AN61=\"HP\",AM61=\"SPL\",AN60=\"SPA\"),6,IF(AND(AN61=\"HP\",AM61=0,AN60=\"SPA\"),7,IF(AND(AM60=10,AN61=0,AN60=\"STR\"),8,IF(AND(AM60=10,AN61=\"HP\",AN60=\"STR\"),9,IF(AND(AM60=20,AN61=0),10,IF(AND(AM60=20,AN61=\"HP\"),11,0)))))))))))","v":0},"Box 07",{"$f":"IF(AND(AP61=\"HP\",AO61=0,AP60=\"\"),1,IF(AND(AP61=\"HP\",AO61=\"SPL\",AP60=\"\"),2,IF(AND(AP61=0,AO61=\"SPL\",AP60=\"\"),3,IF(AND(AP61=0,AO61=0,AP60=\"SPA\"),4,IF(AND(AP61=0,AO61=\"SPL\",AP60=\"SPA\"),5,IF(AND(AP61=\"HP\",AO61=\"SPL\",AP60=\"SPA\"),6,IF(AND(AP61=\"HP\",AO61=0,AP60=\"SPA\"),7,IF(AND(AO60=10,AP61=0,AP60=\"STR\"),8,IF(AND(AO60=10,AP61=\"HP\",AP60=\"STR\"),9,IF(AND(AO60=20,AP61=0),10,IF(AND(AO60=20,AP61=\"HP\"),11,0)))))))))))","v":0},"Box 07",{"$f":"IF(AND(AR61=\"HP\",AQ61=0,AR60=\"\"),1,IF(AND(AR61=\"HP\",AQ61=\"SPL\",AR60=\"\"),2,IF(AND(AR61=0,AQ61=\"SPL\",AR60=\"\"),3,IF(AND(AR61=0,AQ61=0,AR60=\"SPA\"),4,IF(AND(AR61=0,AQ61=\"SPL\",AR60=\"SPA\"),5,IF(AND(AR61=\"HP\",AQ61=\"SPL\",AR60=\"SPA\"),6,IF(AND(AR61=\"HP\",AQ61=0,AR60=\"SPA\"),7,IF(AND(AQ60=10,AR61=0,AR60=\"STR\"),8,IF(AND(AQ60=10,AR61=\"HP\",AR60=\"STR\"),9,IF(AND(AQ60=20,AR61=0),10,IF(AND(AQ60=20,AR61=\"HP\"),11,0)))))))))))","v":0},"Box 07",{"$f":"IF(AND(AT61=\"HP\",AS61=0,AT60=\"\"),1,IF(AND(AT61=\"HP\",AS61=\"SPL\",AT60=\"\"),2,IF(AND(AT61=0,AS61=\"SPL\",AT60=\"\"),3,IF(AND(AT61=0,AS61=0,AT60=\"SPA\"),4,IF(AND(AT61=0,AS61=\"SPL\",AT60=\"SPA\"),5,IF(AND(AT61=\"HP\",AS61=\"SPL\",AT60=\"SPA\"),6,IF(AND(AT61=\"HP\",AS61=0,AT60=\"SPA\"),7,IF(AND(AS60=10,AT61=0,AT60=\"STR\"),8,IF(AND(AS60=10,AT61=\"HP\",AT60=\"STR\"),9,IF(AND(AS60=20,AT61=0),10,IF(AND(AS60=20,AT61=\"HP\"),11,0)))))))))))","v":0},"Box 07",{"$f":"IF(AND(AV61=\"HP\",AU61=0,AV60=\"\"),1,IF(AND(AV61=\"HP\",AU61=\"SPL\",AV60=\"\"),2,IF(AND(AV61=0,AU61=\"SPL\",AV60=\"\"),3,IF(AND(AV61=0,AU61=0,AV60=\"SPA\"),4,IF(AND(AV61=0,AU61=\"SPL\",AV60=\"SPA\"),5,IF(AND(AV61=\"HP\",AU61=\"SPL\",AV60=\"SPA\"),6,IF(AND(AV61=\"HP\",AU61=0,AV60=\"SPA\"),7,IF(AND(AU60=10,AV61=0,AV60=\"STR\"),8,IF(AND(AU60=10,AV61=\"HP\",AV60=\"STR\"),9,IF(AND(AU60=20,AV61=0),10,IF(AND(AU60=20,AV61=\"HP\"),11,0)))))))))))","v":0},"Box 07",{"$f":"IF(AND(AX61=\"HP\",AW61=0,AX60=\"\"),1,IF(AND(AX61=\"HP\",AW61=\"SPL\",AX60=\"\"),2,IF(AND(AX61=0,AW61=\"SPL\",AX60=\"\"),3,IF(AND(AX61=0,AW61=0,AX60=\"SPA\"),4,IF(AND(AX61=0,AW61=\"SPL\",AX60=\"SPA\"),5,IF(AND(AX61=\"HP\",AW61=\"SPL\",AX60=\"SPA\"),6,IF(AND(AX61=\"HP\",AW61=0,AX60=\"SPA\"),7,IF(AND(AW60=10,AX61=0,AX60=\"STR\"),8,IF(AND(AW60=10,AX61=\"HP\",AX60=\"STR\"),9,IF(AND(AW60=20,AX61=0),10,IF(AND(AW60=20,AX61=\"HP\"),11,0)))))))))))","v":0},"Box 07",{"$f":"IF(AND(AZ61=\"HP\",AY61=0,AZ60=\"\"),1,IF(AND(AZ61=\"HP\",AY61=\"SPL\",AZ60=\"\"),2,IF(AND(AZ61=0,AY61=\"SPL\",AZ60=\"\"),3,IF(AND(AZ61=0,AY61=0,AZ60=\"SPA\"),4,IF(AND(AZ61=0,AY61=\"SPL\",AZ60=\"SPA\"),5,IF(AND(AZ61=\"HP\",AY61=\"SPL\",AZ60=\"SPA\"),6,IF(AND(AZ61=\"HP\",AY61=0,AZ60=\"SPA\"),7,IF(AND(AY60=10,AZ61=0,AZ60=\"STR\"),8,IF(AND(AY60=10,AZ61=\"HP\",AZ60=\"STR\"),9,IF(AND(AY60=20,AZ61=0),10,IF(AND(AY60=20,AZ61=\"HP\"),11,0)))))))))))","v":0},"Box 07",{"$f":"IF(AND(BB61=\"HP\",BA61=0,BB60=\"\"),1,IF(AND(BB61=\"HP\",BA61=\"SPL\",BB60=\"\"),2,IF(AND(BB61=0,BA61=\"SPL\",BB60=\"\"),3,IF(AND(BB61=0,BA61=0,BB60=\"SPA\"),4,IF(AND(BB61=0,BA61=\"SPL\",BB60=\"SPA\"),5,IF(AND(BB61=\"HP\",BA61=\"SPL\",BB60=\"SPA\"),6,IF(AND(BB61=\"HP\",BA61=0,BB60=\"SPA\"),7,IF(AND(BA60=10,BB61=0,BB60=\"STR\"),8,IF(AND(BA60=10,BB61=\"HP\",BB60=\"STR\"),9,IF(AND(BA60=20,BB61=0),10,IF(AND(BA60=20,BB61=\"HP\"),11,0)))))))))))","v":0},"Box 07",{"$f":"IF(AND(BD61=\"HP\",BC61=0,BD60=\"\"),1,IF(AND(BD61=\"HP\",BC61=\"SPL\",BD60=\"\"),2,IF(AND(BD61=0,BC61=\"SPL\",BD60=\"\"),3,IF(AND(BD61=0,BC61=0,BD60=\"SPA\"),4,IF(AND(BD61=0,BC61=\"SPL\",BD60=\"SPA\"),5,IF(AND(BD61=\"HP\",BC61=\"SPL\",BD60=\"SPA\"),6,IF(AND(BD61=\"HP\",BC61=0,BD60=\"SPA\"),7,IF(AND(BC60=10,BD61=0,BD60=\"STR\"),8,IF(AND(BC60=10,BD61=\"HP\",BD60=\"STR\"),9,IF(AND(BC60=20,BD61=0),10,IF(AND(BC60=20,BD61=\"HP\"),11,0)))))))))))","v":0},"Box 07",{"$f":"IF(AND(BF61=\"HP\",BE61=0,BF60=\"\"),1,IF(AND(BF61=\"HP\",BE61=\"SPL\",BF60=\"\"),2,IF(AND(BF61=0,BE61=\"SPL\",BF60=\"\"),3,IF(AND(BF61=0,BE61=0,BF60=\"SPA\"),4,IF(AND(BF61=0,BE61=\"SPL\",BF60=\"SPA\"),5,IF(AND(BF61=\"HP\",BE61=\"SPL\",BF60=\"SPA\"),6,IF(AND(BF61=\"HP\",BE61=0,BF60=\"SPA\"),7,IF(AND(BE60=10,BF61=0,BF60=\"STR\"),8,IF(AND(BE60=10,BF61=\"HP\",BF60=\"STR\"),9,IF(AND(BE60=20,BF61=0),10,IF(AND(BE60=20,BF61=\"HP\"),11,0)))))))))))","v":0}]
[]
[]
[null,null,null,null,null,null,null,null,null,null,null,null,null,null,null,null,null,null,"Box 08",{"$f":"IF(AND(T64=\"HP\",S64=0,T63=\"\"),1,IF(AND(T64=\"HP\",S64=\"SPL\",T63=\"\"),2,IF(AND(T64=0,S64=\"SPL\",T63=\"\"),3,IF(AND(T64=0,S64=0,T63=\"SPA\"),4,IF(AND(T64=0,S64=\"SPL\",T63=\"SPA\"),5,IF(AND(T64=\"HP\",S64=\"SPL\",T63=\"SPA\"),6,IF(AND(T64=\"HP\",S64=0,T63=\"SPA\"),7,IF(AND(S63=10,T64=0,T63=\"STR\"),8,IF(AND(S63=10,T64=\"HP\",T63=\"STR\"),9,IF(AND(S63=20,T64=0),10,IF(AND(S63=20,T64=\"HP\"),11,0)))))))))))","v":0},"Box 08",{"$f":"IF(AND(V64=\"HP\",U64=0,V63=\"\"),1,IF(AND(V64=\"HP\",U64=\"SPL\",V63=\"\"),2,IF(AND(V64=0,U64=\"SPL\",V63=\"\"),3,IF(AND(V64=0,U64=0,V63=\"SPA\"),4,IF(AND(V64=0,U64=\"SPL\",V63=\"SPA\"),5,IF(AND(V64=\"HP\",U64=\"SPL\",V63=\"SPA\"),6,IF(AND(V64=\"HP\",U64=0,V63=\"SPA\"),7,IF(AND(U63=10,V64=0,V63=\"STR\"),8,IF(AND(U63=10,V64=\"HP\",V63=\"STR\"),9,IF(AND(U63=20,V64=0),10,IF(AND(U63=20,V64=\"HP\"),11,0)))))))))))","v":0},"Box 08",{"$f":"IF(AND(X64=\"HP\",W64=0,X63=\"\"),1,IF(AND(X64=\"HP\",W64=\"SPL\",X63=\"\"),2,IF(AND(X64=0,W64=\"SPL\",X63=\"\"),3,IF(AND(X64=0,W64=0,X63=\"SPA\"),4,IF(AND(X64=0,W64=\"SPL\",X63=\"SPA\"),5,IF(AND(X64=\"HP\",W64=\"SPL\",X63=\"SPA\"),6,IF(AND(X64=\"HP\",W64=0,X63=\"SPA\"),7,IF(AND(W63=10,X64=0,X63=\"STR\"),8,IF(AND(W63=10,X64=\"HP\",X63=\"STR\"),9,IF(AND(W63=20,X64=0),10,IF(AND(W63=20,X64=\"HP\"),11,0)))))))))))","v":0},"Box 08",{"$f":"IF(AND(Z64=\"HP\",Y64=0,Z63=\"\"),1,IF(AND(Z64=\"HP\",Y64=\"SPL\",Z63=\"\"),2,IF(AND(Z64=0,Y64=\"SPL\",Z63=\"\"),3,IF(AND(Z64=0,Y64=0,Z63=\"SPA\"),4,IF(AND(Z64=0,Y64=\"SPL\",Z63=\"SPA\"),5,IF(AND(Z64=\"HP\",Y64=\"SPL\",Z63=\"SPA\"),6,IF(AND(Z64=\"HP\",Y64=0,Z63=\"SPA\"),7,IF(AND(Y63=10,Z64=0,Z63=\"STR\"),8,IF(AND(Y63=10,Z64=\"HP\",Z63=\"STR\"),9,IF(AND(Y63=20,Z64=0),10,IF(AND(Y63=20,Z64=\"HP\"),11,0)))))))))))","v":0},"Box 08",{"$f":"IF(AND(AB64=\"HP\",AA64=0,AB63=\"\"),1,IF(AND(AB64=\"HP\",AA64=\"SPL\",AB63=\"\"),2,IF(AND(AB64=0,AA64=\"SPL\",AB63=\"\"),3,IF(AND(AB64=0,AA64=0,AB63=\"SPA\"),4,IF(AND(AB64=0,AA64=\"SPL\",AB63=\"SPA\"),5,IF(AND(AB64=\"HP\",AA64=\"SPL\",AB63=\"SPA\"),6,IF(AND(AB64=\"HP\",AA64=0,AB63=\"SPA\"),7,IF(AND(AA63=10,AB64=0,AB63=\"STR\"),8,IF(AND(AA63=10,AB64=\"HP\",AB63=\"STR\"),9,IF(AND(AA63=20,AB64=0),10,IF(AND(AA63=20,AB64=\"HP\"),11,0)))))))))))","v":0},"Box 08",{"$f":"IF(AND(AD64=\"HP\",AC64=0,AD63=\"\"),1,IF(AND(AD64=\"HP\",AC64=\"SPL\",AD63=\"\"),2,IF(AND(AD64=0,AC64=\"SPL\",AD63=\"\"),3,IF(AND(AD64=0,AC64=0,AD63=\"SPA\"),4,IF(AND(AD64=0,AC64=\"SPL\",AD63=\"SPA\"),5,IF(AND(AD64=\"HP\",AC64=\"SPL\",AD63=\"SPA\"),6,IF(AND(AD64=\"HP\",AC64=0,AD63=\"SPA\"),7,IF(AND(AC63=10,AD64=0,AD63=\"STR\"),8,IF(AND(AC63=10,AD64=\"HP\",AD63=\"STR\"),9,IF(AND(AC63=20,AD64=0),10,IF(AND(AC63=20,AD64=\"HP\"),11,0)))))))))))","v":0},"Box 08",{"$f":"IF(AND(AF64=\"HP\",AE64=0,AF63=\"\"),1,IF(AND(AF64=\"HP\",AE64=\"SPL\",AF63=\"\"),2,IF(AND(AF64=0,AE64=\"SPL\",AF63=\"\"),3,IF(AND(AF64=0,AE64=0,AF63=\"SPA\"),4,IF(AND(AF64=0,AE64=\"SPL\",AF63=\"SPA\"),5,IF(AND(AF64=\"HP\",AE64=\"SPL\",AF63=\"SPA\"),6,IF(AND(AF64=\"HP\",AE64=0,AF63=\"SPA\"),7,IF(AND(AE63=10,AF64=0,AF63=\"STR\"),8,IF(AND(AE63=10,AF64=\"HP\",AF63=\"STR\"),9,IF(AND(AE63=20,AF64=0),10,IF(AND(AE63=20,AF64=\"HP\"),11,0)))))))))))","v":0},"Box 08",{"$f":"IF(AND(AH64=\"HP\",AG64=0,AH63=\"\"),1,IF(AND(AH64=\"HP\",AG64=\"SPL\",AH63=\"\"),2,IF(AND(AH64=0,AG64=\"SPL\",AH63=\"\"),3,IF(AND(AH64=0,AG64=0,AH63=\"SPA\"),4,IF(AND(AH64=0,AG64=\"SPL\",AH63=\"SPA\"),5,IF(AND(AH64=\"HP\",AG64=\"SPL\",AH63=\"SPA\"),6,IF(AND(AH64=\"HP\",AG64=0,AH63=\"SPA\"),7,IF(AND(AG63=10,AH64=0,AH63=\"STR\"),8,IF(AND(AG63=10,AH64=\"HP\",AH63=\"STR\"),9,IF(AND(AG63=20,AH64=0),10,IF(AND(AG63=20,AH64=\"HP\"),11,0)))))))))))","v":0},"Box 08",{"$f":"IF(AND(AJ64=\"HP\",AI64=0,AJ63=\"\"),1,IF(AND(AJ64=\"HP\",AI64=\"SPL\",AJ63=\"\"),2,IF(AND(AJ64=0,AI64=\"SPL\",AJ63=\"\"),3,IF(AND(AJ64=0,AI64=0,AJ63=\"SPA\"),4,IF(AND(AJ64=0,AI64=\"SPL\",AJ63=\"SPA\"),5,IF(AND(AJ64=\"HP\",AI64=\"SPL\",AJ63=\"SPA\"),6,IF(AND(AJ64=\"HP\",AI64=0,AJ63=\"SPA\"),7,IF(AND(AI63=10,AJ64=0,AJ63=\"STR\"),8,IF(AND(AI63=10,AJ64=\"HP\",AJ63=\"STR\"),9,IF(AND(AI63=20,AJ64=0),10,IF(AND(AI63=20,AJ64=\"HP\"),11,0)))))))))))","v":0},"Box 08",{"$f":"IF(AND(AL64=\"HP\",AK64=0,AL63=\"\"),1,IF(AND(AL64=\"HP\",AK64=\"SPL\",AL63=\"\"),2,IF(AND(AL64=0,AK64=\"SPL\",AL63=\"\"),3,IF(AND(AL64=0,AK64=0,AL63=\"SPA\"),4,IF(AND(AL64=0,AK64=\"SPL\",AL63=\"SPA\"),5,IF(AND(AL64=\"HP\",AK64=\"SPL\",AL63=\"SPA\"),6,IF(AND(AL64=\"HP\",AK64=0,AL63=\"SPA\"),7,IF(AND(AK63=10,AL64=0,AL63=\"STR\"),8,IF(AND(AK63=10,AL64=\"HP\",AL63=\"STR\"),9,IF(AND(AK63=20,AL64=0),10,IF(AND(AK63=20,AL64=\"HP\"),11,0)))))))))))","v":0},"Box 08",{"$f":"IF(AND(AN64=\"HP\",AM64=0,AN63=\"\"),1,IF(AND(AN64=\"HP\",AM64=\"SPL\",AN63=\"\"),2,IF(AND(AN64=0,AM64=\"SPL\",AN63=\"\"),3,IF(AND(AN64=0,AM64=0,AN63=\"SPA\"),4,IF(AND(AN64=0,AM64=\"SPL\",AN63=\"SPA\"),5,IF(AND(AN64=\"HP\",AM64=\"SPL\",AN63=\"SPA\"),6,IF(AND(AN64=\"HP\",AM64=0,AN63=\"SPA\"),7,IF(AND(AM63=10,AN64=0,AN63=\"STR\"),8,IF(AND(AM63=10,AN64=\"HP\",AN63=\"STR\"),9,IF(AND(AM63=20,AN64=0),10,IF(AND(AM63=20,AN64=\"HP\"),11,0)))))))))))","v":0},"Box 08",{"$f":"IF(AND(AP64=\"HP\",AO64=0,AP63=\"\"),1,IF(AND(AP64=\"HP\",AO64=\"SPL\",AP63=\"\"),2,IF(AND(AP64=0,AO64=\"SPL\",AP63=\"\"),3,IF(AND(AP64=0,AO64=0,AP63=\"SPA\"),4,IF(AND(AP64=0,AO64=\"SPL\",AP63=\"SPA\"),5,IF(AND(AP64=\"HP\",AO64=\"SPL\",AP63=\"SPA\"),6,IF(AND(AP64=\"HP\",AO64=0,AP63=\"SPA\"),7,IF(AND(AO63=10,AP64=0,AP63=\"STR\"),8,IF(AND(AO63=10,AP64=\"HP\",AP63=\"STR\"),9,IF(AND(AO63=20,AP64=0),10,IF(AND(AO63=20,AP64=\"HP\"),11,0)))))))))))","v":0},"Box 08",{"$f":"IF(AND(AR64=\"HP\",AQ64=0,AR63=\"\"),1,IF(AND(AR64=\"HP\",AQ64=\"SPL\",AR63=\"\"),2,IF(AND(AR64=0,AQ64=\"SPL\",AR63=\"\"),3,IF(AND(AR64=0,AQ64=0,AR63=\"SPA\"),4,IF(AND(AR64=0,AQ64=\"SPL\",AR63=\"SPA\"),5,IF(AND(AR64=\"HP\",AQ64=\"SPL\",AR63=\"SPA\"),6,IF(AND(AR64=\"HP\",AQ64=0,AR63=\"SPA\"),7,IF(AND(AQ63=10,AR64=0,AR63=\"STR\"),8,IF(AND(AQ63=10,AR64=\"HP\",AR63=\"STR\"),9,IF(AND(AQ63=20,AR64=0),10,IF(AND(AQ63=20,AR64=\"HP\"),11,0)))))))))))","v":0},"Box 08",{"$f":"IF(AND(AT64=\"HP\",AS64=0,AT63=\"\"),1,IF(AND(AT64=\"HP\",AS64=\"SPL\",AT63=\"\"),2,IF(AND(AT64=0,AS64=\"SPL\",AT63=\"\"),3,IF(AND(AT64=0,AS64=0,AT63=\"SPA\"),4,IF(AND(AT64=0,AS64=\"SPL\",AT63=\"SPA\"),5,IF(AND(AT64=\"HP\",AS64=\"SPL\",AT63=\"SPA\"),6,IF(AND(AT64=\"HP\",AS64=0,AT63=\"SPA\"),7,IF(AND(AS63=10,AT64=0,AT63=\"STR\"),8,IF(AND(AS63=10,AT64=\"HP\",AT63=\"STR\"),9,IF(AND(AS63=20,AT64=0),10,IF(AND(AS63=20,AT64=\"HP\"),11,0)))))))))))","v":0},"Box 08",{"$f":"IF(AND(AV64=\"HP\",AU64=0,AV63=\"\"),1,IF(AND(AV64=\"HP\",AU64=\"SPL\",AV63=\"\"),2,IF(AND(AV64=0,AU64=\"SPL\",AV63=\"\"),3,IF(AND(AV64=0,AU64=0,AV63=\"SPA\"),4,IF(AND(AV64=0,AU64=\"SPL\",AV63=\"SPA\"),5,IF(AND(AV64=\"HP\",AU64=\"SPL\",AV63=\"SPA\"),6,IF(AND(AV64=\"HP\",AU64=0,AV63=\"SPA\"),7,IF(AND(AU63=10,AV64=0,AV63=\"STR\"),8,IF(AND(AU63=10,AV64=\"HP\",AV63=\"STR\"),9,IF(AND(AU63=20,AV64=0),10,IF(AND(AU63=20,AV64=\"HP\"),11,0)))))))))))","v":0},"Box 08",{"$f":"IF(AND(AX64=\"HP\",AW64=0,AX63=\"\"),1,IF(AND(AX64=\"HP\",AW64=\"SPL\",AX63=\"\"),2,IF(AND(AX64=0,AW64=\"SPL\",AX63=\"\"),3,IF(AND(AX64=0,AW64=0,AX63=\"SPA\"),4,IF(AND(AX64=0,AW64=\"SPL\",AX63=\"SPA\"),5,IF(AND(AX64=\"HP\",AW64=\"SPL\",AX63=\"SPA\"),6,IF(AND(AX64=\"HP\",AW64=0,AX63=\"SPA\"),7,IF(AND(AW63=10,AX64=0,AX63=\"STR\"),8,IF(AND(AW63=10,AX64=\"HP\",AX63=\"STR\"),9,IF(AND(AW63=20,AX64=0),10,IF(AND(AW63=20,AX64=\"HP\"),11,0)))))))))))","v":0},"Box 08",{"$f":"IF(AND(AZ64=\"HP\",AY64=0,AZ63=\"\"),1,IF(AND(AZ64=\"HP\",AY64=\"SPL\",AZ63=\"\"),2,IF(AND(AZ64=0,AY64=\"SPL\",AZ63=\"\"),3,IF(AND(AZ64=0,AY64=0,AZ63=\"SPA\"),4,IF(AND(AZ64=0,AY64=\"SPL\",AZ63=\"SPA\"),5,IF(AND(AZ64=\"HP\",AY64=\"SPL\",AZ63=\"SPA\"),6,IF(AND(AZ64=\"HP\",AY64=0,AZ63=\"SPA\"),7,IF(AND(AY63=10,AZ64=0,AZ63=\"STR\"),8,IF(AND(AY63=10,AZ64=\"HP\",AZ63=\"STR\"),9,IF(AND(AY63=20,AZ64=0),10,IF(AND(AY63=20,AZ64=\"HP\"),11,0)))))))))))","v":0},"Box 08",{"$f":"IF(AND(BB64=\"HP\",BA64=0,BB63=\"\"),1,IF(AND(BB64=\"HP\",BA64=\"SPL\",BB63=\"\"),2,IF(AND(BB64=0,BA64=\"SPL\",BB63=\"\"),3,IF(AND(BB64=0,BA64=0,BB63=\"SPA\"),4,IF(AND(BB64=0,BA64=\"SPL\",BB63=\"SPA\"),5,IF(AND(BB64=\"HP\",BA64=\"SPL\",BB63=\"SPA\"),6,IF(AND(BB64=\"HP\",BA64=0,BB63=\"SPA\"),7,IF(AND(BA63=10,BB64=0,BB63=\"STR\"),8,IF(AND(BA63=10,BB64=\"HP\",BB63=\"STR\"),9,IF(AND(BA63=20,BB64=0),10,IF(AND(BA63=20,BB64=\"HP\"),11,0)))))))))))","v":0},"Box 08",{"$f":"IF(AND(BD64=\"HP\",BC64=0,BD63=\"\"),1,IF(AND(BD64=\"HP\",BC64=\"SPL\",BD63=\"\"),2,IF(AND(BD64=0,BC64=\"SPL\",BD63=\"\"),3,IF(AND(BD64=0,BC64=0,BD63=\"SPA\"),4,IF(AND(BD64=0,BC64=\"SPL\",BD63=\"SPA\"),5,IF(AND(BD64=\"HP\",BC64=\"SPL\",BD63=\"SPA\"),6,IF(AND(BD64=\"HP\",BC64=0,BD63=\"SPA\"),7,IF(AND(BC63=10,BD64=0,BD63=\"STR\"),8,IF(AND(BC63=10,BD64=\"HP\",BD63=\"STR\"),9,IF(AND(BC63=20,BD64=0),10,IF(AND(BC63=20,BD64=\"HP\"),11,0)))))))))))","v":0},"Box 08",{"$f":"IF(AND(BF64=\"HP\",BE64=0,BF63=\"\"),1,IF(AND(BF64=\"HP\",BE64=\"SPL\",BF63=\"\"),2,IF(AND(BF64=0,BE64=\"SPL\",BF63=\"\"),3,IF(AND(BF64=0,BE64=0,BF63=\"SPA\"),4,IF(AND(BF64=0,BE64=\"SPL\",BF63=\"SPA\"),5,IF(AND(BF64=\"HP\",BE64=\"SPL\",BF63=\"SPA\"),6,IF(AND(BF64=\"HP\",BE64=0,BF63=\"SPA\"),7,IF(AND(BE63=10,BF64=0,BF63=\"STR\"),8,IF(AND(BE63=10,BF64=\"HP\",BF63=\"STR\"),9,IF(AND(BE63=20,BF64=0),10,IF(AND(BE63=20,BF64=\"HP\"),11,0)))))))))))","v":0}]
[]
[]
[null,null,null,null,null,null,null,null,null,null,null,null,null,null,null,null,null,null,"Box 09",{"$f":"IF(AND(T67=\"HP\",S67=0,T66=\"\"),1,IF(AND(T67=\"HP\",S67=\"SPL\",T66=\"\"),2,IF(AND(T67=0,S67=\"SPL\",T66=\"\"),3,IF(AND(T67=0,S67=0,T66=\"SPA\"),4,IF(AND(T67=0,S67=\"SPL\",T66=\"SPA\"),5,IF(AND(T67=\"HP\",S67=\"SPL\",T66=\"SPA\"),6,IF(AND(T67=\"HP\",S67=0,T66=\"SPA\"),7,IF(AND(S66=10,T67=0,T66=\"STR\"),8,IF(AND(S66=10,T67=\"HP\",T66=\"STR\"),9,IF(AND(S66=20,T67=0),10,IF(AND(S66=20,T67=\"HP\"),11,0)))))))))))","v":0},"Box 09",{"$f":"IF(AND(V67=\"HP\",U67=0,V66=\"\"),1,IF(AND(V67=\"HP\",U67=\"SPL\",V66=\"\"),2,IF(AND(V67=0,U67=\"SPL\",V66=\"\"),3,IF(AND(V67=0,U67=0,V66=\"SPA\"),4,IF(AND(V67=0,U67=\"SPL\",V66=\"SPA\"),5,IF(AND(V67=\"HP\",U67=\"SPL\",V66=\"SPA\"),6,IF(AND(V67=\"HP\",U67=0,V66=\"SPA\"),7,IF(AND(U66=10,V67=0,V66=\"STR\"),8,IF(AND(U66=10,V67=\"HP\",V66=\"STR\"),9,IF(AND(U66=20,V67=0),10,IF(AND(U66=20,V67=\"HP\"),11,0)))))))))))","v":0},"Box 09",{"$f":"IF(AND(X67=\"HP\",W67=0,X66=\"\"),1,IF(AND(X67=\"HP\",W67=\"SPL\",X66=\"\"),2,IF(AND(X67=0,W67=\"SPL\",X66=\"\"),3,IF(AND(X67=0,W67=0,X66=\"SPA\"),4,IF(AND(X67=0,W67=\"SPL\",X66=\"SPA\"),5,IF(AND(X67=\"HP\",W67=\"SPL\",X66=\"SPA\"),6,IF(AND(X67=\"HP\",W67=0,X66=\"SPA\"),7,IF(AND(W66=10,X67=0,X66=\"STR\"),8,IF(AND(W66=10,X67=\"HP\",X66=\"STR\"),9,IF(AND(W66=20,X67=0),10,IF(AND(W66=20,X67=\"HP\"),11,0)))))))))))","v":0},"Box 09",{"$f":"IF(AND(Z67=\"HP\",Y67=0,Z66=\"\"),1,IF(AND(Z67=\"HP\",Y67=\"SPL\",Z66=\"\"),2,IF(AND(Z67=0,Y67=\"SPL\",Z66=\"\"),3,IF(AND(Z67=0,Y67=0,Z66=\"SPA\"),4,IF(AND(Z67=0,Y67=\"SPL\",Z66=\"SPA\"),5,IF(AND(Z67=\"HP\",Y67=\"SPL\",Z66=\"SPA\"),6,IF(AND(Z67=\"HP\",Y67=0,Z66=\"SPA\"),7,IF(AND(Y66=10,Z67=0,Z66=\"STR\"),8,IF(AND(Y66=10,Z67=\"HP\",Z66=\"STR\"),9,IF(AND(Y66=20,Z67=0),10,IF(AND(Y66=20,Z67=\"HP\"),11,0)))))))))))","v":0},"Box 09",{"$f":"IF(AND(AB67=\"HP\",AA67=0,AB66=\"\"),1,IF(AND(AB67=\"HP\",AA67=\"SPL\",AB66=\"\"),2,IF(AND(AB67=0,AA67=\"SPL\",AB66=\"\"),3,IF(AND(AB67=0,AA67=0,AB66=\"SPA\"),4,IF(AND(AB67=0,AA67=\"SPL\",AB66=\"SPA\"),5,IF(AND(AB67=\"HP\",AA67=\"SPL\",AB66=\"SPA\"),6,IF(AND(AB67=\"HP\",AA67=0,AB66=\"SPA\"),7,IF(AND(AA66=10,AB67=0,AB66=\"STR\"),8,IF(AND(AA66=10,AB67=\"HP\",AB66=\"STR\"),9,IF(AND(AA66=20,AB67=0),10,IF(AND(AA66=20,AB67=\"HP\"),11,0)))))))))))","v":0},"Box 09",{"$f":"IF(AND(AD67=\"HP\",AC67=0,AD66=\"\"),1,IF(AND(AD67=\"HP\",AC67=\"SPL\",AD66=\"\"),2,IF(AND(AD67=0,AC67=\"SPL\",AD66=\"\"),3,IF(AND(AD67=0,AC67=0,AD66=\"SPA\"),4,IF(AND(AD67=0,AC67=\"SPL\",AD66=\"SPA\"),5,IF(AND(AD67=\"HP\",AC67=\"SPL\",AD66=\"SPA\"),6,IF(AND(AD67=\"HP\",AC67=0,AD66=\"SPA\"),7,IF(AND(AC66=10,AD67=0,AD66=\"STR\"),8,IF(AND(AC66=10,AD67=\"HP\",AD66=\"STR\"),9,IF(AND(AC66=20,AD67=0),10,IF(AND(AC66=20,AD67=\"HP\"),11,0)))))))))))","v":0},"Box 09",{"$f":"IF(AND(AF67=\"HP\",AE67=0,AF66=\"\"),1,IF(AND(AF67=\"HP\",AE67=\"SPL\",AF66=\"\"),2,IF(AND(AF67=0,AE67=\"SPL\",AF66=\"\"),3,IF(AND(AF67=0,AE67=0,AF66=\"SPA\"),4,IF(AND(AF67=0,AE67=\"SPL\",AF66=\"SPA\"),5,IF(AND(AF67=\"HP\",AE67=\"SPL\",AF66=\"SPA\"),6,IF(AND(AF67=\"HP\",AE67=0,AF66=\"SPA\"),7,IF(AND(AE66=10,AF67=0,AF66=\"STR\"),8,IF(AND(AE66=10,AF67=\"HP\",AF66=\"STR\"),9,IF(AND(AE66=20,AF67=0),10,IF(AND(AE66=20,AF67=\"HP\"),11,0)))))))))))","v":0},"Box 09",{"$f":"IF(AND(AH67=\"HP\",AG67=0,AH66=\"\"),1,IF(AND(AH67=\"HP\",AG67=\"SPL\",AH66=\"\"),2,IF(AND(AH67=0,AG67=\"SPL\",AH66=\"\"),3,IF(AND(AH67=0,AG67=0,AH66=\"SPA\"),4,IF(AND(AH67=0,AG67=\"SPL\",AH66=\"SPA\"),5,IF(AND(AH67=\"HP\",AG67=\"SPL\",AH66=\"SPA\"),6,IF(AND(AH67=\"HP\",AG67=0,AH66=\"SPA\"),7,IF(AND(AG66=10,AH67=0,AH66=\"STR\"),8,IF(AND(AG66=10,AH67=\"HP\",AH66=\"STR\"),9,IF(AND(AG66=20,AH67=0),10,IF(AND(AG66=20,AH67=\"HP\"),11,0)))))))))))","v":0},"Box 09",{"$f":"IF(AND(AJ67=\"HP\",AI67=0,AJ66=\"\"),1,IF(AND(AJ67=\"HP\",AI67=\"SPL\",AJ66=\"\"),2,IF(AND(AJ67=0,AI67=\"SPL\",AJ66=\"\"),3,IF(AND(AJ67=0,AI67=0,AJ66=\"SPA\"),4,IF(AND(AJ67=0,AI67=\"SPL\",AJ66=\"SPA\"),5,IF(AND(AJ67=\"HP\",AI67=\"SPL\",AJ66=\"SPA\"),6,IF(AND(AJ67=\"HP\",AI67=0,AJ66=\"SPA\"),7,IF(AND(AI66=10,AJ67=0,AJ66=\"STR\"),8,IF(AND(AI66=10,AJ67=\"HP\",AJ66=\"STR\"),9,IF(AND(AI66=20,AJ67=0),10,IF(AND(AI66=20,AJ67=\"HP\"),11,0)))))))))))","v":0},"Box 09",{"$f":"IF(AND(AL67=\"HP\",AK67=0,AL66=\"\"),1,IF(AND(AL67=\"HP\",AK67=\"SPL\",AL66=\"\"),2,IF(AND(AL67=0,AK67=\"SPL\",AL66=\"\"),3,IF(AND(AL67=0,AK67=0,AL66=\"SPA\"),4,IF(AND(AL67=0,AK67=\"SPL\",AL66=\"SPA\"),5,IF(AND(AL67=\"HP\",AK67=\"SPL\",AL66=\"SPA\"),6,IF(AND(AL67=\"HP\",AK67=0,AL66=\"SPA\"),7,IF(AND(AK66=10,AL67=0,AL66=\"STR\"),8,IF(AND(AK66=10,AL67=\"HP\",AL66=\"STR\"),9,IF(AND(AK66=20,AL67=0),10,IF(AND(AK66=20,AL67=\"HP\"),11,0)))))))))))","v":0},"Box 09",{"$f":"IF(AND(AN67=\"HP\",AM67=0,AN66=\"\"),1,IF(AND(AN67=\"HP\",AM67=\"SPL\",AN66=\"\"),2,IF(AND(AN67=0,AM67=\"SPL\",AN66=\"\"),3,IF(AND(AN67=0,AM67=0,AN66=\"SPA\"),4,IF(AND(AN67=0,AM67=\"SPL\",AN66=\"SPA\"),5,IF(AND(AN67=\"HP\",AM67=\"SPL\",AN66=\"SPA\"),6,IF(AND(AN67=\"HP\",AM67=0,AN66=\"SPA\"),7,IF(AND(AM66=10,AN67=0,AN66=\"STR\"),8,IF(AND(AM66=10,AN67=\"HP\",AN66=\"STR\"),9,IF(AND(AM66=20,AN67=0),10,IF(AND(AM66=20,AN67=\"HP\"),11,0)))))))))))","v":0},"Box 09",{"$f":"IF(AND(AP67=\"HP\",AO67=0,AP66=\"\"),1,IF(AND(AP67=\"HP\",AO67=\"SPL\",AP66=\"\"),2,IF(AND(AP67=0,AO67=\"SPL\",AP66=\"\"),3,IF(AND(AP67=0,AO67=0,AP66=\"SPA\"),4,IF(AND(AP67=0,AO67=\"SPL\",AP66=\"SPA\"),5,IF(AND(AP67=\"HP\",AO67=\"SPL\",AP66=\"SPA\"),6,IF(AND(AP67=\"HP\",AO67=0,AP66=\"SPA\"),7,IF(AND(AO66=10,AP67=0,AP66=\"STR\"),8,IF(AND(AO66=10,AP67=\"HP\",AP66=\"STR\"),9,IF(AND(AO66=20,AP67=0),10,IF(AND(AO66=20,AP67=\"HP\"),11,0)))))))))))","v":0},"Box 09",{"$f":"IF(AND(AR67=\"HP\",AQ67=0,AR66=\"\"),1,IF(AND(AR67=\"HP\",AQ67=\"SPL\",AR66=\"\"),2,IF(AND(AR67=0,AQ67=\"SPL\",AR66=\"\"),3,IF(AND(AR67=0,AQ67=0,AR66=\"SPA\"),4,IF(AND(AR67=0,AQ67=\"SPL\",AR66=\"SPA\"),5,IF(AND(AR67=\"HP\",AQ67=\"SPL\",AR66=\"SPA\"),6,IF(AND(AR67=\"HP\",AQ67=0,AR66=\"SPA\"),7,IF(AND(AQ66=10,AR67=0,AR66=\"STR\"),8,IF(AND(AQ66=10,AR67=\"HP\",AR66=\"STR\"),9,IF(AND(AQ66=20,AR67=0),10,IF(AND(AQ66=20,AR67=\"HP\"),11,0)))))))))))","v":0},"Box 09",{"$f":"IF(AND(AT67=\"HP\",AS67=0,AT66=\"\"),1,IF(AND(AT67=\"HP\",AS67=\"SPL\",AT66=\"\"),2,IF(AND(AT67=0,AS67=\"SPL\",AT66=\"\"),3,IF(AND(AT67=0,AS67=0,AT66=\"SPA\"),4,IF(AND(AT67=0,AS67=\"SPL\",AT66=\"SPA\"),5,IF(AND(AT67=\"HP\",AS67=\"SPL\",AT66=\"SPA\"),6,IF(AND(AT67=\"HP\",AS67=0,AT66=\"SPA\"),7,IF(AND(AS66=10,AT67=0,AT66=\"STR\"),8,IF(AND(AS66=10,AT67=\"HP\",AT66=\"STR\"),9,IF(AND(AS66=20,AT67=0),10,IF(AND(AS66=20,AT67=\"HP\"),11,0)))))))))))","v":0},"Box 09",{"$f":"IF(AND(AV67=\"HP\",AU67=0,AV66=\"\"),1,IF(AND(AV67=\"HP\",AU67=\"SPL\",AV66=\"\"),2,IF(AND(AV67=0,AU67=\"SPL\",AV66=\"\"),3,IF(AND(AV67=0,AU67=0,AV66=\"SPA\"),4,IF(AND(AV67=0,AU67=\"SPL\",AV66=\"SPA\"),5,IF(AND(AV67=\"HP\",AU67=\"SPL\",AV66=\"SPA\"),6,IF(AND(AV67=\"HP\",AU67=0,AV66=\"SPA\"),7,IF(AND(AU66=10,AV67=0,AV66=\"STR\"),8,IF(AND(AU66=10,AV67=\"HP\",AV66=\"STR\"),9,IF(AND(AU66=20,AV67=0),10,IF(AND(AU66=20,AV67=\"HP\"),11,0)))))))))))","v":0},"Box 09",{"$f":"IF(AND(AX67=\"HP\",AW67=0,AX66=\"\"),1,IF(AND(AX67=\"HP\",AW67=\"SPL\",AX66=\"\"),2,IF(AND(AX67=0,AW67=\"SPL\",AX66=\"\"),3,IF(AND(AX67=0,AW67=0,AX66=\"SPA\"),4,IF(AND(AX67=0,AW67=\"SPL\",AX66=\"SPA\"),5,IF(AND(AX67=\"HP\",AW67=\"SPL\",AX66=\"SPA\"),6,IF(AND(AX67=\"HP\",AW67=0,AX66=\"SPA\"),7,IF(AND(AW66=10,AX67=0,AX66=\"STR\"),8,IF(AND(AW66=10,AX67=\"HP\",AX66=\"STR\"),9,IF(AND(AW66=20,AX67=0),10,IF(AND(AW66=20,AX67=\"HP\"),11,0)))))))))))","v":0},"Box 09",{"$f":"IF(AND(AZ67=\"HP\",AY67=0,AZ66=\"\"),1,IF(AND(AZ67=\"HP\",AY67=\"SPL\",AZ66=\"\"),2,IF(AND(AZ67=0,AY67=\"SPL\",AZ66=\"\"),3,IF(AND(AZ67=0,AY67=0,AZ66=\"SPA\"),4,IF(AND(AZ67=0,AY67=\"SPL\",AZ66=\"SPA\"),5,IF(AND(AZ67=\"HP\",AY67=\"SPL\",AZ66=\"SPA\"),6,IF(AND(AZ67=\"HP\",AY67=0,AZ66=\"SPA\"),7,IF(AND(AY66=10,AZ67=0,AZ66=\"STR\"),8,IF(AND(AY66=10,AZ67=\"HP\",AZ66=\"STR\"),9,IF(AND(AY66=20,AZ67=0),10,IF(AND(AY66=20,AZ67=\"HP\"),11,0)))))))))))","v":0},"Box 09",{"$f":"IF(AND(BB67=\"HP\",BA67=0,BB66=\"\"),1,IF(AND(BB67=\"HP\",BA67=\"SPL\",BB66=\"\"),2,IF(AND(BB67=0,BA67=\"SPL\",BB66=\"\"),3,IF(AND(BB67=0,BA67=0,BB66=\"SPA\"),4,IF(AND(BB67=0,BA67=\"SPL\",BB66=\"SPA\"),5,IF(AND(BB67=\"HP\",BA67=\"SPL\",BB66=\"SPA\"),6,IF(AND(BB67=\"HP\",BA67=0,BB66=\"SPA\"),7,IF(AND(BA66=10,BB67=0,BB66=\"STR\"),8,IF(AND(BA66=10,BB67=\"HP\",BB66=\"STR\"),9,IF(AND(BA66=20,BB67=0),10,IF(AND(BA66=20,BB67=\"HP\"),11,0)))))))))))","v":0},"Box 09",{"$f":"IF(AND(BD67=\"HP\",BC67=0,BD66=\"\"),1,IF(AND(BD67=\"HP\",BC67=\"SPL\",BD66=\"\"),2,IF(AND(BD67=0,BC67=\"SPL\",BD66=\"\"),3,IF(AND(BD67=0,BC67=0,BD66=\"SPA\"),4,IF(AND(BD67=0,BC67=\"SPL\",BD66=\"SPA\"),5,IF(AND(BD67=\"HP\",BC67=\"SPL\",BD66=\"SPA\"),6,IF(AND(BD67=\"HP\",BC67=0,BD66=\"SPA\"),7,IF(AND(BC66=10,BD67=0,BD66=\"STR\"),8,IF(AND(BC66=10,BD67=\"HP\",BD66=\"STR\"),9,IF(AND(BC66=20,BD67=0),10,IF(AND(BC66=20,BD67=\"HP\"),11,0)))))))))))","v":0},"Box 09",{"$f":"IF(AND(BF67=\"HP\",BE67=0,BF66=\"\"),1,IF(AND(BF67=\"HP\",BE67=\"SPL\",BF66=\"\"),2,IF(AND(BF67=0,BE67=\"SPL\",BF66=\"\"),3,IF(AND(BF67=0,BE67=0,BF66=\"SPA\"),4,IF(AND(BF67=0,BE67=\"SPL\",BF66=\"SPA\"),5,IF(AND(BF67=\"HP\",BE67=\"SPL\",BF66=\"SPA\"),6,IF(AND(BF67=\"HP\",BE67=0,BF66=\"SPA\"),7,IF(AND(BE66=10,BF67=0,BF66=\"STR\"),8,IF(AND(BE66=10,BF67=\"HP\",BF66=\"STR\"),9,IF(AND(BE66=20,BF67=0),10,IF(AND(BE66=20,BF67=\"HP\"),11,0)))))))))))","v":0}]
[]
[]
[null,null,null,null,null,null,null,null,null,null,null,null,null,null,null,null,null,null,"Box 10",{"$f":"IF(AND(T70=\"HP\",S70=0,T69=\"\"),1,IF(AND(T70=\"HP\",S70=\"SPL\",T69=\"\"),2,IF(AND(T70=0,S70=\"SPL\",T69=\"\"),3,IF(AND(T70=0,S70=0,T69=\"SPA\"),4,IF(AND(T70=0,S70=\"SPL\",T69=\"SPA\"),5,IF(AND(T70=\"HP\",S70=\"SPL\",T69=\"SPA\"),6,IF(AND(T70=\"HP\",S70=0,T69=\"SPA\"),7,IF(AND(S69=10,T70=0,T69=\"STR\"),8,IF(AND(S69=10,T70=\"HP\",T69=\"STR\"),9,IF(AND(S69=20,T70=0),10,IF(AND(S69=20,T70=\"HP\"),11,0)))))))))))","v":0},"Box 10",{"$f":"IF(AND(V70=\"HP\",U70=0,V69=\"\"),1,IF(AND(V70=\"HP\",U70=\"SPL\",V69=\"\"),2,IF(AND(V70=0,U70=\"SPL\",V69=\"\"),3,IF(AND(V70=0,U70=0,V69=\"SPA\"),4,IF(AND(V70=0,U70=\"SPL\",V69=\"SPA\"),5,IF(AND(V70=\"HP\",U70=\"SPL\",V69=\"SPA\"),6,IF(AND(V70=\"HP\",U70=0,V69=\"SPA\"),7,IF(AND(U69=10,V70=0,V69=\"STR\"),8,IF(AND(U69=10,V70=\"HP\",V69=\"STR\"),9,IF(AND(U69=20,V70=0),10,IF(AND(U69=20,V70=\"HP\"),11,0)))))))))))","v":0},"Box 10",{"$f":"IF(AND(X70=\"HP\",W70=0,X69=\"\"),1,IF(AND(X70=\"HP\",W70=\"SPL\",X69=\"\"),2,IF(AND(X70=0,W70=\"SPL\",X69=\"\"),3,IF(AND(X70=0,W70=0,X69=\"SPA\"),4,IF(AND(X70=0,W70=\"SPL\",X69=\"SPA\"),5,IF(AND(X70=\"HP\",W70=\"SPL\",X69=\"SPA\"),6,IF(AND(X70=\"HP\",W70=0,X69=\"SPA\"),7,IF(AND(W69=10,X70=0,X69=\"STR\"),8,IF(AND(W69=10,X70=\"HP\",X69=\"STR\"),9,IF(AND(W69=20,X70=0),10,IF(AND(W69=20,X70=\"HP\"),11,0)))))))))))","v":0},"Box 10",{"$f":"IF(AND(Z70=\"HP\",Y70=0,Z69=\"\"),1,IF(AND(Z70=\"HP\",Y70=\"SPL\",Z69=\"\"),2,IF(AND(Z70=0,Y70=\"SPL\",Z69=\"\"),3,IF(AND(Z70=0,Y70=0,Z69=\"SPA\"),4,IF(AND(Z70=0,Y70=\"SPL\",Z69=\"SPA\"),5,IF(AND(Z70=\"HP\",Y70=\"SPL\",Z69=\"SPA\"),6,IF(AND(Z70=\"HP\",Y70=0,Z69=\"SPA\"),7,IF(AND(Y69=10,Z70=0,Z69=\"STR\"),8,IF(AND(Y69=10,Z70=\"HP\",Z69=\"STR\"),9,IF(AND(Y69=20,Z70=0),10,IF(AND(Y69=20,Z70=\"HP\"),11,0)))))))))))","v":0},"Box 10",{"$f":"IF(AND(AB70=\"HP\",AA70=0,AB69=\"\"),1,IF(AND(AB70=\"HP\",AA70=\"SPL\",AB69=\"\"),2,IF(AND(AB70=0,AA70=\"SPL\",AB69=\"\"),3,IF(AND(AB70=0,AA70=0,AB69=\"SPA\"),4,IF(AND(AB70=0,AA70=\"SPL\",AB69=\"SPA\"),5,IF(AND(AB70=\"HP\",AA70=\"SPL\",AB69=\"SPA\"),6,IF(AND(AB70=\"HP\",AA70=0,AB69=\"SPA\"),7,IF(AND(AA69=10,AB70=0,AB69=\"STR\"),8,IF(AND(AA69=10,AB70=\"HP\",AB69=\"STR\"),9,IF(AND(AA69=20,AB70=0),10,IF(AND(AA69=20,AB70=\"HP\"),11,0)))))))))))","v":0},"Box 10",{"$f":"IF(AND(AD70=\"HP\",AC70=0,AD69=\"\"),1,IF(AND(AD70=\"HP\",AC70=\"SPL\",AD69=\"\"),2,IF(AND(AD70=0,AC70=\"SPL\",AD69=\"\"),3,IF(AND(AD70=0,AC70=0,AD69=\"SPA\"),4,IF(AND(AD70=0,AC70=\"SPL\",AD69=\"SPA\"),5,IF(AND(AD70=\"HP\",AC70=\"SPL\",AD69=\"SPA\"),6,IF(AND(AD70=\"HP\",AC70=0,AD69=\"SPA\"),7,IF(AND(AC69=10,AD70=0,AD69=\"STR\"),8,IF(AND(AC69=10,AD70=\"HP\",AD69=\"STR\"),9,IF(AND(AC69=20,AD70=0),10,IF(AND(AC69=20,AD70=\"HP\"),11,0)))))))))))","v":0},"Box 10",{"$f":"IF(AND(AF70=\"HP\",AE70=0,AF69=\"\"),1,IF(AND(AF70=\"HP\",AE70=\"SPL\",AF69=\"\"),2,IF(AND(AF70=0,AE70=\"SPL\",AF69=\"\"),3,IF(AND(AF70=0,AE70=0,AF69=\"SPA\"),4,IF(AND(AF70=0,AE70=\"SPL\",AF69=\"SPA\"),5,IF(AND(AF70=\"HP\",AE70=\"SPL\",AF69=\"SPA\"),6,IF(AND(AF70=\"HP\",AE70=0,AF69=\"SPA\"),7,IF(AND(AE69=10,AF70=0,AF69=\"STR\"),8,IF(AND(AE69=10,AF70=\"HP\",AF69=\"STR\"),9,IF(AND(AE69=20,AF70=0),10,IF(AND(AE69=20,AF70=\"HP\"),11,0)))))))))))","v":0},"Box 10",{"$f":"IF(AND(AH70=\"HP\",AG70=0,AH69=\"\"),1,IF(AND(AH70=\"HP\",AG70=\"SPL\",AH69=\"\"),2,IF(AND(AH70=0,AG70=\"SPL\",AH69=\"\"),3,IF(AND(AH70=0,AG70=0,AH69=\"SPA\"),4,IF(AND(AH70=0,AG70=\"SPL\",AH69=\"SPA\"),5,IF(AND(AH70=\"HP\",AG70=\"SPL\",AH69=\"SPA\"),6,IF(AND(AH70=\"HP\",AG70=0,AH69=\"SPA\"),7,IF(AND(AG69=10,AH70=0,AH69=\"STR\"),8,IF(AND(AG69=10,AH70=\"HP\",AH69=\"STR\"),9,IF(AND(AG69=20,AH70=0),10,IF(AND(AG69=20,AH70=\"HP\"),11,0)))))))))))","v":0},"Box 10",{"$f":"IF(AND(AJ70=\"HP\",AI70=0,AJ69=\"\"),1,IF(AND(AJ70=\"HP\",AI70=\"SPL\",AJ69=\"\"),2,IF(AND(AJ70=0,AI70=\"SPL\",AJ69=\"\"),3,IF(AND(AJ70=0,AI70=0,AJ69=\"SPA\"),4,IF(AND(AJ70=0,AI70=\"SPL\",AJ69=\"SPA\"),5,IF(AND(AJ70=\"HP\",AI70=\"SPL\",AJ69=\"SPA\"),6,IF(AND(AJ70=\"HP\",AI70=0,AJ69=\"SPA\"),7,IF(AND(AI69=10,AJ70=0,AJ69=\"STR\"),8,IF(AND(AI69=10,AJ70=\"HP\",AJ69=\"STR\"),9,IF(AND(AI69=20,AJ70=0),10,IF(AND(AI69=20,AJ70=\"HP\"),11,0)))))))))))","v":0},"Box 10",{"$f":"IF(AND(AL70=\"HP\",AK70=0,AL69=\"\"),1,IF(AND(AL70=\"HP\",AK70=\"SPL\",AL69=\"\"),2,IF(AND(AL70=0,AK70=\"SPL\",AL69=\"\"),3,IF(AND(AL70=0,AK70=0,AL69=\"SPA\"),4,IF(AND(AL70=0,AK70=\"SPL\",AL69=\"SPA\"),5,IF(AND(AL70=\"HP\",AK70=\"SPL\",AL69=\"SPA\"),6,IF(AND(AL70=\"HP\",AK70=0,AL69=\"SPA\"),7,IF(AND(AK69=10,AL70=0,AL69=\"STR\"),8,IF(AND(AK69=10,AL70=\"HP\",AL69=\"STR\"),9,IF(AND(AK69=20,AL70=0),10,IF(AND(AK69=20,AL70=\"HP\"),11,0)))))))))))","v":0},"Box 10",{"$f":"IF(AND(AN70=\"HP\",AM70=0,AN69=\"\"),1,IF(AND(AN70=\"HP\",AM70=\"SPL\",AN69=\"\"),2,IF(AND(AN70=0,AM70=\"SPL\",AN69=\"\"),3,IF(AND(AN70=0,AM70=0,AN69=\"SPA\"),4,IF(AND(AN70=0,AM70=\"SPL\",AN69=\"SPA\"),5,IF(AND(AN70=\"HP\",AM70=\"SPL\",AN69=\"SPA\"),6,IF(AND(AN70=\"HP\",AM70=0,AN69=\"SPA\"),7,IF(AND(AM69=10,AN70=0,AN69=\"STR\"),8,IF(AND(AM69=10,AN70=\"HP\",AN69=\"STR\"),9,IF(AND(AM69=20,AN70=0),10,IF(AND(AM69=20,AN70=\"HP\"),11,0)))))))))))","v":0},"Box 10",{"$f":"IF(AND(AP70=\"HP\",AO70=0,AP69=\"\"),1,IF(AND(AP70=\"HP\",AO70=\"SPL\",AP69=\"\"),2,IF(AND(AP70=0,AO70=\"SPL\",AP69=\"\"),3,IF(AND(AP70=0,AO70=0,AP69=\"SPA\"),4,IF(AND(AP70=0,AO70=\"SPL\",AP69=\"SPA\"),5,IF(AND(AP70=\"HP\",AO70=\"SPL\",AP69=\"SPA\"),6,IF(AND(AP70=\"HP\",AO70=0,AP69=\"SPA\"),7,IF(AND(AO69=10,AP70=0,AP69=\"STR\"),8,IF(AND(AO69=10,AP70=\"HP\",AP69=\"STR\"),9,IF(AND(AO69=20,AP70=0),10,IF(AND(AO69=20,AP70=\"HP\"),11,0)))))))))))","v":0},"Box 10",{"$f":"IF(AND(AR70=\"HP\",AQ70=0,AR69=\"\"),1,IF(AND(AR70=\"HP\",AQ70=\"SPL\",AR69=\"\"),2,IF(AND(AR70=0,AQ70=\"SPL\",AR69=\"\"),3,IF(AND(AR70=0,AQ70=0,AR69=\"SPA\"),4,IF(AND(AR70=0,AQ70=\"SPL\",AR69=\"SPA\"),5,IF(AND(AR70=\"HP\",AQ70=\"SPL\",AR69=\"SPA\"),6,IF(AND(AR70=\"HP\",AQ70=0,AR69=\"SPA\"),7,IF(AND(AQ69=10,AR70=0,AR69=\"STR\"),8,IF(AND(AQ69=10,AR70=\"HP\",AR69=\"STR\"),9,IF(AND(AQ69=20,AR70=0),10,IF(AND(AQ69=20,AR70=\"HP\"),11,0)))))))))))","v":0},"Box 10",{"$f":"IF(AND(AT70=\"HP\",AS70=0,AT69=\"\"),1,IF(AND(AT70=\"HP\",AS70=\"SPL\",AT69=\"\"),2,IF(AND(AT70=0,AS70=\"SPL\",AT69=\"\"),3,IF(AND(AT70=0,AS70=0,AT69=\"SPA\"),4,IF(AND(AT70=0,AS70=\"SPL\",AT69=\"SPA\"),5,IF(AND(AT70=\"HP\",AS70=\"SPL\",AT69=\"SPA\"),6,IF(AND(AT70=\"HP\",AS70=0,AT69=\"SPA\"),7,IF(AND(AS69=10,AT70=0,AT69=\"STR\"),8,IF(AND(AS69=10,AT70=\"HP\",AT69=\"STR\"),9,IF(AND(AS69=20,AT70=0),10,IF(AND(AS69=20,AT70=\"HP\"),11,0)))))))))))","v":0},"Box 10",{"$f":"IF(AND(AV70=\"HP\",AU70=0,AV69=\"\"),1,IF(AND(AV70=\"HP\",AU70=\"SPL\",AV69=\"\"),2,IF(AND(AV70=0,AU70=\"SPL\",AV69=\"\"),3,IF(AND(AV70=0,AU70=0,AV69=\"SPA\"),4,IF(AND(AV70=0,AU70=\"SPL\",AV69=\"SPA\"),5,IF(AND(AV70=\"HP\",AU70=\"SPL\",AV69=\"SPA\"),6,IF(AND(AV70=\"HP\",AU70=0,AV69=\"SPA\"),7,IF(AND(AU69=10,AV70=0,AV69=\"STR\"),8,IF(AND(AU69=10,AV70=\"HP\",AV69=\"STR\"),9,IF(AND(AU69=20,AV70=0),10,IF(AND(AU69=20,AV70=\"HP\"),11,0)))))))))))","v":0},"Box 10",{"$f":"IF(AND(AX70=\"HP\",AW70=0,AX69=\"\"),1,IF(AND(AX70=\"HP\",AW70=\"SPL\",AX69=\"\"),2,IF(AND(AX70=0,AW70=\"SPL\",AX69=\"\"),3,IF(AND(AX70=0,AW70=0,AX69=\"SPA\"),4,IF(AND(AX70=0,AW70=\"SPL\",AX69=\"SPA\"),5,IF(AND(AX70=\"HP\",AW70=\"SPL\",AX69=\"SPA\"),6,IF(AND(AX70=\"HP\",AW70=0,AX69=\"SPA\"),7,IF(AND(AW69=10,AX70=0,AX69=\"STR\"),8,IF(AND(AW69=10,AX70=\"HP\",AX69=\"STR\"),9,IF(AND(AW69=20,AX70=0),10,IF(AND(AW69=20,AX70=\"HP\"),11,0)))))))))))","v":0},"Box 10",{"$f":"IF(AND(AZ70=\"HP\",AY70=0,AZ69=\"\"),1,IF(AND(AZ70=\"HP\",AY70=\"SPL\",AZ69=\"\"),2,IF(AND(AZ70=0,AY70=\"SPL\",AZ69=\"\"),3,IF(AND(AZ70=0,AY70=0,AZ69=\"SPA\"),4,IF(AND(AZ70=0,AY70=\"SPL\",AZ69=\"SPA\"),5,IF(AND(AZ70=\"HP\",AY70=\"SPL\",AZ69=\"SPA\"),6,IF(AND(AZ70=\"HP\",AY70=0,AZ69=\"SPA\"),7,IF(AND(AY69=10,AZ70=0,AZ69=\"STR\"),8,IF(AND(AY69=10,AZ70=\"HP\",AZ69=\"STR\"),9,IF(AND(AY69=20,AZ70=0),10,IF(AND(AY69=20,AZ70=\"HP\"),11,0)))))))))))","v":0},"Box 10",{"$f":"IF(AND(BB70=\"HP\",BA70=0,BB69=\"\"),1,IF(AND(BB70=\"HP\",BA70=\"SPL\",BB69=\"\"),2,IF(AND(BB70=0,BA70=\"SPL\",BB69=\"\"),3,IF(AND(BB70=0,BA70=0,BB69=\"SPA\"),4,IF(AND(BB70=0,BA70=\"SPL\",BB69=\"SPA\"),5,IF(AND(BB70=\"HP\",BA70=\"SPL\",BB69=\"SPA\"),6,IF(AND(BB70=\"HP\",BA70=0,BB69=\"SPA\"),7,IF(AND(BA69=10,BB70=0,BB69=\"STR\"),8,IF(AND(BA69=10,BB70=\"HP\",BB69=\"STR\"),9,IF(AND(BA69=20,BB70=0),10,IF(AND(BA69=20,BB70=\"HP\"),11,0)))))))))))","v":0},"Box 10",{"$f":"IF(AND(BD70=\"HP\",BC70=0,BD69=\"\"),1,IF(AND(BD70=\"HP\",BC70=\"SPL\",BD69=\"\"),2,IF(AND(BD70=0,BC70=\"SPL\",BD69=\"\"),3,IF(AND(BD70=0,BC70=0,BD69=\"SPA\"),4,IF(AND(BD70=0,BC70=\"SPL\",BD69=\"SPA\"),5,IF(AND(BD70=\"HP\",BC70=\"SPL\",BD69=\"SPA\"),6,IF(AND(BD70=\"HP\",BC70=0,BD69=\"SPA\"),7,IF(AND(BC69=10,BD70=0,BD69=\"STR\"),8,IF(AND(BC69=10,BD70=\"HP\",BD69=\"STR\"),9,IF(AND(BC69=20,BD70=0),10,IF(AND(BC69=20,BD70=\"HP\"),11,0)))))))))))","v":0},"Box 10",{"$f":"IF(AND(BF70=\"HP\",BE70=0,BF69=\"\"),1,IF(AND(BF70=\"HP\",BE70=\"SPL\",BF69=\"\"),2,IF(AND(BF70=0,BE70=\"SPL\",BF69=\"\"),3,IF(AND(BF70=0,BE70=0,BF69=\"SPA\"),4,IF(AND(BF70=0,BE70=\"SPL\",BF69=\"SPA\"),5,IF(AND(BF70=\"HP\",BE70=\"SPL\",BF69=\"SPA\"),6,IF(AND(BF70=\"HP\",BE70=0,BF69=\"SPA\"),7,IF(AND(BE69=10,BF70=0,BF69=\"STR\"),8,IF(AND(BE69=10,BF70=\"HP\",BF69=\"STR\"),9,IF(AND(BE69=20,BF70=0),10,IF(AND(BE69=20,BF70=\"HP\"),11,0)))))))))))","v":0}]
[]
[]
[null,null,null,null,null,null,null,null,null,null,null,null,null,null,null,null,null,null,"HPs",{"$f":"COUNTIF(T42:T71,\"HP\")","v":0},"HPs",{"$f":"COUNTIF(V42:V71,\"HP\")","v":0},"HPs",{"$f":"COUNTIF(X42:X71,\"HP\")","v":0},"HPs",{"$f":"COUNTIF(Z42:Z71,\"HP\")","v":0},"HPs",{"$f":"COUNTIF(AB42:AB71,\"HP\")","v":0},"HPs",{"$f":"COUNTIF(AD42:AD71,\"HP\")","v":0},"HPs",{"$f":"COUNTIF(AF42:AF71,\"HP\")","v":0},"HPs",{"$f":"COUNTIF(AH42:AH71,\"HP\")","v":0},"HPs",{"$f":"COUNTIF(AJ42:AJ71,\"HP\")","v":0},"HPs",{"$f":"COUNTIF(AL42:AL71,\"HP\")","v":0},"HPs",{"$f":"COUNTIF(AN42:AN71,\"HP\")","v":0},"HPs",{"$f":"COUNTIF(AP42:AP71,\"HP\")","v":0},"HPs",{"$f":"COUNTIF(AR42:AR71,\"HP\")","v":0},"HPs",{"$f":"COUNTIF(AT42:AT71,\"HP\")","v":0},"HPs",{"$f":"COUNTIF(AV42:AV71,\"HP\")","v":0},"HPs",{"$f":"COUNTIF(AX42:AX71,\"HP\")","v":0},"HPs",{"$f":"COUNTIF(AZ42:AZ71,\"HP\")","v":0},"HPs",{"$f":"COUNTIF(BB42:BB71,\"HP\")","v":0},"HPs",{"$f":"COUNTIF(BD42:BD71,\"HP\")","v":0},"HPs",{"$f":"COUNTIF(BF42:BF71,\"HP\")","v":0}]
[null,null,null,null,null,null,null,null,null,null,null,null,null,null,null,null,null,null,"Splits",{"$f":"COUNTIF(S42:S71,\"SPL\")","v":0},"Splits",{"$f":"COUNTIF(U42:U71,\"SPL\")","v":0},"Splits",{"$f":"COUNTIF(W42:W71,\"SPL\")","v":0},"Splits",{"$f":"COUNTIF(Y42:Y71,\"SPL\")","v":0},"Splits",{"$f":"COUNTIF(AA42:AA71,\"SPL\")","v":0},"Splits",{"$f":"COUNTIF(AC42:AC71,\"SPL\")","v":0},"Splits",{"$f":"COUNTIF(AE42:AE71,\"SPL\")","v":0},"Splits",{"$f":"COUNTIF(AG42:AG71,\"SPL\")","v":0},"Splits",{"$f":"COUNTIF(AI42:AI71,\"SPL\")","v":0},"Splits",{"$f":"COUNTIF(AK42:AK71,\"SPL\")","v":0},"Splits",{"$f":"COUNTIF(AM42:AM71,\"SPL\")","v":0},"Splits",{"$f":"COUNTIF(AO42:AO71,\"SPL\")","v":0},"Splits",{"$f":"COUNTIF(AQ42:AQ71,\"SPL\")","v":0},"Splits",{"$f":"COUNTIF(AS42:AS71,\"SPL\")","v":0},"Splits",{"$f":"COUNTIF(AU42:AU71,\"SPL\")","v":0},"Splits",{"$f":"COUNTIF(AW42:AW71,\"SPL\")","v":0},"Splits",{"$f":"COUNTIF(AY42:AY71,\"SPL\")","v":0},"Splits",{"$f":"COUNTIF(BA42:BA71,\"SPL\")","v":0},"Splits",{"$f":"COUNTIF(BC42:BC71,\"SPL\")","v":0},"Splits",{"$f":"COUNTIF(BE42:BE71,\"SPL\")","v":0}]
[null,null,null,null,null,null,null,null,null,null,null,null,null,null,null,null,null,null,"Strikes",{"$f":"COUNTIF(T42:T71,\"STR\")+IF(AND(T69=\"SPA\",S31=\"X\"),1,0)+IF(S69=20,1,0)+IF(AND(S69=20,S31=\"X\"),1,0)","v":0},"Strikes",{"$f":"COUNTIF(V42:V71,\"STR\")+IF(AND(V69=\"SPA\",U31=\"X\"),1,0)+IF(U69=20,1,0)+IF(AND(U69=20,U31=\"X\"),1,0)","v":0},"Strikes",{"$f":"COUNTIF(X42:X71,\"STR\")+IF(AND(X69=\"SPA\",W31=\"X\"),1,0)+IF(W69=20,1,0)+IF(AND(W69=20,W31=\"X\"),1,0)","v":0},"Strikes",{"$f":"COUNTIF(Z42:Z71,\"STR\")+IF(AND(Z69=\"SPA\",Y31=\"X\"),1,0)+IF(Y69=20,1,0)+IF(AND(Y69=20,Y31=\"X\"),1,0)","v":0},"Strikes",{"$f":"COUNTIF(AB42:AB71,\"STR\")+IF(AND(AB69=\"SPA\",AA31=\"X\"),1,0)+IF(AA69=20,1,0)+IF(AND(AA69=20,AA31=\"X\"),1,0)","v":0},"Strikes",{"$f":"COUNTIF(AD42:AD71,\"STR\")+IF(AND(AD69=\"SPA\",AC31=\"X\"),1,0)+IF(AC69=20,1,0)+IF(AND(AC69=20,AC31=\"X\"),1,0)","v":0},"Strikes",{"$f":"COUNTIF(AF42:AF71,\"STR\")+IF(AND(AF69=\"SPA\",AE31=\"X\"),1,0)+IF(AE69=20,1,0)+IF(AND(AE69=20,AE31=\"X\"),1,0)","v":0},"Strikes",{"$f":"COUNTIF(AH42:AH71,\"STR\")+IF(AND(AH69=\"SPA\",AG31=\"X\"),1,0)+IF(AG69=20,1,0)+IF(AND(AG69=20,AG31=\"X\"),1,0)","v":0},"Strikes",{"$f":"COUNTIF(AJ42:AJ71,\"STR\")+IF(AND(AJ69=\"SPA\",AI31=\"X\"),1,0)+IF(AI69=20,1,0)+IF(AND(AI69=20,AI31=\"X\"),1,0)","v":0},"Strikes",{"$f":"COUNTIF(AL42:AL71,\"STR\")+IF(AND(AL69=\"SPA\",AK31=\"X\"),1,0)+IF(AK69=20,1,0)+IF(AND(AK69=20,AK31=\"X\"),1,0)","v":0},"Strikes",{"$f":"COUNTIF(AN42:AN71,\"STR\")+IF(AND(AN69=\"SPA\",AM31=\"X\"),1,0)+IF(AM69=20,1,0)+IF(AND(AM69=20,AM31=\"X\"),1,0)","v":0},"Strikes",{"$f":"COUNTIF(AP42:AP71,\"STR\")+IF(AND(AP69=\"SPA\",AO31=\"X\"),1,0)+IF(AO69=20,1,0)+IF(AND(AO69=20,AO31=\"X\"),1,0)","v":0},"Strikes",{"$f":"COUNTIF(AR42:AR71,\"STR\")+IF(AND(AR69=\"SPA\",AQ31=\"X\"),1,0)+IF(AQ69=20,1,0)+IF(AND(AQ69=20,AQ31=\"X\"),1,0)","v":0},"Strikes",{"$f":"COUNTIF(AT42:AT71,\"STR\")+IF(AND(AT69=\"SPA\",AS31=\"X\"),1,0)+IF(AS69=20,1,0)+IF(AND(AS69=20,AS31=\"X\"),1,0)","v":0},"Strikes",{"$f":"COUNTIF(AV42:AV71,\"STR\")+IF(AND(AV69=\"SPA\",AU31=\"X\"),1,0)+IF(AU69=20,1,0)+IF(AND(AU69=20,AU31=\"X\"),1,0)","v":0},"Strikes",{"$f":"COUNTIF(AX42:AX71,\"STR\")+IF(AND(AX69=\"SPA\",AW31=\"X\"),1,0)+IF(AW69=20,1,0)+IF(AND(AW69=20,AW31=\"X\"),1,0)","v":0},"Strikes",{"$f":"COUNTIF(AZ42:AZ71,\"STR\")+IF(AND(AZ69=\"SPA\",AY31=\"X\"),1,0)+IF(AY69=20,1,0)+IF(AND(AY69=20,AY31=\"X\"),1,0)","v":0},"Strikes",{"$f":"COUNTIF(BB42:BB71,\"STR\")+IF(AND(BB69=\"SPA\",BA31=\"X\"),1,0)+IF(BA69=20,1,0)+IF(AND(BA69=20,BA31=\"X\"),1,0)","v":0},"Strikes",{"$f":"COUNTIF(BD42:BD71,\"STR\")+IF(AND(BD69=\"SPA\",BC31=\"X\"),1,0)+IF(BC69=20,1,0)+IF(AND(BC69=20,BC31=\"X\"),1,0)","v":0},"Strikes",{"$f":"COUNTIF(BF42:BF71,\"STR\")+IF(AND(BF69=\"SPA\",BE31=\"X\"),1,0)+IF(BE69=20,1,0)+IF(AND(BE69=20,BE31=\"X\"),1,0)","v":0}]
[null,null,null,null,null,null,null,null,null,null,null,null,null,null,null,null,null,null,"Spares",{"$f":"COUNTIF(T42:T71,\"SPA\")+IF(AND(T69=\"STR\",S31=\"X\",S69=10),1,0)","v":0},"Spares",{"$f":"COUNTIF(V42:V71,\"SPA\")+IF(AND(V69=\"STR\",U31=\"X\",U69=10),1,0)","v":0},"Spares",{"$f":"COUNTIF(X42:X71,\"SPA\")+IF(AND(X69=\"STR\",W31=\"X\",W69=10),1,0)","v":0},"Spares",{"$f":"COUNTIF(Z42:Z71,\"SPA\")+IF(AND(Z69=\"STR\",Y31=\"X\",Y69=10),1,0)","v":0},"Spares",{"$f":"COUNTIF(AB42:AB71,\"SPA\")+IF(AND(AB69=\"STR\",AA31=\"X\",AA69=10),1,0)","v":0},"Spares",{"$f":"COUNTIF(AD42:AD71,\"SPA\")+IF(AND(AD69=\"STR\",AC31=\"X\",AC69=10),1,0)","v":0},"Spares",{"$f":"COUNTIF(AF42:AF71,\"SPA\")+IF(AND(AF69=\"STR\",AE31=\"X\",AE69=10),1,0)","v":0},"Spares",{"$f":"COUNTIF(AH42:AH71,\"SPA\")+IF(AND(AH69=\"STR\",AG31=\"X\",AG69=10),1,0)","v":0},"Spares",{"$f":"COUNTIF(AJ42:AJ71,\"SPA\")+IF(AND(AJ69=\"STR\",AI31=\"X\",AI69=10),1,0)","v":0},"Spares",{"$f":"COUNTIF(AL42:AL71,\"SPA\")+IF(AND(AL69=\"STR\",AK31=\"X\",AK69=10),1,0)","v":0},"Spares",{"$f":"COUNTIF(AN42:AN71,\"SPA\")+IF(AND(AN69=\"STR\",AM31=\"X\",AM69=10),1,0)","v":0},"Spares",{"$f":"COUNTIF(AP42:AP71,\"SPA\")+IF(AND(AP69=\"STR\",AO31=\"X\",AO69=10),1,0)","v":0},"Spares",{"$f":"COUNTIF(AR42:AR71,\"SPA\")+IF(AND(AR69=\"STR\",AQ31=\"X\",AQ69=10),1,0)","v":0},"Spares",{"$f":"COUNTIF(AT42:AT71,\"SPA\")+IF(AND(AT69=\"STR\",AS31=\"X\",AS69=10),1,0)","v":0},"Spares",{"$f":"COUNTIF(AV42:AV71,\"SPA\")+IF(AND(AV69=\"STR\",AU31=\"X\",AU69=10),1,0)","v":0},"Spares",{"$f":"COUNTIF(AX42:AX71,\"SPA\")+IF(AND(AX69=\"STR\",AW31=\"X\",AW69=10),1,0)","v":0},"Spares",{"$f":"COUNTIF(AZ42:AZ71,\"SPA\")+IF(AND(AZ69=\"STR\",AY31=\"X\",AY69=10),1,0)","v":0},"Spares",{"$f":"COUNTIF(BB42:BB71,\"SPA\")+IF(AND(BB69=\"STR\",BA31=\"X\",BA69=10),1,0)","v":0},"Spares",{"$f":"COUNTIF(BD42:BD71,\"SPA\")+IF(AND(BD69=\"STR\",BC31=\"X\",BC69=10),1,0)","v":0},"Spares",{"$f":"COUNTIF(BF42:BF71,\"SPA\")+IF(AND(BF69=\"STR\",BE31=\"X\",BE69=10),1,0)","v":0}]
[null,null,null,null,null,null,null,null,null,null,null,null,null,null,null,null,null,null,"Tens",{"$f":"COUNTIF(S4:S33,\"10\")","v":0},"Tens",{"$f":"COUNTIF(U4:U33,\"10\")","v":0},"Tens",{"$f":"COUNTIF(W4:W33,\"10\")","v":0},"Tens",{"$f":"COUNTIF(Y4:Y33,\"10\")","v":0},"Tens",{"$f":"COUNTIF(AA4:AA33,\"10\")","v":0},"Tens",{"$f":"COUNTIF(AC4:AC33,\"10\")","v":0},"Tens",{"$f":"COUNTIF(AE4:AE33,\"10\")","v":0},"Tens",{"$f":"COUNTIF(AG4:AG33,\"10\")","v":0},"Tens",{"$f":"COUNTIF(AI4:AI33,\"10\")","v":0},"Tens",{"$f":"COUNTIF(AK4:AK33,\"10\")","v":0},"Tens",{"$f":"COUNTIF(AM4:AM33,\"10\")","v":0},"Tens",{"$f":"COUNTIF(AO4:AO33,\"10\")","v":0},"Tens",{"$f":"COUNTIF(AQ4:AQ33,\"10\")","v":0},"Tens",{"$f":"COUNTIF(AS4:AS33,\"10\")","v":0},"Tens",{"$f":"COUNTIF(AU4:AU33,\"10\")","v":0},"Tens",{"$f":"COUNTIF(AW4:AW33,\"10\")","v":0},"Tens",{"$f":"COUNTIF(AY4:AY33,\"10\")","v":0},"Tens",{"$f":"COUNTIF(BA4:BA33,\"10\")","v":0},"Tens",{"$f":"COUNTIF(BC4:BC33,\"10\")","v":0},"Tens",{"$f":"COUNTIF(BE4:BE33,\"10\")","v":0}]
[null,null,null,null,null,null,null,null,null,null,null,null,null,null,null,null,null,null,"Standing",{"$f":"SUM((IF(AND(S4<>\"\",S42=0),10-S4))+(IF(AND(S7<>\"\",S45=0),10-S7))+(IF(AND(S10<>\"\",S48=0),10-S10))+(IF(AND(S13<>\"\",S51=0),10-S13))+(IF(AND(S16<>\"\",S54=0),10-S16))+(IF(AND(S19<>\"\",S57=0),10-S19))+(IF(AND(S22<>\"\",S60=0),10-S22))+(IF(AND(S25<>\"\",S63=0),10-S25))+(IF(AND(S28<>\"\",S66=0),10-S28))+(IF(AND(S31<>\"\",S69=0),10-S31)))","v":0},"Standing",{"$f":"SUM((IF(AND(U4<>\"\",U42=0),10-U4))+(IF(AND(U7<>\"\",U45=0),10-U7))+(IF(AND(U10<>\"\",U48=0),10-U10))+(IF(AND(U13<>\"\",U51=0),10-U13))+(IF(AND(U16<>\"\",U54=0),10-U16))+(IF(AND(U19<>\"\",U57=0),10-U19))+(IF(AND(U22<>\"\",U60=0),10-U22))+(IF(AND(U25<>\"\",U63=0),10-U25))+(IF(AND(U28<>\"\",U66=0),10-U28))+(IF(AND(U31<>\"\",U69=0),10-U31)))","v":0},"Standing",{"$f":"SUM((IF(AND(W4<>\"\",W42=0),10-W4))+(IF(AND(W7<>\"\",W45=0),10-W7))+(IF(AND(W10<>\"\",W48=0),10-W10))+(IF(AND(W13<>\"\",W51=0),10-W13))+(IF(AND(W16<>\"\",W54=0),10-W16))+(IF(AND(W19<>\"\",W57=0),10-W19))+(IF(AND(W22<>\"\",W60=0),10-W22))+(IF(AND(W25<>\"\",W63=0),10-W25))+(IF(AND(W28<>\"\",W66=0),10-W28))+(IF(AND(W31<>\"\",W69=0),10-W31)))","v":0},"Standing",{"$f":"SUM((IF(AND(Y4<>\"\",Y42=0),10-Y4))+(IF(AND(Y7<>\"\",Y45=0),10-Y7))+(IF(AND(Y10<>\"\",Y48=0),10-Y10))+(IF(AND(Y13<>\"\",Y51=0),10-Y13))+(IF(AND(Y16<>\"\",Y54=0),10-Y16))+(IF(AND(Y19<>\"\",Y57=0),10-Y19))+(IF(AND(Y22<>\"\",Y60=0),10-Y22))+(IF(AND(Y25<>\"\",Y63=0),10-Y25))+(IF(AND(Y28<>\"\",Y66=0),10-Y28))+(IF(AND(Y31<>\"\",Y69=0),10-Y31)))","v":0},"Standing",{"$f":"SUM((IF(AND(AA4<>\"\",AA42=0),10-AA4))+(IF(AND(AA7<>\"\",AA45=0),10-AA7))+(IF(AND(AA10<>\"\",AA48=0),10-AA10))+(IF(AND(AA13<>\"\",AA51=0),10-AA13))+(IF(AND(AA16<>\"\",AA54=0),10-AA16))+(IF(AND(AA19<>\"\",AA57=0),10-AA19))+(IF(AND(AA22<>\"\",AA60=0),10-AA22))+(IF(AND(AA25<>\"\",AA63=0),10-AA25))+(IF(AND(AA28<>\"\",AA66=0),10-AA28))+(IF(AND(AA31<>\"\",AA69=0),10-AA31)))","v":0},"Standing",{"$f":"SUM((IF(AND(AC4<>\"\",AC42=0),10-AC4))+(IF(AND(AC7<>\"\",AC45=0),10-AC7))+(IF(AND(AC10<>\"\",AC48=0),10-AC10))+(IF(AND(AC13<>\"\",AC51=0),10-AC13))+(IF(AND(AC16<>\"\",AC54=0),10-AC16))+(IF(AND(AC19<>\"\",AC57=0),10-AC19))+(IF(AND(AC22<>\"\",AC60=0),10-AC22))+(IF(AND(AC25<>\"\",AC63=0),10-AC25))+(IF(AND(AC28<>\"\",AC66=0),10-AC28))+(IF(AND(AC31<>\"\",AC69=0),10-AC31)))","v":0},"Standing",{"$f":"SUM((IF(AND(AE4<>\"\",AE42=0),10-AE4))+(IF(AND(AE7<>\"\",AE45=0),10-AE7))+(IF(AND(AE10<>\"\",AE48=0),10-AE10))+(IF(AND(AE13<>\"\",AE51=0),10-AE13))+(IF(AND(AE16<>\"\",AE54=0),10-AE16))+(IF(AND(AE19<>\"\",AE57=0),10-AE19))+(IF(AND(AE22<>\"\",AE60=0),10-AE22))+(IF(AND(AE25<>\"\",AE63=0),10-AE25))+(IF(AND(AE28<>\"\",AE66=0),10-AE28))+(IF(AND(AE31<>\"\",AE69=0),10-AE31)))","v":0},"Standing",{"$f":"SUM((IF(AND(AG4<>\"\",AG42=0),10-AG4))+(IF(AND(AG7<>\"\",AG45=0),10-AG7))+(IF(AND(AG10<>\"\",AG48=0),10-AG10))+(IF(AND(AG13<>\"\",AG51=0),10-AG13))+(IF(AND(AG16<>\"\",AG54=0),10-AG16))+(IF(AND(AG19<>\"\",AG57=0),10-AG19))+(IF(AND(AG22<>\"\",AG60=0),10-AG22))+(IF(AND(AG25<>\"\",AG63=0),10-AG25))+(IF(AND(AG28<>\"\",AG66=0),10-AG28))+(IF(AND(AG31<>\"\",AG69=0),10-AG31)))","v":0},"Standing",{"$f":"SUM((IF(AND(AI4<>\"\",AI42=0),10-AI4))+(IF(AND(AI7<>\"\",AI45=0),10-AI7))+(IF(AND(AI10<>\"\",AI48=0),10-AI10))+(IF(AND(AI13<>\"\",AI51=0),10-AI13))+(IF(AND(AI16<>\"\",AI54=0),10-AI16))+(IF(AND(AI19<>\"\",AI57=0),10-AI19))+(IF(AND(AI22<>\"\",AI60=0),10-AI22))+(IF(AND(AI25<>\"\",AI63=0),10-AI25))+(IF(AND(AI28<>\"\",AI66=0),10-AI28))+(IF(AND(AI31<>\"\",AI69=0),10-AI31)))","v":0},"Standing",{"$f":"SUM((IF(AND(AK4<>\"\",AK42=0),10-AK4))+(IF(AND(AK7<>\"\",AK45=0),10-AK7))+(IF(AND(AK10<>\"\",AK48=0),10-AK10))+(IF(AND(AK13<>\"\",AK51=0),10-AK13))+(IF(AND(AK16<>\"\",AK54=0),10-AK16))+(IF(AND(AK19<>\"\",AK57=0),10-AK19))+(IF(AND(AK22<>\"\",AK60=0),10-AK22))+(IF(AND(AK25<>\"\",AK63=0),10-AK25))+(IF(AND(AK28<>\"\",AK66=0),10-AK28))+(IF(AND(AK31<>\"\",AK69=0),10-AK31)))","v":0},"Standing",{"$f":"SUM((IF(AND(AM4<>\"\",AM42=0),10-AM4))+(IF(AND(AM7<>\"\",AM45=0),10-AM7))+(IF(AND(AM10<>\"\",AM48=0),10-AM10))+(IF(AND(AM13<>\"\",AM51=0),10-AM13))+(IF(AND(AM16<>\"\",AM54=0),10-AM16))+(IF(AND(AM19<>\"\",AM57=0),10-AM19))+(IF(AND(AM22<>\"\",AM60=0),10-AM22))+(IF(AND(AM25<>\"\",AM63=0),10-AM25))+(IF(AND(AM28<>\"\",AM66=0),10-AM28))+(IF(AND(AM31<>\"\",AM69=0),10-AM31)))","v":0},"Standing",{"$f":"SUM((IF(AND(AO4<>\"\",AO42=0),10-AO4))+(IF(AND(AO7<>\"\",AO45=0),10-AO7))+(IF(AND(AO10<>\"\",AO48=0),10-AO10))+(IF(AND(AO13<>\"\",AO51=0),10-AO13))+(IF(AND(AO16<>\"\",AO54=0),10-AO16))+(IF(AND(AO19<>\"\",AO57=0),10-AO19))+(IF(AND(AO22<>\"\",AO60=0),10-AO22))+(IF(AND(AO25<>\"\",AO63=0),10-AO25))+(IF(AND(AO28<>\"\",AO66=0),10-AO28))+(IF(AND(AO31<>\"\",AO69=0),10-AO31)))","v":0},"Standing",{"$f":"SUM((IF(AND(AQ4<>\"\",AQ42=0),10-AQ4))+(IF(AND(AQ7<>\"\",AQ45=0),10-AQ7))+(IF(AND(AQ10<>\"\",AQ48=0),10-AQ10))+(IF(AND(AQ13<>\"\",AQ51=0),10-AQ13))+(IF(AND(AQ16<>\"\",AQ54=0),10-AQ16))+(IF(AND(AQ19<>\"\",AQ57=0),10-AQ19))+(IF(AND(AQ22<>\"\",AQ60=0),10-AQ22))+(IF(AND(AQ25<>\"\",AQ63=0),10-AQ25))+(IF(AND(AQ28<>\"\",AQ66=0),10-AQ28))+(IF(AND(AQ31<>\"\",AQ69=0),10-AQ31)))","v":0},"Standing",{"$f":"SUM((IF(AND(AS4<>\"\",AS42=0),10-AS4))+(IF(AND(AS7<>\"\",AS45=0),10-AS7))+(IF(AND(AS10<>\"\",AS48=0),10-AS10))+(IF(AND(AS13<>\"\",AS51=0),10-AS13))+(IF(AND(AS16<>\"\",AS54=0),10-AS16))+(IF(AND(AS19<>\"\",AS57=0),10-AS19))+(IF(AND(AS22<>\"\",AS60=0),10-AS22))+(IF(AND(AS25<>\"\",AS63=0),10-AS25))+(IF(AND(AS28<>\"\",AS66=0),10-AS28))+(IF(AND(AS31<>\"\",AS69=0),10-AS31)))","v":0},"Standing",{"$f":"SUM((IF(AND(AU4<>\"\",AU42=0),10-AU4))+(IF(AND(AU7<>\"\",AU45=0),10-AU7))+(IF(AND(AU10<>\"\",AU48=0),10-AU10))+(IF(AND(AU13<>\"\",AU51=0),10-AU13))+(IF(AND(AU16<>\"\",AU54=0),10-AU16))+(IF(AND(AU19<>\"\",AU57=0),10-AU19))+(IF(AND(AU22<>\"\",AU60=0),10-AU22))+(IF(AND(AU25<>\"\",AU63=0),10-AU25))+(IF(AND(AU28<>\"\",AU66=0),10-AU28))+(IF(AND(AU31<>\"\",AU69=0),10-AU31)))","v":0},"Standing",{"$f":"SUM((IF(AND(AW4<>\"\",AW42=0),10-AW4))+(IF(AND(AW7<>\"\",AW45=0),10-AW7))+(IF(AND(AW10<>\"\",AW48=0),10-AW10))+(IF(AND(AW13<>\"\",AW51=0),10-AW13))+(IF(AND(AW16<>\"\",AW54=0),10-AW16))+(IF(AND(AW19<>\"\",AW57=0),10-AW19))+(IF(AND(AW22<>\"\",AW60=0),10-AW22))+(IF(AND(AW25<>\"\",AW63=0),10-AW25))+(IF(AND(AW28<>\"\",AW66=0),10-AW28))+(IF(AND(AW31<>\"\",AW69=0),10-AW31)))","v":0},"Standing",{"$f":"SUM((IF(AND(AY4<>\"\",AY42=0),10-AY4))+(IF(AND(AY7<>\"\",AY45=0),10-AY7))+(IF(AND(AY10<>\"\",AY48=0),10-AY10))+(IF(AND(AY13<>\"\",AY51=0),10-AY13))+(IF(AND(AY16<>\"\",AY54=0),10-AY16))+(IF(AND(AY19<>\"\",AY57=0),10-AY19))+(IF(AND(AY22<>\"\",AY60=0),10-AY22))+(IF(AND(AY25<>\"\",AY63=0),10-AY25))+(IF(AND(AY28<>\"\",AY66=0),10-AY28))+(IF(AND(AY31<>\"\",AY69=0),10-AY31)))","v":0},"Standing",{"$f":"SUM((IF(AND(BA4<>\"\",BA42=0),10-BA4))+(IF(AND(BA7<>\"\",BA45=0),10-BA7))+(IF(AND(BA10<>\"\",BA48=0),10-BA10))+(IF(AND(BA13<>\"\",BA51=0),10-BA13))+(IF(AND(BA16<>\"\",BA54=0),10-BA16))+(IF(AND(BA19<>\"\",BA57=0),10-BA19))+(IF(AND(BA22<>\"\",BA60=0),10-BA22))+(IF(AND(BA25<>\"\",BA63=0),10-BA25))+(IF(AND(BA28<>\"\",BA66=0),10-BA28))+(IF(AND(BA31<>\"\",BA69=0),10-BA31)))","v":0},"Standing",{"$f":"SUM((IF(AND(BC4<>\"\",BC42=0),10-BC4))+(IF(AND(BC7<>\"\",BC45=0),10-BC7))+(IF(AND(BC10<>\"\",BC48=0),10-BC10))+(IF(AND(BC13<>\"\",BC51=0),10-BC13))+(IF(AND(BC16<>\"\",BC54=0),10-BC16))+(IF(AND(BC19<>\"\",BC57=0),10-BC19))+(IF(AND(BC22<>\"\",BC60=0),10-BC22))+(IF(AND(BC25<>\"\",BC63=0),10-BC25))+(IF(AND(BC28<>\"\",BC66=0),10-BC28))+(IF(AND(BC31<>\"\",BC69=0),10-BC31)))","v":0},"Standing",{"$f":"SUM((IF(AND(BE4<>\"\",BE42=0),10-BE4))+(IF(AND(BE7<>\"\",BE45=0),10-BE7))+(IF(AND(BE10<>\"\",BE48=0),10-BE10))+(IF(AND(BE13<>\"\",BE51=0),10-BE13))+(IF(AND(BE16<>\"\",BE54=0),10-BE16))+(IF(AND(BE19<>\"\",BE57=0),10-BE19))+(IF(AND(BE22<>\"\",BE60=0),10-BE22))+(IF(AND(BE25<>\"\",BE63=0),10-BE25))+(IF(AND(BE28<>\"\",BE66=0),10-BE28))+(IF(AND(BE31<>\"\",BE69=0),10-BE31)))","v":0}]
[null,null,null,null,null,null,null,null,null,null,null,null,null,null,null,null,null,null,"Score",{"$f":"S34","v":0},"Score",{"$f":"U34","v":0},"Score",{"$f":"W34","v":0},"Score",{"$f":"Y34","v":0},"Score",{"$f":"AA34","v":0},"Score",{"$f":"AC34","v":0},"Score",{"$f":"AE34","v":0},"Score",{"$f":"AG34","v":0},"Score",{"$f":"AI34","v":0},"Score",{"$f":"AK34","v":0},"Score",{"$f":"AM34","v":0},"Score",{"$f":"AO34","v":0},"Score",{"$f":"AQ34","v":0},"Score",{"$f":"AS34","v":0},"Score",{"$f":"AU34","v":0},"Score",{"$f":"AW34","v":0},"Score",{"$f":"AY34","v":0},"Score",{"$f":"BA34","v":0},"Score",{"$f":"BC34","v":0},"Score",{"$f":"BE34","v":0}]
[null,null,null,null,null,null,null,null,null,null,null,null,null,null,null,null,null,null,"SpareFill",{"$f":"SUM((IF(T42=\"SPA\",(IF(S4=\"X\",10,S4)),0)))+SUM((IF(T45=\"SPA\",(IF(S7=\"X\",10,S7)),0)))+SUM((IF(T48=\"SPA\",(IF(S10=\"X\",10,S10)),0)))+SUM((IF(T51=\"SPA\",(IF(S13=\"X\",10,S13)),0)))+SUM((IF(T54=\"SPA\",(IF(S16=\"X\",10,S16)),0)))+SUM((IF(T57=\"SPA\",(IF(S19=\"X\",10,S19)),0)))+SUM((IF(T60=\"SPA\",(IF(S22=\"X\",10,S22)),0)))+SUM((IF(T63=\"SPA\",(IF(S25=\"X\",10,S25)),0)))+SUM((IF(T66=\"SPA\",(IF(S28=\"X\",10,S28)),0)))+SUM((IF(T69=\"SPA\",(IF(S31=\"X\",10,S31)),0)))","v":0},"SpareFill",{"$f":"SUM((IF(V42=\"SPA\",(IF(U4=\"X\",10,U4)),0)))+SUM((IF(V45=\"SPA\",(IF(U7=\"X\",10,U7)),0)))+SUM((IF(V48=\"SPA\",(IF(U10=\"X\",10,U10)),0)))+SUM((IF(V51=\"SPA\",(IF(U13=\"X\",10,U13)),0)))+SUM((IF(V54=\"SPA\",(IF(U16=\"X\",10,U16)),0)))+SUM((IF(V57=\"SPA\",(IF(U19=\"X\",10,U19)),0)))+SUM((IF(V60=\"SPA\",(IF(U22=\"X\",10,U22)),0)))+SUM((IF(V63=\"SPA\",(IF(U25=\"X\",10,U25)),0)))+SUM((IF(V66=\"SPA\",(IF(U28=\"X\",10,U28)),0)))+SUM((IF(V69=\"SPA\",(IF(U31=\"X\",10,U31)),0)))","v":0},"SpareFill",{"$f":"SUM((IF(X42=\"SPA\",(IF(W4=\"X\",10,W4)),0)))+SUM((IF(X45=\"SPA\",(IF(W7=\"X\",10,W7)),0)))+SUM((IF(X48=\"SPA\",(IF(W10=\"X\",10,W10)),0)))+SUM((IF(X51=\"SPA\",(IF(W13=\"X\",10,W13)),0)))+SUM((IF(X54=\"SPA\",(IF(W16=\"X\",10,W16)),0)))+SUM((IF(X57=\"SPA\",(IF(W19=\"X\",10,W19)),0)))+SUM((IF(X60=\"SPA\",(IF(W22=\"X\",10,W22)),0)))+SUM((IF(X63=\"SPA\",(IF(W25=\"X\",10,W25)),0)))+SUM((IF(X66=\"SPA\",(IF(W28=\"X\",10,W28)),0)))+SUM((IF(X69=\"SPA\",(IF(W31=\"X\",10,W31)),0)))","v":0},"SpareFill",{"$f":"SUM((IF(Z42=\"SPA\",(IF(Y4=\"X\",10,Y4)),0)))+SUM((IF(Z45=\"SPA\",(IF(Y7=\"X\",10,Y7)),0)))+SUM((IF(Z48=\"SPA\",(IF(Y10=\"X\",10,Y10)),0)))+SUM((IF(Z51=\"SPA\",(IF(Y13=\"X\",10,Y13)),0)))+SUM((IF(Z54=\"SPA\",(IF(Y16=\"X\",10,Y16)),0)))+SUM((IF(Z57=\"SPA\",(IF(Y19=\"X\",10,Y19)),0)))+SUM((IF(Z60=\"SPA\",(IF(Y22=\"X\",10,Y22)),0)))+SUM((IF(Z63=\"SPA\",(IF(Y25=\"X\",10,Y25)),0)))+SUM((IF(Z66=\"SPA\",(IF(Y28=\"X\",10,Y28)),0)))+SUM((IF(Z69=\"SPA\",(IF(Y31=\"X\",10,Y31)),0)))","v":0},"SpareFill",{"$f":"SUM((IF(AB42=\"SPA\",(IF(AA4=\"X\",10,AA4)),0)))+SUM((IF(AB45=\"SPA\",(IF(AA7=\"X\",10,AA7)),0)))+SUM((IF(AB48=\"SPA\",(IF(AA10=\"X\",10,AA10)),0)))+SUM((IF(AB51=\"SPA\",(IF(AA13=\"X\",10,AA13)),0)))+SUM((IF(AB54=\"SPA\",(IF(AA16=\"X\",10,AA16)),0)))+SUM((IF(AB57=\"SPA\",(IF(AA19=\"X\",10,AA19)),0)))+SUM((IF(AB60=\"SPA\",(IF(AA22=\"X\",10,AA22)),0)))+SUM((IF(AB63=\"SPA\",(IF(AA25=\"X\",10,AA25)),0)))+SUM((IF(AB66=\"SPA\",(IF(AA28=\"X\",10,AA28)),0)))+SUM((IF(AB69=\"SPA\",(IF(AA31=\"X\",10,AA31)),0)))","v":0},"SpareFill",{"$f":"SUM((IF(AD42=\"SPA\",(IF(AC4=\"X\",10,AC4)),0)))+SUM((IF(AD45=\"SPA\",(IF(AC7=\"X\",10,AC7)),0)))+SUM((IF(AD48=\"SPA\",(IF(AC10=\"X\",10,AC10)),0)))+SUM((IF(AD51=\"SPA\",(IF(AC13=\"X\",10,AC13)),0)))+SUM((IF(AD54=\"SPA\",(IF(AC16=\"X\",10,AC16)),0)))+SUM((IF(AD57=\"SPA\",(IF(AC19=\"X\",10,AC19)),0)))+SUM((IF(AD60=\"SPA\",(IF(AC22=\"X\",10,AC22)),0)))+SUM((IF(AD63=\"SPA\",(IF(AC25=\"X\",10,AC25)),0)))+SUM((IF(AD66=\"SPA\",(IF(AC28=\"X\",10,AC28)),0)))+SUM((IF(AD69=\"SPA\",(IF(AC31=\"X\",10,AC31)),0)))","v":0},"SpareFill",{"$f":"SUM((IF(AF42=\"SPA\",(IF(AE4=\"X\",10,AE4)),0)))+SUM((IF(AF45=\"SPA\",(IF(AE7=\"X\",10,AE7)),0)))+SUM((IF(AF48=\"SPA\",(IF(AE10=\"X\",10,AE10)),0)))+SUM((IF(AF51=\"SPA\",(IF(AE13=\"X\",10,AE13)),0)))+SUM((IF(AF54=\"SPA\",(IF(AE16=\"X\",10,AE16)),0)))+SUM((IF(AF57=\"SPA\",(IF(AE19=\"X\",10,AE19)),0)))+SUM((IF(AF60=\"SPA\",(IF(AE22=\"X\",10,AE22)),0)))+SUM((IF(AF63=\"SPA\",(IF(AE25=\"X\",10,AE25)),0)))+SUM((IF(AF66=\"SPA\",(IF(AE28=\"X\",10,AE28)),0)))+SUM((IF(AF69=\"SPA\",(IF(AE31=\"X\",10,AE31)),0)))","v":0},"SpareFill",{"$f":"SUM((IF(AH42=\"SPA\",(IF(AG4=\"X\",10,AG4)),0)))+SUM((IF(AH45=\"SPA\",(IF(AG7=\"X\",10,AG7)),0)))+SUM((IF(AH48=\"SPA\",(IF(AG10=\"X\",10,AG10)),0)))+SUM((IF(AH51=\"SPA\",(IF(AG13=\"X\",10,AG13)),0)))+SUM((IF(AH54=\"SPA\",(IF(AG16=\"X\",10,AG16)),0)))+SUM((IF(AH57=\"SPA\",(IF(AG19=\"X\",10,AG19)),0)))+SUM((IF(AH60=\"SPA\",(IF(AG22=\"X\",10,AG22)),0)))+SUM((IF(AH63=\"SPA\",(IF(AG25=\"X\",10,AG25)),0)))+SUM((IF(AH66=\"SPA\",(IF(AG28=\"X\",10,AG28)),0)))+SUM((IF(AH69=\"SPA\",(IF(AG31=\"X\",10,AG31)),0)))","v":0},"SpareFill",{"$f":"SUM((IF(AJ42=\"SPA\",(IF(AI4=\"X\",10,AI4)),0)))+SUM((IF(AJ45=\"SPA\",(IF(AI7=\"X\",10,AI7)),0)))+SUM((IF(AJ48=\"SPA\",(IF(AI10=\"X\",10,AI10)),0)))+SUM((IF(AJ51=\"SPA\",(IF(AI13=\"X\",10,AI13)),0)))+SUM((IF(AJ54=\"SPA\",(IF(AI16=\"X\",10,AI16)),0)))+SUM((IF(AJ57=\"SPA\",(IF(AI19=\"X\",10,AI19)),0)))+SUM((IF(AJ60=\"SPA\",(IF(AI22=\"X\",10,AI22)),0)))+SUM((IF(AJ63=\"SPA\",(IF(AI25=\"X\",10,AI25)),0)))+SUM((IF(AJ66=\"SPA\",(IF(AI28=\"X\",10,AI28)),0)))+SUM((IF(AJ69=\"SPA\",(IF(AI31=\"X\",10,AI31)),0)))","v":0},"SpareFill",{"$f":"SUM((IF(AL42=\"SPA\",(IF(AK4=\"X\",10,AK4)),0)))+SUM((IF(AL45=\"SPA\",(IF(AK7=\"X\",10,AK7)),0)))+SUM((IF(AL48=\"SPA\",(IF(AK10=\"X\",10,AK10)),0)))+SUM((IF(AL51=\"SPA\",(IF(AK13=\"X\",10,AK13)),0)))+SUM((IF(AL54=\"SPA\",(IF(AK16=\"X\",10,AK16)),0)))+SUM((IF(AL57=\"SPA\",(IF(AK19=\"X\",10,AK19)),0)))+SUM((IF(AL60=\"SPA\",(IF(AK22=\"X\",10,AK22)),0)))+SUM((IF(AL63=\"SPA\",(IF(AK25=\"X\",10,AK25)),0)))+SUM((IF(AL66=\"SPA\",(IF(AK28=\"X\",10,AK28)),0)))+SUM((IF(AL69=\"SPA\",(IF(AK31=\"X\",10,AK31)),0)))","v":0},"SpareFill",{"$f":"SUM((IF(AN42=\"SPA\",(IF(AM4=\"X\",10,AM4)),0)))+SUM((IF(AN45=\"SPA\",(IF(AM7=\"X\",10,AM7)),0)))+SUM((IF(AN48=\"SPA\",(IF(AM10=\"X\",10,AM10)),0)))+SUM((IF(AN51=\"SPA\",(IF(AM13=\"X\",10,AM13)),0)))+SUM((IF(AN54=\"SPA\",(IF(AM16=\"X\",10,AM16)),0)))+SUM((IF(AN57=\"SPA\",(IF(AM19=\"X\",10,AM19)),0)))+SUM((IF(AN60=\"SPA\",(IF(AM22=\"X\",10,AM22)),0)))+SUM((IF(AN63=\"SPA\",(IF(AM25=\"X\",10,AM25)),0)))+SUM((IF(AN66=\"SPA\",(IF(AM28=\"X\",10,AM28)),0)))+SUM((IF(AN69=\"SPA\",(IF(AM31=\"X\",10,AM31)),0)))","v":0},"SpareFill",{"$f":"SUM((IF(AP42=\"SPA\",(IF(AO4=\"X\",10,AO4)),0)))+SUM((IF(AP45=\"SPA\",(IF(AO7=\"X\",10,AO7)),0)))+SUM((IF(AP48=\"SPA\",(IF(AO10=\"X\",10,AO10)),0)))+SUM((IF(AP51=\"SPA\",(IF(AO13=\"X\",10,AO13)),0)))+SUM((IF(AP54=\"SPA\",(IF(AO16=\"X\",10,AO16)),0)))+SUM((IF(AP57=\"SPA\",(IF(AO19=\"X\",10,AO19)),0)))+SUM((IF(AP60=\"SPA\",(IF(AO22=\"X\",10,AO22)),0)))+SUM((IF(AP63=\"SPA\",(IF(AO25=\"X\",10,AO25)),0)))+SUM((IF(AP66=\"SPA\",(IF(AO28=\"X\",10,AO28)),0)))+SUM((IF(AP69=\"SPA\",(IF(AO31=\"X\",10,AO31)),0)))","v":0},"SpareFill",{"$f":"SUM((IF(AR42=\"SPA\",(IF(AQ4=\"X\",10,AQ4)),0)))+SUM((IF(AR45=\"SPA\",(IF(AQ7=\"X\",10,AQ7)),0)))+SUM((IF(AR48=\"SPA\",(IF(AQ10=\"X\",10,AQ10)),0)))+SUM((IF(AR51=\"SPA\",(IF(AQ13=\"X\",10,AQ13)),0)))+SUM((IF(AR54=\"SPA\",(IF(AQ16=\"X\",10,AQ16)),0)))+SUM((IF(AR57=\"SPA\",(IF(AQ19=\"X\",10,AQ19)),0)))+SUM((IF(AR60=\"SPA\",(IF(AQ22=\"X\",10,AQ22)),0)))+SUM((IF(AR63=\"SPA\",(IF(AQ25=\"X\",10,AQ25)),0)))+SUM((IF(AR66=\"SPA\",(IF(AQ28=\"X\",10,AQ28)),0)))+SUM((IF(AR69=\"SPA\",(IF(AQ31=\"X\",10,AQ31)),0)))","v":0},"SpareFill",{"$f":"SUM((IF(AT42=\"SPA\",(IF(AS4=\"X\",10,AS4)),0)))+SUM((IF(AT45=\"SPA\",(IF(AS7=\"X\",10,AS7)),0)))+SUM((IF(AT48=\"SPA\",(IF(AS10=\"X\",10,AS10)),0)))+SUM((IF(AT51=\"SPA\",(IF(AS13=\"X\",10,AS13)),0)))+SUM((IF(AT54=\"SPA\",(IF(AS16=\"X\",10,AS16)),0)))+SUM((IF(AT57=\"SPA\",(IF(AS19=\"X\",10,AS19)),0)))+SUM((IF(AT60=\"SPA\",(IF(AS22=\"X\",10,AS22)),0)))+SUM((IF(AT63=\"SPA\",(IF(AS25=\"X\",10,AS25)),0)))+SUM((IF(AT66=\"SPA\",(IF(AS28=\"X\",10,AS28)),0)))+SUM((IF(AT69=\"SPA\",(IF(AS31=\"X\",10,AS31)),0)))","v":0},"SpareFill",{"$f":"SUM((IF(AV42=\"SPA\",(IF(AU4=\"X\",10,AU4)),0)))+SUM((IF(AV45=\"SPA\",(IF(AU7=\"X\",10,AU7)),0)))+SUM((IF(AV48=\"SPA\",(IF(AU10=\"X\",10,AU10)),0)))+SUM((IF(AV51=\"SPA\",(IF(AU13=\"X\",10,AU13)),0)))+SUM((IF(AV54=\"SPA\",(IF(AU16=\"X\",10,AU16)),0)))+SUM((IF(AV57=\"SPA\",(IF(AU19=\"X\",10,AU19)),0)))+SUM((IF(AV60=\"SPA\",(IF(AU22=\"X\",10,AU22)),0)))+SUM((IF(AV63=\"SPA\",(IF(AU25=\"X\",10,AU25)),0)))+SUM((IF(AV66=\"SPA\",(IF(AU28=\"X\",10,AU28)),0)))+SUM((IF(AV69=\"SPA\",(IF(AU31=\"X\",10,AU31)),0)))","v":0},"SpareFill",{"$f":"SUM((IF(AX42=\"SPA\",(IF(AW4=\"X\",10,AW4)),0)))+SUM((IF(AX45=\"SPA\",(IF(AW7=\"X\",10,AW7)),0)))+SUM((IF(AX48=\"SPA\",(IF(AW10=\"X\",10,AW10)),0)))+SUM((IF(AX51=\"SPA\",(IF(AW13=\"X\",10,AW13)),0)))+SUM((IF(AX54=\"SPA\",(IF(AW16=\"X\",10,AW16)),0)))+SUM((IF(AX57=\"SPA\",(IF(AW19=\"X\",10,AW19)),0)))+SUM((IF(AX60=\"SPA\",(IF(AW22=\"X\",10,AW22)),0)))+SUM((IF(AX63=\"SPA\",(IF(AW25=\"X\",10,AW25)),0)))+SUM((IF(AX66=\"SPA\",(IF(AW28=\"X\",10,AW28)),0)))+SUM((IF(AX69=\"SPA\",(IF(AW31=\"X\",10,AW31)),0)))","v":0},"SpareFill",{"$f":"SUM((IF(AZ42=\"SPA\",(IF(AY4=\"X\",10,AY4)),0)))+SUM((IF(AZ45=\"SPA\",(IF(AY7=\"X\",10,AY7)),0)))+SUM((IF(AZ48=\"SPA\",(IF(AY10=\"X\",10,AY10)),0)))+SUM((IF(AZ51=\"SPA\",(IF(AY13=\"X\",10,AY13)),0)))+SUM((IF(AZ54=\"SPA\",(IF(AY16=\"X\",10,AY16)),0)))+SUM((IF(AZ57=\"SPA\",(IF(AY19=\"X\",10,AY19)),0)))+SUM((IF(AZ60=\"SPA\",(IF(AY22=\"X\",10,AY22)),0)))+SUM((IF(AZ63=\"SPA\",(IF(AY25=\"X\",10,AY25)),0)))+SUM((IF(AZ66=\"SPA\",(IF(AY28=\"X\",10,AY28)),0)))+SUM((IF(AZ69=\"SPA\",(IF(AY31=\"X\",10,AY31)),0)))","v":0},"SpareFill",{"$f":"SUM((IF(BB42=\"SPA\",(IF(BA4=\"X\",10,BA4)),0)))+SUM((IF(BB45=\"SPA\",(IF(BA7=\"X\",10,BA7)),0)))+SUM((IF(BB48=\"SPA\",(IF(BA10=\"X\",10,BA10)),0)))+SUM((IF(BB51=\"SPA\",(IF(BA13=\"X\",10,BA13)),0)))+SUM((IF(BB54=\"SPA\",(IF(BA16=\"X\",10,BA16)),0)))+SUM((IF(BB57=\"SPA\",(IF(BA19=\"X\",10,BA19)),0)))+SUM((IF(BB60=\"SPA\",(IF(BA22=\"X\",10,BA22)),0)))+SUM((IF(BB63=\"SPA\",(IF(BA25=\"X\",10,BA25)),0)))+SUM((IF(BB66=\"SPA\",(IF(BA28=\"X\",10,BA28)),0)))+SUM((IF(BB69=\"SPA\",(IF(BA31=\"X\",10,BA31)),0)))","v":0},"SpareFill",{"$f":"SUM((IF(BD42=\"SPA\",(IF(BC4=\"X\",10,BC4)),0)))+SUM((IF(BD45=\"SPA\",(IF(BC7=\"X\",10,BC7)),0)))+SUM((IF(BD48=\"SPA\",(IF(BC10=\"X\",10,BC10)),0)))+SUM((IF(BD51=\"SPA\",(IF(BC13=\"X\",10,BC13)),0)))+SUM((IF(BD54=\"SPA\",(IF(BC16=\"X\",10,BC16)),0)))+SUM((IF(BD57=\"SPA\",(IF(BC19=\"X\",10,BC19)),0)))+SUM((IF(BD60=\"SPA\",(IF(BC22=\"X\",10,BC22)),0)))+SUM((IF(BD63=\"SPA\",(IF(BC25=\"X\",10,BC25)),0)))+SUM((IF(BD66=\"SPA\",(IF(BC28=\"X\",10,BC28)),0)))+SUM((IF(BD69=\"SPA\",(IF(BC31=\"X\",10,BC31)),0)))","v":0},"SpareFill",{"$f":"SUM((IF(BF42=\"SPA\",(IF(BE4=\"X\",10,BE4)),0)))+SUM((IF(BF45=\"SPA\",(IF(BE7=\"X\",10,BE7)),0)))+SUM((IF(BF48=\"SPA\",(IF(BE10=\"X\",10,BE10)),0)))+SUM((IF(BF51=\"SPA\",(IF(BE13=\"X\",10,BE13)),0)))+SUM((IF(BF54=\"SPA\",(IF(BE16=\"X\",10,BE16)),0)))+SUM((IF(BF57=\"SPA\",(IF(BE19=\"X\",10,BE19)),0)))+SUM((IF(BF60=\"SPA\",(IF(BE22=\"X\",10,BE22)),0)))+SUM((IF(BF63=\"SPA\",(IF(BE25=\"X\",10,BE25)),0)))+SUM((IF(BF66=\"SPA\",(IF(BE28=\"X\",10,BE28)),0)))+SUM((IF(BF69=\"SPA\",(IF(BE31=\"X\",10,BE31)),0)))","v":0}]
[null,null,null,null,null,null,null,null,null,null,null,null,null,null,null,null,null,null,"StrikeFill",{"$f":"SUM((IF(T42=\"STR\",(IF(S42=20,10+IF(S4=\"X\",10,S4),(IF(S4=\"X\",10,S4)))),0)))+SUM((IF(T45=\"STR\",(IF(S45=20,10+IF(S7=\"X\",10,S7),(IF(S7=\"X\",10,S7)))),0)))+SUM((IF(T48=\"STR\",(IF(S48=20,10+IF(S10=\"X\",10,S10),(IF(S10=\"X\",10,S10)))),0)))+SUM((IF(T51=\"STR\",(IF(S51=20,10+IF(S13=\"X\",10,S13),(IF(S13=\"X\",10,S13)))),0)))+SUM((IF(T54=\"STR\",(IF(S54=20,10+IF(S16=\"X\",10,S16),(IF(S16=\"X\",10,S16)))),0)))+SUM((IF(T57=\"STR\",(IF(S57=20,10+IF(S19=\"X\",10,S19),(IF(S19=\"X\",10,S19)))),0)))+SUM((IF(T60=\"STR\",(IF(S60=20,10+IF(S22=\"X\",10,S22),(IF(S22=\"X\",10,S22)))),0)))+SUM((IF(T63=\"STR\",(IF(S63=20,10+IF(S25=\"X\",10,S25),(IF(S25=\"X\",10,S25)))),0)))+SUM((IF(T66=\"STR\",(IF(S66=20,10+IF(S28=\"X\",10,S28),(IF(S28=\"X\",10,S28)))),0)))+SUM((IF(T69=\"STR\",(IF(S69=20,10+IF(S31=\"X\",10,S31),(IF(S31=\"X\",10,S31)))),0)))","v":0},"StrikeFill",{"$f":"SUM((IF(V42=\"STR\",(IF(U42=20,10+IF(U4=\"X\",10,U4),(IF(U4=\"X\",10,U4)))),0)))+SUM((IF(V45=\"STR\",(IF(U45=20,10+IF(U7=\"X\",10,U7),(IF(U7=\"X\",10,U7)))),0)))+SUM((IF(V48=\"STR\",(IF(U48=20,10+IF(U10=\"X\",10,U10),(IF(U10=\"X\",10,U10)))),0)))+SUM((IF(V51=\"STR\",(IF(U51=20,10+IF(U13=\"X\",10,U13),(IF(U13=\"X\",10,U13)))),0)))+SUM((IF(V54=\"STR\",(IF(U54=20,10+IF(U16=\"X\",10,U16),(IF(U16=\"X\",10,U16)))),0)))+SUM((IF(V57=\"STR\",(IF(U57=20,10+IF(U19=\"X\",10,U19),(IF(U19=\"X\",10,U19)))),0)))+SUM((IF(V60=\"STR\",(IF(U60=20,10+IF(U22=\"X\",10,U22),(IF(U22=\"X\",10,U22)))),0)))+SUM((IF(V63=\"STR\",(IF(U63=20,10+IF(U25=\"X\",10,U25),(IF(U25=\"X\",10,U25)))),0)))+SUM((IF(V66=\"STR\",(IF(U66=20,10+IF(U28=\"X\",10,U28),(IF(U28=\"X\",10,U28)))),0)))+SUM((IF(V69=\"STR\",(IF(U69=20,10+IF(U31=\"X\",10,U31),(IF(U31=\"X\",10,U31)))),0)))","v":0},"StrikeFill",{"$f":"SUM((IF(X42=\"STR\",(IF(W42=20,10+IF(W4=\"X\",10,W4),(IF(W4=\"X\",10,W4)))),0)))+SUM((IF(X45=\"STR\",(IF(W45=20,10+IF(W7=\"X\",10,W7),(IF(W7=\"X\",10,W7)))),0)))+SUM((IF(X48=\"STR\",(IF(W48=20,10+IF(W10=\"X\",10,W10),(IF(W10=\"X\",10,W10)))),0)))+SUM((IF(X51=\"STR\",(IF(W51=20,10+IF(W13=\"X\",10,W13),(IF(W13=\"X\",10,W13)))),0)))+SUM((IF(X54=\"STR\",(IF(W54=20,10+IF(W16=\"X\",10,W16),(IF(W16=\"X\",10,W16)))),0)))+SUM((IF(X57=\"STR\",(IF(W57=20,10+IF(W19=\"X\",10,W19),(IF(W19=\"X\",10,W19)))),0)))+SUM((IF(X60=\"STR\",(IF(W60=20,10+IF(W22=\"X\",10,W22),(IF(W22=\"X\",10,W22)))),0)))+SUM((IF(X63=\"STR\",(IF(W63=20,10+IF(W25=\"X\",10,W25),(IF(W25=\"X\",10,W25)))),0)))+SUM((IF(X66=\"STR\",(IF(W66=20,10+IF(W28=\"X\",10,W28),(IF(W28=\"X\",10,W28)))),0)))+SUM((IF(X69=\"STR\",(IF(W69=20,10+IF(W31=\"X\",10,W31),(IF(W31=\"X\",10,W31)))),0)))","v":0},"StrikeFill",{"$f":"SUM((IF(Z42=\"STR\",(IF(Y42=20,10+IF(Y4=\"X\",10,Y4),(IF(Y4=\"X\",10,Y4)))),0)))+SUM((IF(Z45=\"STR\",(IF(Y45=20,10+IF(Y7=\"X\",10,Y7),(IF(Y7=\"X\",10,Y7)))),0)))+SUM((IF(Z48=\"STR\",(IF(Y48=20,10+IF(Y10=\"X\",10,Y10),(IF(Y10=\"X\",10,Y10)))),0)))+SUM((IF(Z51=\"STR\",(IF(Y51=20,10+IF(Y13=\"X\",10,Y13),(IF(Y13=\"X\",10,Y13)))),0)))+SUM((IF(Z54=\"STR\",(IF(Y54=20,10+IF(Y16=\"X\",10,Y16),(IF(Y16=\"X\",10,Y16)))),0)))+SUM((IF(Z57=\"STR\",(IF(Y57=20,10+IF(Y19=\"X\",10,Y19),(IF(Y19=\"X\",10,Y19)))),0)))+SUM((IF(Z60=\"STR\",(IF(Y60=20,10+IF(Y22=\"X\",10,Y22),(IF(Y22=\"X\",10,Y22)))),0)))+SUM((IF(Z63=\"STR\",(IF(Y63=20,10+IF(Y25=\"X\",10,Y25),(IF(Y25=\"X\",10,Y25)))),0)))+SUM((IF(Z66=\"STR\",(IF(Y66=20,10+IF(Y28=\"X\",10,Y28),(IF(Y28=\"X\",10,Y28)))),0)))+SUM((IF(Z69=\"STR\",(IF(Y69=20,10+IF(Y31=\"X\",10,Y31),(IF(Y31=\"X\",10,Y31)))),0)))","v":0},"StrikeFill",{"$f":"SUM((IF(AB42=\"STR\",(IF(AA42=20,10+IF(AA4=\"X\",10,AA4),(IF(AA4=\"X\",10,AA4)))),0)))+SUM((IF(AB45=\"STR\",(IF(AA45=20,10+IF(AA7=\"X\",10,AA7),(IF(AA7=\"X\",10,AA7)))),0)))+SUM((IF(AB48=\"STR\",(IF(AA48=20,10+IF(AA10=\"X\",10,AA10),(IF(AA10=\"X\",10,AA10)))),0)))+SUM((IF(AB51=\"STR\",(IF(AA51=20,10+IF(AA13=\"X\",10,AA13),(IF(AA13=\"X\",10,AA13)))),0)))+SUM((IF(AB54=\"STR\",(IF(AA54=20,10+IF(AA16=\"X\",10,AA16),(IF(AA16=\"X\",10,AA16)))),0)))+SUM((IF(AB57=\"STR\",(IF(AA57=20,10+IF(AA19=\"X\",10,AA19),(IF(AA19=\"X\",10,AA19)))),0)))+SUM((IF(AB60=\"STR\",(IF(AA60=20,10+IF(AA22=\"X\",10,AA22),(IF(AA22=\"X\",10,AA22)))),0)))+SUM((IF(AB63=\"STR\",(IF(AA63=20,10+IF(AA25=\"X\",10,AA25),(IF(AA25=\"X\",10,AA25)))),0)))+SUM((IF(AB66=\"STR\",(IF(AA66=20,10+IF(AA28=\"X\",10,AA28),(IF(AA28=\"X\",10,AA28)))),0)))+SUM((IF(AB69=\"STR\",(IF(AA69=20,10+IF(AA31=\"X\",10,AA31),(IF(AA31=\"X\",10,AA31)))),0)))","v":0},"StrikeFill",{"$f":"SUM((IF(AD42=\"STR\",(IF(AC42=20,10+IF(AC4=\"X\",10,AC4),(IF(AC4=\"X\",10,AC4)))),0)))+SUM((IF(AD45=\"STR\",(IF(AC45=20,10+IF(AC7=\"X\",10,AC7),(IF(AC7=\"X\",10,AC7)))),0)))+SUM((IF(AD48=\"STR\",(IF(AC48=20,10+IF(AC10=\"X\",10,AC10),(IF(AC10=\"X\",10,AC10)))),0)))+SUM((IF(AD51=\"STR\",(IF(AC51=20,10+IF(AC13=\"X\",10,AC13),(IF(AC13=\"X\",10,AC13)))),0)))+SUM((IF(AD54=\"STR\",(IF(AC54=20,10+IF(AC16=\"X\",10,AC16),(IF(AC16=\"X\",10,AC16)))),0)))+SUM((IF(AD57=\"STR\",(IF(AC57=20,10+IF(AC19=\"X\",10,AC19),(IF(AC19=\"X\",10,AC19)))),0)))+SUM((IF(AD60=\"STR\",(IF(AC60=20,10+IF(AC22=\"X\",10,AC22),(IF(AC22=\"X\",10,AC22)))),0)))+SUM((IF(AD63=\"STR\",(IF(AC63=20,10+IF(AC25=\"X\",10,AC25),(IF(AC25=\"X\",10,AC25)))),0)))+SUM((IF(AD66=\"STR\",(IF(AC66=20,10+IF(AC28=\"X\",10,AC28),(IF(AC28=\"X\",10,AC28)))),0)))+SUM((IF(AD69=\"STR\",(IF(AC69=20,10+IF(AC31=\"X\",10,AC31),(IF(AC31=\"X\",10,AC31)))),0)))","v":0},"StrikeFill",{"$f":"SUM((IF(AF42=\"STR\",(IF(AE42=20,10+IF(AE4=\"X\",10,AE4),(IF(AE4=\"X\",10,AE4)))),0)))+SUM((IF(AF45=\"STR\",(IF(AE45=20,10+IF(AE7=\"X\",10,AE7),(IF(AE7=\"X\",10,AE7)))),0)))+SUM((IF(AF48=\"STR\",(IF(AE48=20,10+IF(AE10=\"X\",10,AE10),(IF(AE10=\"X\",10,AE10)))),0)))+SUM((IF(AF51=\"STR\",(IF(AE51=20,10+IF(AE13=\"X\",10,AE13),(IF(AE13=\"X\",10,AE13)))),0)))+SUM((IF(AF54=\"STR\",(IF(AE54=20,10+IF(AE16=\"X\",10,AE16),(IF(AE16=\"X\",10,AE16)))),0)))+SUM((IF(AF57=\"STR\",(IF(AE57=20,10+IF(AE19=\"X\",10,AE19),(IF(AE19=\"X\",10,AE19)))),0)))+SUM((IF(AF60=\"STR\",(IF(AE60=20,10+IF(AE22=\"X\",10,AE22),(IF(AE22=\"X\",10,AE22)))),0)))+SUM((IF(AF63=\"STR\",(IF(AE63=20,10+IF(AE25=\"X\",10,AE25),(IF(AE25=\"X\",10,AE25)))),0)))+SUM((IF(AF66=\"STR\",(IF(AE66=20,10+IF(AE28=\"X\",10,AE28),(IF(AE28=\"X\",10,AE28)))),0)))+SUM((IF(AF69=\"STR\",(IF(AE69=20,10+IF(AE31=\"X\",10,AE31),(IF(AE31=\"X\",10,AE31)))),0)))","v":0},"StrikeFill",{"$f":"SUM((IF(AH42=\"STR\",(IF(AG42=20,10+IF(AG4=\"X\",10,AG4),(IF(AG4=\"X\",10,AG4)))),0)))+SUM((IF(AH45=\"STR\",(IF(AG45=20,10+IF(AG7=\"X\",10,AG7),(IF(AG7=\"X\",10,AG7)))),0)))+SUM((IF(AH48=\"STR\",(IF(AG48=20,10+IF(AG10=\"X\",10,AG10),(IF(AG10=\"X\",10,AG10)))),0)))+SUM((IF(AH51=\"STR\",(IF(AG51=20,10+IF(AG13=\"X\",10,AG13),(IF(AG13=\"X\",10,AG13)))),0)))+SUM((IF(AH54=\"STR\",(IF(AG54=20,10+IF(AG16=\"X\",10,AG16),(IF(AG16=\"X\",10,AG16)))),0)))+SUM((IF(AH57=\"STR\",(IF(AG57=20,10+IF(AG19=\"X\",10,AG19),(IF(AG19=\"X\",10,AG19)))),0)))+SUM((IF(AH60=\"STR\",(IF(AG60=20,10+IF(AG22=\"X\",10,AG22),(IF(AG22=\"X\",10,AG22)))),0)))+SUM((IF(AH63=\"STR\",(IF(AG63=20,10+IF(AG25=\"X\",10,AG25),(IF(AG25=\"X\",10,AG25)))),0)))+SUM((IF(AH66=\"STR\",(IF(AG66=20,10+IF(AG28=\"X\",10,AG28),(IF(AG28=\"X\",10,AG28)))),0)))+SUM((IF(AH69=\"STR\",(IF(AG69=20,10+IF(AG31=\"X\",10,AG31),(IF(AG31=\"X\",10,AG31)))),0)))","v":0},"StrikeFill",{"$f":"SUM((IF(AJ42=\"STR\",(IF(AI42=20,10+IF(AI4=\"X\",10,AI4),(IF(AI4=\"X\",10,AI4)))),0)))+SUM((IF(AJ45=\"STR\",(IF(AI45=20,10+IF(AI7=\"X\",10,AI7),(IF(AI7=\"X\",10,AI7)))),0)))+SUM((IF(AJ48=\"STR\",(IF(AI48=20,10+IF(AI10=\"X\",10,AI10),(IF(AI10=\"X\",10,AI10)))),0)))+SUM((IF(AJ51=\"STR\",(IF(AI51=20,10+IF(AI13=\"X\",10,AI13),(IF(AI13=\"X\",10,AI13)))),0)))+SUM((IF(AJ54=\"STR\",(IF(AI54=20,10+IF(AI16=\"X\",10,AI16),(IF(AI16=\"X\",10,AI16)))),0)))+SUM((IF(AJ57=\"STR\",(IF(AI57=20,10+IF(AI19=\"X\",10,AI19),(IF(AI19=\"X\",10,AI19)))),0)))+SUM((IF(AJ60=\"STR\",(IF(AI60=20,10+IF(AI22=\"X\",10,AI22),(IF(AI22=\"X\",10,AI22)))),0)))+SUM((IF(AJ63=\"STR\",(IF(AI63=20,10+IF(AI25=\"X\",10,AI25),(IF(AI25=\"X\",10,AI25)))),0)))+SUM((IF(AJ66=\"STR\",(IF(AI66=20,10+IF(AI28=\"X\",10,AI28),(IF(AI28=\"X\",10,AI28)))),0)))+SUM((IF(AJ69=\"STR\",(IF(AI69=20,10+IF(AI31=\"X\",10,AI31),(IF(AI31=\"X\",10,AI31)))),0)))","v":0},"StrikeFill",{"$f":"SUM((IF(AL42=\"STR\",(IF(AK42=20,10+IF(AK4=\"X\",10,AK4),(IF(AK4=\"X\",10,AK4)))),0)))+SUM((IF(AL45=\"STR\",(IF(AK45=20,10+IF(AK7=\"X\",10,AK7),(IF(AK7=\"X\",10,AK7)))),0)))+SUM((IF(AL48=\"STR\",(IF(AK48=20,10+IF(AK10=\"X\",10,AK10),(IF(AK10=\"X\",10,AK10)))),0)))+SUM((IF(AL51=\"STR\",(IF(AK51=20,10+IF(AK13=\"X\",10,AK13),(IF(AK13=\"X\",10,AK13)))),0)))+SUM((IF(AL54=\"STR\",(IF(AK54=20,10+IF(AK16=\"X\",10,AK16),(IF(AK16=\"X\",10,AK16)))),0)))+SUM((IF(AL57=\"STR\",(IF(AK57=20,10+IF(AK19=\"X\",10,AK19),(IF(AK19=\"X\",10,AK19)))),0)))+SUM((IF(AL60=\"STR\",(IF(AK60=20,10+IF(AK22=\"X\",10,AK22),(IF(AK22=\"X\",10,AK22)))),0)))+SUM((IF(AL63=\"STR\",(IF(AK63=20,10+IF(AK25=\"X\",10,AK25),(IF(AK25=\"X\",10,AK25)))),0)))+SUM((IF(AL66=\"STR\",(IF(AK66=20,10+IF(AK28=\"X\",10,AK28),(IF(AK28=\"X\",10,AK28)))),0)))+SUM((IF(AL69=\"STR\",(IF(AK69=20,10+IF(AK31=\"X\",10,AK31),(IF(AK31=\"X\",10,AK31)))),0)))","v":0},"StrikeFill",{"$f":"SUM((IF(AN42=\"STR\",(IF(AM42=20,10+IF(AM4=\"X\",10,AM4),(IF(AM4=\"X\",10,AM4)))),0)))+SUM((IF(AN45=\"STR\",(IF(AM45=20,10+IF(AM7=\"X\",10,AM7),(IF(AM7=\"X\",10,AM7)))),0)))+SUM((IF(AN48=\"STR\",(IF(AM48=20,10+IF(AM10=\"X\",10,AM10),(IF(AM10=\"X\",10,AM10)))),0)))+SUM((IF(AN51=\"STR\",(IF(AM51=20,10+IF(AM13=\"X\",10,AM13),(IF(AM13=\"X\",10,AM13)))),0)))+SUM((IF(AN54=\"STR\",(IF(AM54=20,10+IF(AM16=\"X\",10,AM16),(IF(AM16=\"X\",10,AM16)))),0)))+SUM((IF(AN57=\"STR\",(IF(AM57=20,10+IF(AM19=\"X\",10,AM19),(IF(AM19=\"X\",10,AM19)))),0)))+SUM((IF(AN60=\"STR\",(IF(AM60=20,10+IF(AM22=\"X\",10,AM22),(IF(AM22=\"X\",10,AM22)))),0)))+SUM((IF(AN63=\"STR\",(IF(AM63=20,10+IF(AM25=\"X\",10,AM25),(IF(AM25=\"X\",10,AM25)))),0)))+SUM((IF(AN66=\"STR\",(IF(AM66=20,10+IF(AM28=\"X\",10,AM28),(IF(AM28=\"X\",10,AM28)))),0)))+SUM((IF(AN69=\"STR\",(IF(AM69=20,10+IF(AM31=\"X\",10,AM31),(IF(AM31=\"X\",10,AM31)))),0)))","v":0},"StrikeFill",{"$f":"SUM((IF(AP42=\"STR\",(IF(AO42=20,10+IF(AO4=\"X\",10,AO4),(IF(AO4=\"X\",10,AO4)))),0)))+SUM((IF(AP45=\"STR\",(IF(AO45=20,10+IF(AO7=\"X\",10,AO7),(IF(AO7=\"X\",10,AO7)))),0)))+SUM((IF(AP48=\"STR\",(IF(AO48=20,10+IF(AO10=\"X\",10,AO10),(IF(AO10=\"X\",10,AO10)))),0)))+SUM((IF(AP51=\"STR\",(IF(AO51=20,10+IF(AO13=\"X\",10,AO13),(IF(AO13=\"X\",10,AO13)))),0)))+SUM((IF(AP54=\"STR\",(IF(AO54=20,10+IF(AO16=\"X\",10,AO16),(IF(AO16=\"X\",10,AO16)))),0)))+SUM((IF(AP57=\"STR\",(IF(AO57=20,10+IF(AO19=\"X\",10,AO19),(IF(AO19=\"X\",10,AO19)))),0)))+SUM((IF(AP60=\"STR\",(IF(AO60=20,10+IF(AO22=\"X\",10,AO22),(IF(AO22=\"X\",10,AO22)))),0)))+SUM((IF(AP63=\"STR\",(IF(AO63=20,10+IF(AO25=\"X\",10,AO25),(IF(AO25=\"X\",10,AO25)))),0)))+SUM((IF(AP66=\"STR\",(IF(AO66=20,10+IF(AO28=\"X\",10,AO28),(IF(AO28=\"X\",10,AO28)))),0)))+SUM((IF(AP69=\"STR\",(IF(AO69=20,10+IF(AO31=\"X\",10,AO31),(IF(AO31=\"X\",10,AO31)))),0)))","v":0},"StrikeFill",{"$f":"SUM((IF(AR42=\"STR\",(IF(AQ42=20,10+IF(AQ4=\"X\",10,AQ4),(IF(AQ4=\"X\",10,AQ4)))),0)))+SUM((IF(AR45=\"STR\",(IF(AQ45=20,10+IF(AQ7=\"X\",10,AQ7),(IF(AQ7=\"X\",10,AQ7)))),0)))+SUM((IF(AR48=\"STR\",(IF(AQ48=20,10+IF(AQ10=\"X\",10,AQ10),(IF(AQ10=\"X\",10,AQ10)))),0)))+SUM((IF(AR51=\"STR\",(IF(AQ51=20,10+IF(AQ13=\"X\",10,AQ13),(IF(AQ13=\"X\",10,AQ13)))),0)))+SUM((IF(AR54=\"STR\",(IF(AQ54=20,10+IF(AQ16=\"X\",10,AQ16),(IF(AQ16=\"X\",10,AQ16)))),0)))+SUM((IF(AR57=\"STR\",(IF(AQ57=20,10+IF(AQ19=\"X\",10,AQ19),(IF(AQ19=\"X\",10,AQ19)))),0)))+SUM((IF(AR60=\"STR\",(IF(AQ60=20,10+IF(AQ22=\"X\",10,AQ22),(IF(AQ22=\"X\",10,AQ22)))),0)))+SUM((IF(AR63=\"STR\",(IF(AQ63=20,10+IF(AQ25=\"X\",10,AQ25),(IF(AQ25=\"X\",10,AQ25)))),0)))+SUM((IF(AR66=\"STR\",(IF(AQ66=20,10+IF(AQ28=\"X\",10,AQ28),(IF(AQ28=\"X\",10,AQ28)))),0)))+SUM((IF(AR69=\"STR\",(IF(AQ69=20,10+IF(AQ31=\"X\",10,AQ31),(IF(AQ31=\"X\",10,AQ31)))),0)))","v":0},"StrikeFill",{"$f":"SUM((IF(AT42=\"STR\",(IF(AS42=20,10+IF(AS4=\"X\",10,AS4),(IF(AS4=\"X\",10,AS4)))),0)))+SUM((IF(AT45=\"STR\",(IF(AS45=20,10+IF(AS7=\"X\",10,AS7),(IF(AS7=\"X\",10,AS7)))),0)))+SUM((IF(AT48=\"STR\",(IF(AS48=20,10+IF(AS10=\"X\",10,AS10),(IF(AS10=\"X\",10,AS10)))),0)))+SUM((IF(AT51=\"STR\",(IF(AS51=20,10+IF(AS13=\"X\",10,AS13),(IF(AS13=\"X\",10,AS13)))),0)))+SUM((IF(AT54=\"STR\",(IF(AS54=20,10+IF(AS16=\"X\",10,AS16),(IF(AS16=\"X\",10,AS16)))),0)))+SUM((IF(AT57=\"STR\",(IF(AS57=20,10+IF(AS19=\"X\",10,AS19),(IF(AS19=\"X\",10,AS19)))),0)))+SUM((IF(AT60=\"STR\",(IF(AS60=20,10+IF(AS22=\"X\",10,AS22),(IF(AS22=\"X\",10,AS22)))),0)))+SUM((IF(AT63=\"STR\",(IF(AS63=20,10+IF(AS25=\"X\",10,AS25),(IF(AS25=\"X\",10,AS25)))),0)))+SUM((IF(AT66=\"STR\",(IF(AS66=20,10+IF(AS28=\"X\",10,AS28),(IF(AS28=\"X\",10,AS28)))),0)))+SUM((IF(AT69=\"STR\",(IF(AS69=20,10+IF(AS31=\"X\",10,AS31),(IF(AS31=\"X\",10,AS31)))),0)))","v":0},"StrikeFill",{"$f":"SUM((IF(AV42=\"STR\",(IF(AU42=20,10+IF(AU4=\"X\",10,AU4),(IF(AU4=\"X\",10,AU4)))),0)))+SUM((IF(AV45=\"STR\",(IF(AU45=20,10+IF(AU7=\"X\",10,AU7),(IF(AU7=\"X\",10,AU7)))),0)))+SUM((IF(AV48=\"STR\",(IF(AU48=20,10+IF(AU10=\"X\",10,AU10),(IF(AU10=\"X\",10,AU10)))),0)))+SUM((IF(AV51=\"STR\",(IF(AU51=20,10+IF(AU13=\"X\",10,AU13),(IF(AU13=\"X\",10,AU13)))),0)))+SUM((IF(AV54=\"STR\",(IF(AU54=20,10+IF(AU16=\"X\",10,AU16),(IF(AU16=\"X\",10,AU16)))),0)))+SUM((IF(AV57=\"STR\",(IF(AU57=20,10+IF(AU19=\"X\",10,AU19),(IF(AU19=\"X\",10,AU19)))),0)))+SUM((IF(AV60=\"STR\",(IF(AU60=20,10+IF(AU22=\"X\",10,AU22),(IF(AU22=\"X\",10,AU22)))),0)))+SUM((IF(AV63=\"STR\",(IF(AU63=20,10+IF(AU25=\"X\",10,AU25),(IF(AU25=\"X\",10,AU25)))),0)))+SUM((IF(AV66=\"STR\",(IF(AU66=20,10+IF(AU28=\"X\",10,AU28),(IF(AU28=\"X\",10,AU28)))),0)))+SUM((IF(AV69=\"STR\",(IF(AU69=20,10+IF(AU31=\"X\",10,AU31),(IF(AU31=\"X\",10,AU31)))),0)))","v":0},"StrikeFill",{"$f":"SUM((IF(AX42=\"STR\",(IF(AW42=20,10+IF(AW4=\"X\",10,AW4),(IF(AW4=\"X\",10,AW4)))),0)))+SUM((IF(AX45=\"STR\",(IF(AW45=20,10+IF(AW7=\"X\",10,AW7),(IF(AW7=\"X\",10,AW7)))),0)))+SUM((IF(AX48=\"STR\",(IF(AW48=20,10+IF(AW10=\"X\",10,AW10),(IF(AW10=\"X\",10,AW10)))),0)))+SUM((IF(AX51=\"STR\",(IF(AW51=20,10+IF(AW13=\"X\",10,AW13),(IF(AW13=\"X\",10,AW13)))),0)))+SUM((IF(AX54=\"STR\",(IF(AW54=20,10+IF(AW16=\"X\",10,AW16),(IF(AW16=\"X\",10,AW16)))),0)))+SUM((IF(AX57=\"STR\",(IF(AW57=20,10+IF(AW19=\"X\",10,AW19),(IF(AW19=\"X\",10,AW19)))),0)))+SUM((IF(AX60=\"STR\",(IF(AW60=20,10+IF(AW22=\"X\",10,AW22),(IF(AW22=\"X\",10,AW22)))),0)))+SUM((IF(AX63=\"STR\",(IF(AW63=20,10+IF(AW25=\"X\",10,AW25),(IF(AW25=\"X\",10,AW25)))),0)))+SUM((IF(AX66=\"STR\",(IF(AW66=20,10+IF(AW28=\"X\",10,AW28),(IF(AW28=\"X\",10,AW28)))),0)))+SUM((IF(AX69=\"STR\",(IF(AW69=20,10+IF(AW31=\"X\",10,AW31),(IF(AW31=\"X\",10,AW31)))),0)))","v":0},"StrikeFill",{"$f":"SUM((IF(AZ42=\"STR\",(IF(AY42=20,10+IF(AY4=\"X\",10,AY4),(IF(AY4=\"X\",10,AY4)))),0)))+SUM((IF(AZ45=\"STR\",(IF(AY45=20,10+IF(AY7=\"X\",10,AY7),(IF(AY7=\"X\",10,AY7)))),0)))+SUM((IF(AZ48=\"STR\",(IF(AY48=20,10+IF(AY10=\"X\",10,AY10),(IF(AY10=\"X\",10,AY10)))),0)))+SUM((IF(AZ51=\"STR\",(IF(AY51=20,10+IF(AY13=\"X\",10,AY13),(IF(AY13=\"X\",10,AY13)))),0)))+SUM((IF(AZ54=\"STR\",(IF(AY54=20,10+IF(AY16=\"X\",10,AY16),(IF(AY16=\"X\",10,AY16)))),0)))+SUM((IF(AZ57=\"STR\",(IF(AY57=20,10+IF(AY19=\"X\",10,AY19),(IF(AY19=\"X\",10,AY19)))),0)))+SUM((IF(AZ60=\"STR\",(IF(AY60=20,10+IF(AY22=\"X\",10,AY22),(IF(AY22=\"X\",10,AY22)))),0)))+SUM((IF(AZ63=\"STR\",(IF(AY63=20,10+IF(AY25=\"X\",10,AY25),(IF(AY25=\"X\",10,AY25)))),0)))+SUM((IF(AZ66=\"STR\",(IF(AY66=20,10+IF(AY28=\"X\",10,AY28),(IF(AY28=\"X\",10,AY28)))),0)))+SUM((IF(AZ69=\"STR\",(IF(AY69=20,10+IF(AY31=\"X\",10,AY31),(IF(AY31=\"X\",10,AY31)))),0)))","v":0},"StrikeFill",{"$f":"SUM((IF(BB42=\"STR\",(IF(BA42=20,10+IF(BA4=\"X\",10,BA4),(IF(BA4=\"X\",10,BA4)))),0)))+SUM((IF(BB45=\"STR\",(IF(BA45=20,10+IF(BA7=\"X\",10,BA7),(IF(BA7=\"X\",10,BA7)))),0)))+SUM((IF(BB48=\"STR\",(IF(BA48=20,10+IF(BA10=\"X\",10,BA10),(IF(BA10=\"X\",10,BA10)))),0)))+SUM((IF(BB51=\"STR\",(IF(BA51=20,10+IF(BA13=\"X\",10,BA13),(IF(BA13=\"X\",10,BA13)))),0)))+SUM((IF(BB54=\"STR\",(IF(BA54=20,10+IF(BA16=\"X\",10,BA16),(IF(BA16=\"X\",10,BA16)))),0)))+SUM((IF(BB57=\"STR\",(IF(BA57=20,10+IF(BA19=\"X\",10,BA19),(IF(BA19=\"X\",10,BA19)))),0)))+SUM((IF(BB60=\"STR\",(IF(BA60=20,10+IF(BA22=\"X\",10,BA22),(IF(BA22=\"X\",10,BA22)))),0)))+SUM((IF(BB63=\"STR\",(IF(BA63=20,10+IF(BA25=\"X\",10,BA25),(IF(BA25=\"X\",10,BA25)))),0)))+SUM((IF(BB66=\"STR\",(IF(BA66=20,10+IF(BA28=\"X\",10,BA28),(IF(BA28=\"X\",10,BA28)))),0)))+SUM((IF(BB69=\"STR\",(IF(BA69=20,10+IF(BA31=\"X\",10,BA31),(IF(BA31=\"X\",10,BA31)))),0)))","v":0},"StrikeFill",{"$f":"SUM((IF(BD42=\"STR\",(IF(BC42=20,10+IF(BC4=\"X\",10,BC4),(IF(BC4=\"X\",10,BC4)))),0)))+SUM((IF(BD45=\"STR\",(IF(BC45=20,10+IF(BC7=\"X\",10,BC7),(IF(BC7=\"X\",10,BC7)))),0)))+SUM((IF(BD48=\"STR\",(IF(BC48=20,10+IF(BC10=\"X\",10,BC10),(IF(BC10=\"X\",10,BC10)))),0)))+SUM((IF(BD51=\"STR\",(IF(BC51=20,10+IF(BC13=\"X\",10,BC13),(IF(BC13=\"X\",10,BC13)))),0)))+SUM((IF(BD54=\"STR\",(IF(BC54=20,10+IF(BC16=\"X\",10,BC16),(IF(BC16=\"X\",10,BC16)))),0)))+SUM((IF(BD57=\"STR\",(IF(BC57=20,10+IF(BC19=\"X\",10,BC19),(IF(BC19=\"X\",10,BC19)))),0)))+SUM((IF(BD60=\"STR\",(IF(BC60=20,10+IF(BC22=\"X\",10,BC22),(IF(BC22=\"X\",10,BC22)))),0)))+SUM((IF(BD63=\"STR\",(IF(BC63=20,10+IF(BC25=\"X\",10,BC25),(IF(BC25=\"X\",10,BC25)))),0)))+SUM((IF(BD66=\"STR\",(IF(BC66=20,10+IF(BC28=\"X\",10,BC28),(IF(BC28=\"X\",10,BC28)))),0)))+SUM((IF(BD69=\"STR\",(IF(BC69=20,10+IF(BC31=\"X\",10,BC31),(IF(BC31=\"X\",10,BC31)))),0)))","v":0},"StrikeFill",{"$f":"SUM((IF(BF42=\"STR\",(IF(BE42=20,10+IF(BE4=\"X\",10,BE4),(IF(BE4=\"X\",10,BE4)))),0)))+SUM((IF(BF45=\"STR\",(IF(BE45=20,10+IF(BE7=\"X\",10,BE7),(IF(BE7=\"X\",10,BE7)))),0)))+SUM((IF(BF48=\"STR\",(IF(BE48=20,10+IF(BE10=\"X\",10,BE10),(IF(BE10=\"X\",10,BE10)))),0)))+SUM((IF(BF51=\"STR\",(IF(BE51=20,10+IF(BE13=\"X\",10,BE13),(IF(BE13=\"X\",10,BE13)))),0)))+SUM((IF(BF54=\"STR\",(IF(BE54=20,10+IF(BE16=\"X\",10,BE16),(IF(BE16=\"X\",10,BE16)))),0)))+SUM((IF(BF57=\"STR\",(IF(BE57=20,10+IF(BE19=\"X\",10,BE19),(IF(BE19=\"X\",10,BE19)))),0)))+SUM((IF(BF60=\"STR\",(IF(BE60=20,10+IF(BE22=\"X\",10,BE22),(IF(BE22=\"X\",10,BE22)))),0)))+SUM((IF(BF63=\"STR\",(IF(BE63=20,10+IF(BE25=\"X\",10,BE25),(IF(BE25=\"X\",10,BE25)))),0)))+SUM((IF(BF66=\"STR\",(IF(BE66=20,10+IF(BE28=\"X\",10,BE28),(IF(BE28=\"X\",10,BE28)))),0)))+SUM((IF(BF69=\"STR\",(IF(BE69=20,10+IF(BE31=\"X\",10,BE31),(IF(BE31=\"X\",10,BE31)))),0)))","v":0}]
[null,null,null,null,null,null,null,null,null,null,null,null,null,null,null,null,null,null,"STR1-10",{"$f":"COUNTIF(T42:T71,\"STR\")","v":0},"STR1-10",{"$f":"COUNTIF(V42:V71,\"STR\")","v":0},"STR1-10",{"$f":"COUNTIF(X42:X71,\"STR\")","v":0},"STR1-10",{"$f":"COUNTIF(Z42:Z71,\"STR\")","v":0},"STR1-10",{"$f":"COUNTIF(AB42:AB71,\"STR\")","v":0},"STR1-10",{"$f":"COUNTIF(AD42:AD71,\"STR\")","v":0},"STR1-10",{"$f":"COUNTIF(AF42:AF71,\"STR\")","v":0},"STR1-10",{"$f":"COUNTIF(AH42:AH71,\"STR\")","v":0},"STR1-10",{"$f":"COUNTIF(AJ42:AJ71,\"STR\")","v":0},"STR1-10",{"$f":"COUNTIF(AL42:AL71,\"STR\")","v":0},"STR1-10",{"$f":"COUNTIF(AN42:AN71,\"STR\")","v":0},"STR1-10",{"$f":"COUNTIF(AP42:AP71,\"STR\")","v":0},"STR1-10",{"$f":"COUNTIF(AR42:AR71,\"STR\")","v":0},"STR1-10",{"$f":"COUNTIF(AT42:AT71,\"STR\")","v":0},"STR1-10",{"$f":"COUNTIF(AV42:AV71,\"STR\")","v":0},"STR1-10",{"$f":"COUNTIF(AX42:AX71,\"STR\")","v":0},"STR1-10",{"$f":"COUNTIF(AZ42:AZ71,\"STR\")","v":0},"STR1-10",{"$f":"COUNTIF(BB42:BB71,\"STR\")","v":0},"STR1-10",{"$f":"COUNTIF(BD42:BD71,\"STR\")","v":0},"STR1-10",{"$f":"COUNTIF(BF42:BF71,\"STR\")","v":0}]
[null,null,null,null,null,null,null,null,null,null,null,null,null,null,null,null,null,null,"SPA1-10",{"$f":"COUNTIF(T42:T71,\"SPA\")","v":0},"SPA1-10",{"$f":"COUNTIF(V42:V71,\"SPA\")","v":0},"SPA1-10",{"$f":"COUNTIF(X42:X71,\"SPA\")","v":0},"SPA1-10",{"$f":"COUNTIF(Z42:Z71,\"SPA\")","v":0},"SPA1-10",{"$f":"COUNTIF(AB42:AB71,\"SPA\")","v":0},"SPA1-10",{"$f":"COUNTIF(AD42:AD71,\"SPA\")","v":0},"SPA1-10",{"$f":"COUNTIF(AF42:AF71,\"SPA\")","v":0},"SPA1-10",{"$f":"COUNTIF(AH42:AH71,\"SPA\")","v":0},"SPA1-10",{"$f":"COUNTIF(AJ42:AJ71,\"SPA\")","v":0},"SPA1-10",{"$f":"COUNTIF(AL42:AL71,\"SPA\")","v":0},"SPA1-10",{"$f":"COUNTIF(AN42:AN71,\"SPA\")","v":0},"SPA1-10",{"$f":"COUNTIF(AP42:AP71,\"SPA\")","v":0},"SPA1-10",{"$f":"COUNTIF(AR42:AR71,\"SPA\")","v":0},"SPA1-10",{"$f":"COUNTIF(AT42:AT71,\"SPA\")","v":0},"SPA1-10",{"$f":"COUNTIF(AV42:AV71,\"SPA\")","v":0},"SPA1-10",{"$f":"COUNTIF(AX42:AX71,\"SPA\")","v":0},"SPA1-10",{"$f":"COUNTIF(AZ42:AZ71,\"SPA\")","v":0},"SPA1-10",{"$f":"COUNTIF(BB42:BB71,\"SPA\")","v":0},"SPA1-10",{"$f":"COUNTIF(BD42:BD71,\"SPA\")","v":0},"SPA1-10",{"$f":"COUNTIF(BF42:BF71,\"SPA\")","v":0}]
[]
[]
[]
[]
[]
[]
[]
[]
[]
[]
[]
[]
[]
[]
[]
[]
[]
[]
[]
[]
[]
[]
[]
[]
[]
[]
[]
[]
[]
[]
[]
[]
[]
[]
[]
[]
[]
[]
[]
[]
[]
[]
[]
[]
[]
[]
[]
[]
[null,null,null,null,null,null,null,null,null,null,null,null,null,null,null,null,null,null,50,{"$f":"X31+AF31+AN31+AV31-T31-AB31-AJ31-AR31+BD31-AZ31","v":0},50,{"$f":"Z31+AH31+AP31+AX31-V31-AD31-AL31-AT31+#REF!-#REF!","v":{"$error":"#REF!"}}]

{"sheet":"How-To","index":1,"n_rows":45,"n_cols":11,"rows_kept":45,"cut":false,"hidden":false,"merged":[[42,0,42,1],[21,10,23,15],[0,8,26,8],[9,9,11,9],[9,10,11,15],[12,9,14,9],[12,10,14,15],[15,9,17,9],[15,10,17,15],[0,9,1,15],[2,9,2,15],[3,9,5,9],[3,10,5,15],[6,9,8,9],[6,10,8,15],[18,9,20,9],[30,0,31,5],[30,6,31,8],[6,1,8,2],[6,3,8,7],[18,10,20,15],[39,0,39,1],[36,0,36,1],[33,0,34,5],[0,0,1,7],[2,0,2,7],[3,0,5,0],[6,0,8,0],[21,1,26,2],[21,3,26,7],[3,1,5,2],[3,3,5,7],[15,1,20,2],[15,3,20,7],[9,3,14,7],[9,1,14,2]]}
["ACST Double-Header Scoresheet Instructions",null,null,null,null,null,null,null,null,"HOTKEYS / SHORTCUTS"]
[]
["Thanks for grabbing and attempting to use the ACST Double-header scoresheet!  To make things easier, I have tried to incorporate a very basic system of scoring and using hotkeys in order to help people score and track things easily.\n\nFor starters, I have a few definitions for Headpins and Splits ::",null,null,null,null,null,null,null,null,"Below is a list of all of the various hotkeys we have baked into the scoresheet to handle the artwork and marks.  It is important to note the proper order of putting artwork in a cell is ::\n1st :: Headpin.  2nd :: Split.  3rd :: Mark\nThis doesn't impact scoring, but it looks the nicest!"]
[null,"HEADPINS ::",null,"If the headpin is knocked down BY THE BALL on the first ball of a box, score a headpin hit by holding CTRL+SHIFT+A.",null,null,null,null,null,null,"HEADPIN = CTRL+SHIFT+A"]
[]
[]
[null,"SPLITS ::",null,"If for the spare leave, there is at no headpin and at least a 1-pin gap between pins standing, mark it as a split.  4-5-7-8 is NOT a split.  CTRL+SHIFT+Q",null,null,null,null,null,null,"SPLIT = CTRL+SHIFT+Q"]
[]
[]
[null,"GETTING STARTED ::",null,"On the left side of \"Scores\" fill in the Conference (North, South), Class for each match, date and location.  After that enter each bowler's first and last names accordingly.  Red & Blue for the First match bowlers, Green and Purple for the 2nd match bowlers.  After that you're ready to start scoring!",null,null,null,null,null,null,"SPARE = CTRL+SHIFT+S"]
[]
[]
[null,null,null,null,null,null,null,null,null,null,"STRIKE = CTRL+SHIFT+X"]
[]
[]
[null,"MOVING ::",null,"For the most part this should be pretty straight forward - the sheet will guide you from score box to scorebox using the arrows to move around.    However, once artwork is in a cell, you cannot click on it.  Click on an empty cell and arrow to the cell you want.",null,null,null,null,null,null,"DOUBLE = CTRL+SHIFT+C"]
[]
[]
[null,null,null,null,null,null,null,null,null,null,"CLEAR CELL = CTRL+SHIFT+Z"]
[]
[]
[null,"SCORING ::",null,"The value of a box should be filled from 0 to 10 for a Ten box (not an X for a ten).  HOWEVER when filling a mark, use an X to indicate a strike on spare or spare on strike.  This allows the sheet to distinguish between a 10 and a fill for the stats.",null,null,null,null,null,null,"Clear cell wipes out the content of the box you are in - both the text and the art."]
[]
[]
[]
[]
[]
[]
[]
[]
["VERSION ::",null,null,null,null,null,"2024.10.07.1"]
[]
[]
["CHANGE LOG ::"]
[]
[]
["2024.10.07",null,"Calculations for points in 2nd pair"]
[]
[]
["2024.09.02.1",null,"Implementation of the \"Green Square\" highlighting the active cell"]
[]
[]
["2024.08.02.1",null,"Implementation of changes for Average Strike/Spare Fill"]
[null,null,"Implementation of additional rows tallying \"bonus\" Strikes/Spares in the 10th Box"]
[null,null,"Implementation of fields in \"For Micah\" to collect \"bonus Strikes/Spares in the 10th Box"]

{"sheet":"for Micah","index":2,"n_rows":4,"n_cols":37,"rows_kept":4,"cut":false,"hidden":false,"merged":[]}
["CONF","CLASS","ROUND","Away","Home","A1","A2","A3","A4","A5","H1","H2","H3","H4","H5","HWIN","LANES","AX","A/","A10","AL","ASTRF","ASPAF","AHP","AO","HX","H/","H10","HL","HSTRF","HSPAF","HHP","HO","ABONX","ABON/","HBONX","HBON/"]
[{"$f":"Scores!F4","v":0},{"$f":"Scores!F6","v":"M1 Class"},{"$f":"Scores!F8","v":"M1 Round"},{"$f":"Scores!B22 & \" \" & Scores!B26","v":"B1 First B1 Last"},{"$f":"Scores!B29 & \" \" & Scores!B33","v":"B2 First B2 Last"},{"$f":"Scores!F28","v":0},{"$f":"Scores!G28","v":0},{"$f":"Scores!H28","v":0},{"$f":"Scores!I28","v":0},{"$f":"Scores!J28","v":0},{"$f":"Scores!F35","v":0},{"$f":"Scores!G35","v":0},{"$f":"Scores!H35","v":0},{"$f":"Scores!I35","v":0},{"$f":"Scores!J35","v":0},{"$f":"Scores!A29","v":0},{"$f":"Scores!F12","v":0},{"$f":"Scores!K24","v":0},{"$f":"Scores!K25","v":0},{"$f":"Scores!K26","v":0},{"$f":"Scores!K27","v":0},{"$f":"Scores!O57","v":0},{"$f":"Scores!N57","v":0},{"$f":"Scores!K22","v":0},{"$f":"Scores!K23","v":0},{"$f":"Scores!K31","v":0},{"$f":"Scores!K32","v":0},{"$f":"Scores!K33","v":0},{"$f":"Scores!K34","v":0},{"$f":"Scores!O58","v":0},{"$f":"Scores!N58","v":0},{"$f":"Scores!K29","v":0},{"$f":"Scores!K30","v":0},{"$f":"R2-SUM(Scores!T83,Scores!AB83,Scores!AJ83,Scores!AR83,Scores!AZ83)","v":0},{"$f":"S2-SUM(Scores!T84,Scores!AB84,Scores!AJ84,Scores!AR84,Scores!AZ84)","v":0},{"$f":"Z2-SUM(Scores!X83,Scores!AF83,Scores!AN83,Scores!AV83,Scores!BD83)","v":0},{"$f":"AA2-SUM(Scores!X84,Scores!AF84,Scores!AN84,Scores!AV84,Scores!BD84)","v":0}]
[{"$f":"Scores!F4","v":0},{"$f":"Scores!I6","v":"M2 Class"},{"$f":"Scores!I8","v":"M2 Round"},{"$f":"Scores!B36 & \" \" & Scores!B40","v":"B3 First B3 Last"},{"$f":"Scores!B43 & \" \" & Scores!B47","v":"B4 First B4 Last"},{"$f":"Scores!F42","v":0},{"$f":"Scores!G42","v":0},{"$f":"Scores!H42","v":0},{"$f":"Scores!I42","v":0},{"$f":"Scores!J42","v":0},{"$f":"Scores!F49","v":0},{"$f":"Scores!G49","v":0},{"$f":"Scores!H49","v":0},{"$f":"Scores!I49","v":0},{"$f":"Scores!J49","v":0},{"$f":"Scores!A43","v":0},{"$f":"Scores!F12","v":0},{"$f":"Scores!K38","v":0},{"$f":"Scores!K39","v":0},{"$f":"Scores!K40","v":0},{"$f":"Scores!K41","v":0},{"$f":"Scores!O59","v":0},{"$f":"Scores!N59","v":0},{"$f":"Scores!K36","v":0},{"$f":"Scores!K37","v":0},{"$f":"Scores!K45","v":0},{"$f":"Scores!K46","v":0},{"$f":"Scores!K47","v":0},{"$f":"Scores!K48","v":0},{"$f":"Scores!O60","v":0},{"$f":"Scores!N60","v":0},{"$f":"Scores!K43","v":0},{"$f":"Scores!K44","v":0},{"$f":"R3-SUM(Scores!V83,Scores!AD83,Scores!AL83,Scores!AT83,Scores!BB83)","v":0},{"$f":"S3-SUM(Scores!V84,Scores!AD84,Scores!AL84,Scores!AT84,Scores!BB84)","v":0},{"$f":"Z3-SUM(Scores!Z83,Scores!AH83,Scores!AP83,Scores!AX83,Scores!BF83)","v":0},{"$f":"AA3-SUM(Scores!Z84,Scores!AH84,Scores!AP84,Scores!AX84,Scores!BF84)","v":0}]
[null,null,null,null,null,null,null,null,null,null,null,null,null,null,null,"HWIN","LANES","AX","A/","A10","AL","ASTRF","ASPAF","AHP","AO","HX","H/","H10","HL","HSTRF","HSPAF","HHP","HO","ABONX","ABON/","HBONX","HBON/"]