{"text_format":"1","workbook":"xlsx","n_sheets":3,"sheets":["Scores","How-To","For Micah"],"not_rendered":{"charts":1,"images":7,"macros":1,"external_links":0,"defined_names":3,"comments":0,"pivot_tables":0},"unopened":[],"bounds":{"document_bytes":16777216,"sheet_cells":100000,"rows_first":2000,"rows_last":500,"rows_between":2000,"halvings":0,"cell_chars":16384,"cell_head_chars":4096},"cells_cut":0,"cells_raw":0,"read":"whole","date_system":"1900"}

{"sheet":"Scores","index":0,"n_rows":135,"n_cols":38,"rows_kept":135,"cut":false,"hidden":false,"merged":[[21,2,22,3],[23,2,24,3],[28,2,29,3],[30,2,31,3],[25,2,27,2],[25,3,27,3],[32,2,34,2],[32,3,34,3],[1,0,2,10],[28,0,34,0],[19,0,20,0],[19,1,20,1],[19,4,20,4],[19,5,20,5],[19,2,20,3],[5,3,6,4],[5,5,6,10],[7,3,8,4],[3,3,4,4],[19,8,20,8],[19,9,20,9],[19,10,20,10],[3,5,4,10],[9,3,10,4],[31,11,34,12],[31,13,32,14],[31,15,34,16],[33,13,34,14],[19,11,22,12],[19,13,20,14],[19,15,22,16],[21,13,22,14],[23,11,26,12],[23,13,24,14],[23,15,26,16],[25,13,26,14],[27,11,30,12],[27,13,28,14],[27,15,30,16],[29,13,30,14],[1,18,1,19],[2,18,2,19],[3,19,5,19],[1,24,1,25],[2,22,2,23],[2,24,2,25],[3,22,5,22],[3,23,5,23],[3,24,5,24],[1,22,1,23],[3,25,5,25],[12,20,14,20],[12,21,14,21],[1,20,1,21],[2,20,2,21],[3,20,5,20],[3,21,5,21],[6,20,8,20],[6,21,8,21],[9,20,11,20],[9,21,11,21],[0,26,0,29],[0,30,0,33],[0,34,0,37],[32,1,34,1],[25,1,27,1],[28,1,31,1],[3,18,5,18],[15,18,17,18],[6,18,8,18],[12,18,14,18],[7,5,8,10],[6,19,8,19],[6,17,8,17],[9,19,11,19],[9,17,11,17],[9,18,11,18],[19,6,20,6],[19,7,20,7],[15,17,17,17],[30,21,32,21],[0,18,0,21],[0,22,0,25],[12,19,14,19],[9,5,10,10],[11,3,12,4],[11,5,12,10],[9,14,11,16],[12,11,14,13],[12,14,14,16],[15,11,18,12],[15,13,16,14],[1,11,2,16],[15,15,18,16],[6,15,8,16],[9,11,11,13],[24,17,26,17],[1,17,2,17],[3,17,5,17],[18,17,20,17],[12,17,14,17],[3,11,5,16],[6,11,8,14],[17,13,18,14],[18,21,20,21],[18,18,20,18],[18,19,20,19],[21,19,23,19],[21,17,23,17],[21,18,23,18],[24,18,26,18],[24,19,26,19],[21,20,23,20],[21,21,23,21],[24,20,26,20],[24,21,26,21],[18,20,20,20],[15,19,17,19],[15,20,17,20],[15,21,17,21],[30,18,32,18],[30,19,32,19],[27,17,29,17],[27,18,29,18],[27,19,29,19],[30,20,32,20],[37,20,39,21],[33,18,35,19],[33,17,35,17],[27,20,29,20],[27,21,29,21],[37,18,39,18],[37,19,39,19],[36,18,36,21],[33,20,35,21],[30,17,32,17],[6,22,8,22],[6,23,8,23],[6,24,8,24],[6,25,8,25],[30,22,32,22],[30,23,32,23],[30,24,32,24],[30,25,32,25],[33,22,35,23],[33,24,35,25],[18,22,20,22],[18,23,20,23],[18,24,20,24],[18,25,20,25],[21,22,23,22],[21,23,23,23],[21,24,23,24],[21,25,23,25],[24,22,26,22],[24,23,26,23],[24,24,26,24],[24,25,26,25],[9,26,11,26],[9,27,11,27],[9,28,11,28],[9,29,11,29],[12,26,14,26],[12,27,14,27],[12,28,14,28],[12,29,14,29],[27,22,29,22],[27,23,29,23],[27,24,29,24],[27,25,29,25],[9,22,11,22],[9,23,11,23],[9,24,11,24],[9,25,11,25],[12,22,14,22],[12,23,14,23],[12,24,14,24],[12,25,14,25],[15,22,17,22],[15,23,17,23],[15,24,17,24],[15,25,17,25],[1,26,1,27],[1,28,1,29],[2,26,2,27],[2,28,2,29],[3,26,5,26],[3,27,5,27],[3,28,5,28],[3,29,5,29],[6,26,8,26],[6,27,8,27],[6,28,8,28],[6,29,8,29],[27,27,29,27],[27,28,29,28],[27,29,29,29],[30,26,32,26],[30,27,32,27],[30,28,32,28],[30,29,32,29],[15,26,17,26],[15,27,17,27],[15,28,17,28],[15,29,17,29],[18,26,20,26],[18,27,20,27],[18,28,20,28],[18,29,20,29],[21,26,23,26],[21,27,23,27],[21,28,23,28],[21,29,23,29],[33,26,35,27],[33,28,35,29],[37,28,39,29],[1,30,1,31],[1,32,1,33],[2,30,2,31],[2,32,2,33],[3,30,5,30],[3,31,5,31],[3,32,5,32],[3,33,5,33],[6,30,8,30],[6,31,8,31],[6,32,8,32],[6,33,8,33],[9,30,11,30],[9,31,11,31],[9,32,11,32],[9,33,11,33],[12,30,14,30],[12,31,14,31],[24,27,26,27],[24,28,26,28],[24,29,26,29],[30,30,32,30],[30,31,32,31],[30,32,32,32],[30,33,32,33],[33,30,35,31],[33,32,35,33],[37,32,39,33],[12,32,14,32],[12,33,14,33],[15,30,17,30],[15,31,17,31],[15,32,17,32],[15,33,17,33],[18,30,20,30],[18,31,20,31],[18,32,20,32],[18,33,20,33],[1,34,1,35],[1,36,1,37],[2,34,2,35],[2,36,2,37],[3,34,5,34],[3,35,5,35],[3,36,5,36],[3,37,5,37],[6,34,8,34],[6,35,8,35],[6,36,8,36],[6,37,8,37],[9,34,11,34],[9,35,11,35],[9,36,11,36],[9,37,11,37],[12,34,14,34],[12,35,14,35],[12,36,14,36],[12,37,14,37],[15,37,17,37],[15,34,17,34],[15,35,17,35],[15,36,17,36],[18,34,20,34],[18,35,20,35],[18,36,20,36],[18,37,20,37],[21,34,23,34],[21,35,23,35],[21,36,23,36],[21,37,23,37],[21,0,27,0],[21,1,24,1],[21,30,23,30],[21,31,23,31],[21,32,23,32],[21,33,23,33],[24,30,26,30],[24,31,26,31],[24,32,26,32],[24,33,26,33],[27,30,29,30],[27,31,29,31],[27,32,29,32],[27,33,29,33],[24,26,26,26],[27,26,29,26],[33,34,35,35],[33,36,35,37],[37,36,39,37],[24,34,26,34],[24,35,26,35],[24,36,26,36],[24,37,26,37],[27,34,29,34],[27,35,29,35],[27,36,29,36],[27,37,29,37],[30,34,32,34],[30,35,32,35],[30,36,32,36],[30,37,32,37],[36,34,36,37],[37,34,39,34],[37,35,39,35],[37,22,39,22],[37,23,39,23],[36,22,36,25],[36,26,36,29],[37,26,39,26],[37,27,39,27],[36,30,36,33],[37,30,39,30],[37,31,39,31],[37,24,39,25]]}
[null,null,null,null,null,null,null,null,null,null,null,null,null,null,null,null,null,null,"STRING 01",null,null,null,"STRING 02",null,null,null,"STRING 03",null,null,null,"STRING 04",null,null,null,"STRING 05"]
[" ",null,null,null,null,null,null,null,null,null,null,"Match Results",null,null,null,null,null,"Bowler",{"$f":"$B$22","v":"B1 First"},null,{"$f":"$B$29","v":"B2 First"},null,{"$f":"$B$22","v":"B1 First"},null,{"$f":"$B$29","v":"B2 First"},null,{"$f":"$B$22","v":"B1 First"},null,{"$f":"$B$29","v":"B2 First"},null,{"$f":"$B$22","v":"B1 First"},null,{"$f":"$B$29","v":"B2 First"},null,{"$f":"$B$22","v":"B1 First"},null,{"$f":"$B$29","v":"B2 First"}]
[null,null,null,null,null,null,null,null,null,null,null,null,null,null,null,null,null,null,{"$f":"$B$26","v":"B1 Last"},null,{"$f":"$B$33","v":"B2 Last"},null,{"$f":"$B$26","v":"B1 Last"},null,{"$f":"$B$33","v":"B2 Last"},null,{"$f":"$B$26","v":"B1 Last"},null,{"$f":"$B$33","v":"B2 Last"},null,{"$f":"$B$26","v":"B1 Last"},null,{"$f":"$B$33","v":"B2 Last"},null,{"$f":"$B$26","v":"B1 Last"},null,{"$f":"$B$33","v":"B2 Last"}]
[null,null,null,"Conference ::",null,null,null,null,null,null,null,"TOTAL",null,null,null,null,null,1,null,{"$f":"IF(OR(S4<>\"\",S42<>\"\"),(IF(S4=\"X\",SUM(T1+10+S42),(SUM(T1+S4+S42)))),0)","v":0},null,{"$f":"IF(OR(U4<>\"\",U42<>\"\"),(IF(U4=\"X\",SUM(V1+10+U42),(SUM(V1+U4+U42)))),0)","v":0},null,{"$f":"IF(OR(W4<>\"\",W42<>\"\"),(IF(W4=\"X\",SUM(X1+10+W42),(SUM(X1+W4+W42)))),0)","v":0},null,{"$f":"IF(OR(Y4<>\"\",Y42<>\"\"),(IF(Y4=\"X\",SUM(Z1+10+Y42),(SUM(Z1+Y4+Y42)))),0)","v":0},null,{"$f":"IF(OR(AA4<>\"\",AA42<>\"\"),(IF(AA4=\"X\",SUM(AB1+10+AA42),(SUM(AB1+AA4+AA42)))),0)","v":0},null,{"$f":"IF(OR(AC4<>\"\",AC42<>\"\"),(IF(AC4=\"X\",SUM(AD1+10+AC42),(SUM(AD1+AC4+AC42)))),0)","v":0},null,{"$f":"IF(OR(AE4<>\"\",AE42<>\"\"),(IF(AE4=\"X\",SUM(AF1+10+AE42),(SUM(AF1+AE4+AE42)))),0)","v":0},null,{"$f":"IF(OR(AG4<>\"\",AG42<>\"\"),(IF(AG4=\"X\",SUM(AH1+10+AG42),(SUM(AH1+AG4+AG42)))),0)","v":0},null,{"$f":"IF(OR(AI4<>\"\",AI42<>\"\"),(IF(AI4=\"X\",SUM(AJ1+10+AI42),(SUM(AJ1+AI4+AI42)))),0)","v":0},null,{"$f":"IF(OR(AK4<>\"\",AK42<>\"\"),(IF(AK4=\"X\",SUM(AL1+10+AK42),(SUM(AL1+AK4+AK42)))),0)","v":0}]
[]
[null,null,null,"Class ::"]
[null,null,null,null,null,null,null,null,null,null,null,{"$f":"IF((L10>O10),B22,(IF((L10<O10),B29,\"TIE\")))","v":"TIE"},null,null,null,{"$f":"\"+\"&SUM((MAX(L10,O10)-(LARGE((L10,O10),2))))","v":"+0"},null,2,null,{"$f":"IF(OR(S7<>\"\",S45<>\"\"),(IF(S7=\"X\",SUM(T4+10+S45),(SUM(T4+S7+S45)))),0)","v":0},null,{"$f":"IF(OR(U7<>\"\",U45<>\"\"),(IF(U7=\"X\",SUM(V4+10+U45),(SUM(V4+U7+U45)))),0)","v":0},null,{"$f":"IF(OR(W7<>\"\",W45<>\"\"),(IF(W7=\"X\",SUM(X4+10+W45),(SUM(X4+W7+W45)))),0)","v":0},null,{"$f":"IF(OR(Y7<>\"\",Y45<>\"\"),(IF(Y7=\"X\",SUM(Z4+10+Y45),(SUM(Z4+Y7+Y45)))),0)","v":0},null,{"$f":"IF(OR(AA7<>\"\",AA45<>\"\"),(IF(AA7=\"X\",SUM(AB4+10+AA45),(SUM(AB4+AA7+AA45)))),0)","v":0},null,{"$f":"IF(OR(AC7<>\"\",AC45<>\"\"),(IF(AC7=\"X\",SUM(AD4+10+AC45),(SUM(AD4+AC7+AC45)))),0)","v":0},null,{"$f":"IF(OR(AE7<>\"\",AE45<>\"\"),(IF(AE7=\"X\",SUM(AF4+10+AE45),(SUM(AF4+AE7+AE45)))),0)","v":0},null,{"$f":"IF(OR(AG7<>\"\",AG45<>\"\"),(IF(AG7=\"X\",SUM(AH4+10+AG45),(SUM(AH4+AG7+AG45)))),0)","v":0},null,{"$f":"IF(OR(AI7<>\"\",AI45<>\"\"),(IF(AI7=\"X\",SUM(AJ4+10+AI45),(SUM(AJ4+AI7+AI45)))),0)","v":0},null,{"$f":"IF(OR(AK7<>\"\",AK45<>\"\"),(IF(AK7=\"X\",SUM(AL4+10+AK45),(SUM(AL4+AK7+AK45)))),0)","v":0}]
[null,null,null,"Round ::",null,""]
[]
[null,null,null,"Date ::",null,null,null,null,null,null,null,{"$f":"SUM(L16:M35)","v":0},null,null,{"$f":"SUM(P16:Q35)","v":0},null,null,3,null,{"$f":"IF(OR(S10<>\"\",S48<>\"\"),(IF(S10=\"X\",SUM(T7+10+S48),(SUM(T7+S10+S48)))),0)","v":0},null,{"$f":"IF(OR(U10<>\"\",U48<>\"\"),(IF(U10=\"X\",SUM(V7+10+U48),(SUM(V7+U10+U48)))),0)","v":0},null,{"$f":"IF(OR(W10<>\"\",W48<>\"\"),(IF(W10=\"X\",SUM(X7+10+W48),(SUM(X7+W10+W48)))),0)","v":0},null,{"$f":"IF(OR(Y10<>\"\",Y48<>\"\"),(IF(Y10=\"X\",SUM(Z7+10+Y48),(SUM(Z7+Y10+Y48)))),0)","v":0},null,{"$f":"IF(OR(AA10<>\"\",AA48<>\"\"),(IF(AA10=\"X\",SUM(AB7+10+AA48),(SUM(AB7+AA10+AA48)))),0)","v":0},null,{"$f":"IF(OR(AC10<>\"\",AC48<>\"\"),(IF(AC10=\"X\",SUM(AD7+10+AC48),(SUM(AD7+AC10+AC48)))),0)","v":0},null,{"$f":"IF(OR(AE10<>\"\",AE48<>\"\"),(IF(AE10=\"X\",SUM(AF7+10+AE48),(SUM(AF7+AE10+AE48)))),0)","v":0},null,{"$f":"IF(OR(AG10<>\"\",AG48<>\"\"),(IF(AG10=\"X\",SUM(AH7+10+AG48),(SUM(AH7+AG10+AG48)))),0)","v":0},null,{"$f":"IF(OR(AI10<>\"\",AI48<>\"\"),(IF(AI10=\"X\",SUM(AJ7+10+AI48),(SUM(AJ7+AI10+AI48)))),0)","v":0},null,{"$f":"IF(OR(AK10<>\"\",AK48<>\"\"),(IF(AK10=\"X\",SUM(AL7+10+AK48),(SUM(AL7+AK10+AK48)))),0)","v":0}]
[]
[null,null,null,"Location ::"]
[null,null,null,null,null,null,null,null,null,null,null,{"$f":"B22","v":"B1 First"},null,null,{"$f":"B29","v":"B2 First"},null,null,4,null,{"$f":"IF(OR(S13<>\"\",S51<>\"\"),(IF(S13=\"X\",SUM(T10+10+S51),(SUM(T10+S13+S51)))),0)","v":0},null,{"$f":"IF(OR(U13<>\"\",U51<>\"\"),(IF(U13=\"X\",SUM(V10+10+U51),(SUM(V10+U13+U51)))),0)","v":0},null,{"$f":"IF(OR(W13<>\"\",W51<>\"\"),(IF(W13=\"X\",SUM(X10+10+W51),(SUM(X10+W13+W51)))),0)","v":0},null,{"$f":"IF(OR(Y13<>\"\",Y51<>\"\"),(IF(Y13=\"X\",SUM(Z10+10+Y51),(SUM(Z10+Y13+Y51)))),0)","v":0},null,{"$f":"IF(OR(AA13<>\"\",AA51<>\"\"),(IF(AA13=\"X\",SUM(AB10+10+AA51),(SUM(AB10+AA13+AA51)))),0)","v":0},null,{"$f":"IF(OR(AC13<>\"\",AC51<>\"\"),(IF(AC13=\"X\",SUM(AD10+10+AC51),(SUM(AD10+AC13+AC51)))),0)","v":0},null,{"$f":"IF(OR(AE13<>\"\",AE51<>\"\"),(IF(AE13=\"X\",SUM(AF10+10+AE51),(SUM(AF10+AE13+AE51)))),0)","v":0},null,{"$f":"IF(OR(AG13<>\"\",AG51<>\"\"),(IF(AG13=\"X\",SUM(AH10+10+AG51),(SUM(AH10+AG13+AG51)))),0)","v":0},null,{"$f":"IF(OR(AI13<>\"\",AI51<>\"\"),(IF(AI13=\"X\",SUM(AJ10+10+AI51),(SUM(AJ10+AI13+AI51)))),0)","v":0},null,{"$f":"IF(OR(AK13<>\"\",AK51<>\"\"),(IF(AK13=\"X\",SUM(AL10+10+AK51),(SUM(AL10+AK13+AK51)))),0)","v":0}]
[]
[]
[null,null,null,null,null,null,null,null,null,null,null,{"$f":" IF(S4<>\"\", (SUM(MAX(T4:T31))),0)","v":0},null,"String 1",null,{"$f":" IF(U4<>\"\", (SUM(MAX(V4:V31))),0)","v":0},null,5,null,{"$f":"IF(OR(S16<>\"\",S54<>\"\"),(IF(S16=\"X\",SUM(T13+10+S54),(SUM(T13+S16+S54)))),0)","v":0},null,{"$f":"IF(OR(U16<>\"\",U54<>\"\"),(IF(U16=\"X\",SUM(V13+10+U54),(SUM(V13+U16+U54)))),0)","v":0},null,{"$f":"IF(OR(W16<>\"\",W54<>\"\"),(IF(W16=\"X\",SUM(X13+10+W54),(SUM(X13+W16+W54)))),0)","v":0},null,{"$f":"IF(OR(Y16<>\"\",Y54<>\"\"),(IF(Y16=\"X\",SUM(Z13+10+Y54),(SUM(Z13+Y16+Y54)))),0)","v":0},null,{"$f":"IF(OR(AA16<>\"\",AA54<>\"\"),(IF(AA16=\"X\",SUM(AB13+10+AA54),(SUM(AB13+AA16+AA54)))),0)","v":0},null,{"$f":"IF(OR(AC16<>\"\",AC54<>\"\"),(IF(AC16=\"X\",SUM(AD13+10+AC54),(SUM(AD13+AC16+AC54)))),0)","v":0},null,{"$f":"IF(OR(AE16<>\"\",AE54<>\"\"),(IF(AE16=\"X\",SUM(AF13+10+AE54),(SUM(AF13+AE16+AE54)))),0)","v":0},null,{"$f":"IF(OR(AG16<>\"\",AG54<>\"\"),(IF(AG16=\"X\",SUM(AH13+10+AG54),(SUM(AH13+AG16+AG54)))),0)","v":0},null,{"$f":"IF(OR(AI16<>\"\",AI54<>\"\"),(IF(AI16=\"X\",SUM(AJ13+10+AI54),(SUM(AJ13+AI16+AI54)))),0)","v":0},null,{"$f":"IF(OR(AK16<>\"\",AK54<>\"\"),(IF(AK16=\"X\",SUM(AL13+10+AK54),(SUM(AL13+AK16+AK54)))),0)","v":0}]
[]
[null,null,null,null,null,null,null,null,null,null,null,null,null,{"$f":"\"+\" & ABS(SUM(L16-P16))","v":"+0"}]
[null,null,null,null,null,null,null,null,null,null,null,null,null,null,null,null,null,6,null,{"$f":"IF(OR(S19<>\"\",S57<>\"\"),(IF(S19=\"X\",SUM(T16+10+S57),(SUM(T16+S19+S57)))),0)","v":0},null,{"$f":"IF(OR(U19<>\"\",U57<>\"\"),(IF(U19=\"X\",SUM(V16+10+U57),(SUM(V16+U19+U57)))),0)","v":0},null,{"$f":"IF(OR(W19<>\"\",W57<>\"\"),(IF(W19=\"X\",SUM(X16+10+W57),(SUM(X16+W19+W57)))),0)","v":0},null,{"$f":"IF(OR(Y19<>\"\",Y57<>\"\"),(IF(Y19=\"X\",SUM(Z16+10+Y57),(SUM(Z16+Y19+Y57)))),0)","v":0},null,{"$f":"IF(OR(AA19<>\"\",AA57<>\"\"),(IF(AA19=\"X\",SUM(AB16+10+AA57),(SUM(AB16+AA19+AA57)))),0)","v":0},null,{"$f":"IF(OR(AC19<>\"\",AC57<>\"\"),(IF(AC19=\"X\",SUM(AD16+10+AC57),(SUM(AD16+AC19+AC57)))),0)","v":0},null,{"$f":"IF(OR(AE19<>\"\",AE57<>\"\"),(IF(AE19=\"X\",SUM(AF16+10+AE57),(SUM(AF16+AE19+AE57)))),0)","v":0},null,{"$f":"IF(OR(AG19<>\"\",AG57<>\"\"),(IF(AG19=\"X\",SUM(AH16+10+AG57),(SUM(AH16+AG19+AG57)))),0)","v":0},null,{"$f":"IF(OR(AI19<>\"\",AI57<>\"\"),(IF(AI19=\"X\",SUM(AJ16+10+AI57),(SUM(AJ16+AI19+AI57)))),0)","v":0},null,{"$f":"IF(OR(AK19<>\"\",AK57<>\"\"),(IF(AK19=\"X\",SUM(AL16+10+AK57),(SUM(AL16+AK19+AK57)))),0)","v":0}]
["POINTS","Name","Total","Average","Stat",1,2,3,4,5,"Total",{"$f":" IF(W4<>\"\", (SUM(MAX(X4:X31))),0)","v":0},null,"String 2",null,{"$f":" IF(Y4<>\"\", (SUM(MAX(Z4:Z31))),0)","v":0}]
[]
[{"$f":"(SUM(IF(AND(S31<>\"\",U31<>\"\",L16=P16),\"1\",IF(AND(S31<>\"\",U31<>\"\",L16>P16),\"2\",\"0\")))+(IF(AND(W31<>\"\",Y31<>\"\",L20=P20),\"1\",IF(AND(W31<>\"\",Y31<>\"\",L20>P20),\"2\",\"0\")))+(IF(AND(AA31<>\"\",AC31<>\"\",L24=P24),\"1\",IF(AND(AA31<>\"\",AC31<>\"\",L24>P24),\"2\",\"0\")))+(IF(AND(AE31<>\"\",AG31<>\"\",L28=P28),\"1\",IF(AND(AE31<>\"\",AG31<>\"\",L28>P28),\"2\",\"0\")))+(IF(AND(AI31<>\"\",AK31<>\"\",L32=P32),\"1\",IF(AND(AI31<>\"\",AK31<>\"\",L32>P32),\"2\",\"0\")))+(IF(AND(AI31<>\"\",AK31<>\"\",L10=O10),\"2\",IF(AND(AI31<>\"\",AK31<>\"\",L10>O10),\"4\",\"0\"))))","v":0},"B1 First",{"$f":"SUM(S34,W34,AA34,AE34,AI34)","v":0},null,"HEADPINS",{"$f":"T74","v":0},{"$f":"X74","v":0},{"$f":"AB74","v":0},{"$f":"AF74","v":0},{"$f":"AJ74","v":0},{"$f":"SUM(F22:J22)","v":0},null,null,{"$f":"\"+\" & ABS(SUM(L16+L20-P16-P20))","v":"+0"},null,null,null,7,null,{"$f":"IF(OR(S22<>\"\",S60<>\"\"),(IF(S22=\"X\",SUM(T19+10+S60),(SUM(T19+S22+S60)))),0)","v":0},null,{"$f":"IF(OR(U22<>\"\",U60<>\"\"),(IF(U22=\"X\",SUM(V19+10+U60),(SUM(V19+U22+U60)))),0)","v":0},null,{"$f":"IF(OR(W22<>\"\",W60<>\"\"),(IF(W22=\"X\",SUM(X19+10+W60),(SUM(X19+W22+W60)))),0)","v":0},null,{"$f":"IF(OR(Y22<>\"\",Y60<>\"\"),(IF(Y22=\"X\",SUM(Z19+10+Y60),(SUM(Z19+Y22+Y60)))),0)","v":0},null,{"$f":"IF(OR(AA22<>\"\",AA60<>\"\"),(IF(AA22=\"X\",SUM(AB19+10+AA60),(SUM(AB19+AA22+AA60)))),0)","v":0},null,{"$f":"IF(OR(AC22<>\"\",AC60<>\"\"),(IF(AC22=\"X\",SUM(AD19+10+AC60),(SUM(AD19+AC22+AC60)))),0)","v":0},null,{"$f":"IF(OR(AE22<>\"\",AE60<>\"\"),(IF(AE22=\"X\",SUM(AF19+10+AE60),(SUM(AF19+AE22+AE60)))),0)","v":0},null,{"$f":"IF(OR(AG22<>\"\",AG60<>\"\"),(IF(AG22=\"X\",SUM(AH19+10+AG60),(SUM(AH19+AG22+AG60)))),0)","v":0},null,{"$f":"IF(OR(AI22<>\"\",AI60<>\"\"),(IF(AI22=\"X\",SUM(AJ19+10+AI60),(SUM(AJ19+AI22+AI60)))),0)","v":0},null,{"$f":"IF(OR(AK22<>\"\",AK60<>\"\"),(IF(AK22=\"X\",SUM(AL19+10+AK60),(SUM(AL19+AK22+AK60)))),0)","v":0}]
[null,null,null,null,"SPLITS",{"$f":"T75","v":0},{"$f":"X75","v":0},{"$f":"AB75","v":0},{"$f":"AF75","v":0},{"$f":"AJ75","v":0},{"$f":"SUM(F23:J23)","v":0}]
[null,null,{"$f":"SUM(IFERROR(((C22/(COUNTIF(S4:S33,\"<>\")+COUNTIF(W4:W33,\"<>\")+COUNTIF(AA4:AA33,\"<>\")+COUNTIF(AE4:AE33,\"<>\")+COUNTIF(AI4:AI33,\"<>\")))*10),0))","v":0},null,"STRIKES",0,0,0,0,0,0,{"$f":" IF(AA4<>\"\", (SUM(MAX(AB4:AB31))),0)","v":0},null,"String 3",null,{"$f":" IF(AC4<>\"\", (SUM(MAX(AD4:AD31))),0)","v":0}]
[null,null,null,null,"SPARES",0,0,0,0,0,0,null,null,null,null,null,null,8,null,{"$f":"IF(OR(S25<>\"\",S63<>\"\"),(IF(S25=\"X\",SUM(T22+10+S63),(SUM(T22+S25+S63)))),0)","v":0},null,{"$f":"IF(OR(U25<>\"\",U63<>\"\"),(IF(U25=\"X\",SUM(V22+10+U63),(SUM(V22+U25+U63)))),0)","v":0},null,{"$f":"IF(OR(W25<>\"\",W63<>\"\"),(IF(W25=\"X\",SUM(X22+10+W63),(SUM(X22+W25+W63)))),0)","v":0},null,{"$f":"IF(OR(Y25<>\"\",Y63<>\"\"),(IF(Y25=\"X\",SUM(Z22+10+Y63),(SUM(Z22+Y25+Y63)))),0)","v":0},null,{"$f":"IF(OR(AA25<>\"\",AA63<>\"\"),(IF(AA25=\"X\",SUM(AB22+10+AA63),(SUM(AB22+AA25+AA63)))),0)","v":0},null,{"$f":"IF(OR(AC25<>\"\",AC63<>\"\"),(IF(AC25=\"X\",SUM(AD22+10+AC63),(SUM(AD22+AC25+AC63)))),0)","v":0},null,{"$f":"IF(OR(AE25<>\"\",AE63<>\"\"),(IF(AE25=\"X\",SUM(AF22+10+AE63),(SUM(AF22+AE25+AE63)))),0)","v":0},null,{"$f":"IF(OR(AG25<>\"\",AG63<>\"\"),(IF(AG25=\"X\",SUM(AH22+10+AG63),(SUM(AH22+AG25+AG63)))),0)","v":0},null,{"$f":"IF(OR(AI25<>\"\",AI63<>\"\"),(IF(AI25=\"X\",SUM(AJ22+10+AI63),(SUM(AJ22+AI25+AI63)))),0)","v":0},null,{"$f":"IF(OR(AK25<>\"\",AK63<>\"\"),(IF(AK25=\"X\",SUM(AL22+10+AK63),(SUM(AL22+AK25+AK63)))),0)","v":0}]
[null,"B1 Last",{"$f":"P61","v":""},{"$f":"O61","v":""},"TENS",0,0,0,0,0,0,null,null,{"$f":"\"+\" & ABS(SUM(L16+L20+L24-P16-P20-P24))","v":"+0"}]
[null,null,null,null,"STANDING",{"$f":"T79","v":0},{"$f":"X79","v":0},{"$f":"AB79","v":0},{"$f":"AF79","v":0},{"$f":"AJ79","v":0},{"$f":"SUM(F27:J27)","v":0}]
[null,null,null,null,"SCORES",0,0,0,0,0,0,{"$f":" IF(AE4<>\"\", (SUM(MAX(AF4:AF31))),0)","v":0},null,"String 4",null,{"$f":" IF(AG4<>\"\", (SUM(MAX(AH4:AH31))),0)","v":0},null,9,null,{"$f":"IF(OR(S28<>\"\",S66<>\"\"),(IF(S28=\"X\",SUM(T25+10+S66),(SUM(T25+S28+S66)))),0)","v":0},null,{"$f":"IF(OR(U28<>\"\",U66<>\"\"),(IF(U28=\"X\",SUM(V25+10+U66),(SUM(V25+U28+U66)))),0)","v":0},null,{"$f":"IF(OR(W28<>\"\",W66<>\"\"),(IF(W28=\"X\",SUM(X25+10+W66),(SUM(X25+W28+W66)))),0)","v":0},null,{"$f":"IF(OR(Y28<>\"\",Y66<>\"\"),(IF(Y28=\"X\",SUM(Z25+10+Y66),(SUM(Z25+Y28+Y66)))),0)","v":0},null,{"$f":"IF(OR(AA28<>\"\",AA66<>\"\"),(IF(AA28=\"X\",SUM(AB25+10+AA66),(SUM(AB25+AA28+AA66)))),0)","v":0},null,{"$f":"IF(OR(AC28<>\"\",AC66<>\"\"),(IF(AC28=\"X\",SUM(AD25+10+AC66),(SUM(AD25+AC28+AC66)))),0)","v":0},null,{"$f":"IF(OR(AE28<>\"\",AE66<>\"\"),(IF(AE28=\"X\",SUM(AF25+10+AE66),(SUM(AF25+AE28+AE66)))),0)","v":0},null,{"$f":"IF(OR(AG28<>\"\",AG66<>\"\"),(IF(AG28=\"X\",SUM(AH25+10+AG66),(SUM(AH25+AG28+AG66)))),0)","v":0},null,{"$f":"IF(OR(AI28<>\"\",AI66<>\"\"),(IF(AI28=\"X\",SUM(AJ25+10+AI66),(SUM(AJ25+AI28+AI66)))),0)","v":0},null,{"$f":"IF(OR(AK28<>\"\",AK66<>\"\"),(IF(AK28=\"X\",SUM(AL25+10+AK66),(SUM(AL25+AK28+AK66)))),0)","v":0}]
[{"$f":"(SUM(IF(AND(S31<>\"\",U31<>\"\",L16=P16),\"1\",IF(AND(S31<>\"\",U31<>\"\",L16<P16),\"2\",\"0\")))+(IF(AND(W31<>\"\",Y31<>\"\",L20=P20),\"1\",IF(AND(W31<>\"\",Y31<>\"\",L20<P20),\"2\",\"0\")))+(IF(AND(AA31<>\"\",AC31<>\"\",L24=P24),\"1\",IF(AND(AA31<>\"\",AC31<>\"\",L24<P24),\"2\",\"0\")))+(IF(AND(AE31<>\"\",AG31<>\"\",L28=P28),\"1\",IF(AND(AE31<>\"\",AG31<>\"\",L28<P28),\"2\",\"0\")))+(IF(AND(AI31<>\"\",AK31<>\"\",L32=P32),\"1\",IF(AND(AI31<>\"\",AK31<>\"\",L32<P32),\"2\",\"0\")))+(IF(AND(AI31<>\"\",AK31<>\"\",L10=O10),\"2\",IF(AND(AI31<>\"\",AK31<>\"\",L10<O10),\"4\",\"0\"))))","v":0},"B2 First",{"$f":"SUM(U34,Y34,AC34,AG34,AK34)","v":0},null,"HEADPINS",{"$f":"V74","v":0},{"$f":"Z74","v":0},{"$f":"AD74","v":0},{"$f":"AH74","v":0},{"$f":"AL74","v":0},{"$f":"SUM(F29:J29)","v":0}]
[null,null,null,null,"SPLITS",{"$f":"V75","v":0},{"$f":"Z75","v":0},0,{"$f":"AH75","v":0},{"$f":"AL75","v":0},0,null,null,{"$f":"\"+\" & ABS(SUM(L16+L20+L24+L28-P16-P20-P24-P28))","v":"+0"}]
[null,null,{"$f":"SUM(IFERROR(((C29/(COUNTIF(U4:U33,\"<>\")+COUNTIF(Y4:Y33,\"<>\")+COUNTIF(AC4:AC33,\"<>\")+COUNTIF(AG4:AG33,\"<>\")+COUNTIF(AK4:AK33,\"<>\")))*10),0))","v":0},null,"STRIKES",0,0,0,0,0,0,null,null,null,null,null,null,10,null,{"$f":"IF(OR(S31<>\"\",S69<>\"\"),(IF(S31=\"X\",SUM(T28+10+S69),(SUM(T28+S31+S69)))),0)","v":0},null,{"$f":"IF(OR(U31<>\"\",U69<>\"\"),(IF(U31=\"X\",SUM(V28+10+U69),(SUM(V28+U31+U69)))),0)","v":0},null,{"$f":"IF(OR(W31<>\"\",W69<>\"\"),(IF(W31=\"X\",SUM(X28+10+W69),(SUM(X28+W31+W69)))),0)","v":0},null,{"$f":"IF(OR(Y31<>\"\",Y69<>\"\"),(IF(Y31=\"X\",SUM(Z28+10+Y69),(SUM(Z28+Y31+Y69)))),0)","v":0},null,{"$f":"IF(OR(AA31<>\"\",AA69<>\"\"),(IF(AA31=\"X\",SUM(AB28+10+AA69),(SUM(AB28+AA31+AA69)))),0)","v":0},null,{"$f":"IF(OR(AC31<>\"\",AC69<>\"\"),(IF(AC31=\"X\",SUM(AD28+10+AC69),(SUM(AD28+AC31+AC69)))),0)","v":0},null,{"$f":"IF(OR(AE31<>\"\",AE69<>\"\"),(IF(AE31=\"X\",SUM(AF28+10+AE69),(SUM(AF28+AE31+AE69)))),0)","v":0},null,{"$f":"IF(OR(AG31<>\"\",AG69<>\"\"),(IF(AG31=\"X\",SUM(AH28+10+AG69),(SUM(AH28+AG31+AG69)))),0)","v":0},null,{"$f":"IF(OR(AI31<>\"\",AI69<>\"\"),(IF(AI31=\"X\",SUM(AJ28+10+AI69),(SUM(AJ28+AI31+AI69)))),0)","v":0},null,{"$f":"IF(OR(AK31<>\"\",AK69<>\"\"),(IF(AK31=\"X\",SUM(AL28+10+AK69),(SUM(AL28+AK31+AK69)))),0)","v":0}]
[null,null,null,null,"SPARES",0,0,0,0,0,0,{"$f":" IF(AI4<>\"\", (SUM(MAX(AJ4:AJ31))),0)","v":0},null,"String 5",null,{"$f":" IF(AK4<>\"\", (SUM(MAX(AL4:AL31))),0)","v":0}]
[null,"B2 Last",{"$f":"P62","v":""},{"$f":"O62","v":""},"TENS",0,0,0,0,0,0]
[null,null,null,null,"STANDING",{"$f":"V79","v":0},{"$f":"Z79","v":0},{"$f":"AD79","v":0},{"$f":"AH79","v":0},{"$f":"AL79","v":0},{"$f":"SUM(F34:J34)","v":0},null,null,{"$f":"\"+\" & ABS(SUM(L16+L20+L24+L28+L32-P16-P20-P24-P28-P32))","v":"+0"},null,null,null,"Total",{"$f":" IF(S4<>\"\", (SUM(MAX(T4:T31))),0)","v":0},null,{"$f":" IF(U4<>\"\", (SUM(MAX(V4:V31))),0)","v":0},null,{"$f":" IF(W4<>\"\", (SUM(MAX(X4:X31))),0)","v":0},null,{"$f":" IF(Y4<>\"\", (SUM(MAX(Z4:Z31))),0)","v":0},null,{"$f":" IF(AA4<>\"\", (SUM(MAX(AB4:AB31))),0)","v":0},null,{"$f":" IF(AC4<>\"\", (SUM(MAX(AD4:AD31))),0)","v":0},null,{"$f":" IF(AE4<>\"\", (SUM(MAX(AF4:AF31))),0)","v":0},null,{"$f":" IF(AG4<>\"\", (SUM(MAX(AH4:AH31))),0)","v":0},null,{"$f":" IF(AI4<>\"\", (SUM(MAX(AJ4:AJ31))),0)","v":0},null,{"$f":" IF(AK4<>\"\", (SUM(MAX(AL4:AL31))),0)","v":0}]
[null,null,null,null,"SCORES",0,0,0,0,0,0]
[]
[null,null,null,null,null,null,null,null,null,null,null,null,null,null,null,null,null,null,"Half / Competed & Match Splits",null,null,null,"Half / Competed & Match Splits",null,null,null,"Half / Competed & Match Splits",null,null,null,"Half / Competed & Match Splits",null,null,null,"Half / Competed & Match Splits"]
[null,null,null,null,null,null,null,null,null,null,null,null,null,null,null,null,null,null,{"$f":"IF(S4<>\"\",(ABS(S34-U34)),\"\")","v":""},{"$f":"IF((AND(S31<>\"\",U31<>\"\")),(T31-V31),IF((AND(S28<>\"\",U28<>\"\")),(T28-V28),IF((AND(S25<>\"\",U25<>\"\")),(T25-V25),IF((AND(S22<>\"\",U22<>\"\")),(T22-V22),IF((AND(S19<>\"\",U19<>\"\")),(T19-V19),IF((AND(S16<>\"\",U16<>\"\")),(T16-V16),IF((AND(S13<>\"\",U13<>\"\")),(T13-V13),IF((AND(S10<>\"\",U10<>\"\")),(T10-V10),IF((AND(S7<>\"\",U7<>\"\")),(T7-V7),IF((AND(S4<>\"\",U4<>\"\")),(T4-V4),\"\"))))))))))","v":""},{"$f":"IF(S4<>\"\",(ABS(L16-P16)),\"\")","v":""},null,{"$f":"IF(W4<>\"\",(ABS(W34-Y34)),\"\")","v":""},{"$f":"IF((AND(W31<>\"\",Y31<>\"\")),(X31-Z31),IF((AND(W28<>\"\",Y28<>\"\")),(X28-Z28),IF((AND(W25<>\"\",Y25<>\"\")),(X25-Z25),IF((AND(W22<>\"\",Y22<>\"\")),(X22-Z22),IF((AND(W19<>\"\",Y19<>\"\")),(X19-Z19),IF((AND(W16<>\"\",Y16<>\"\")),(X16-Z16),IF((AND(W13<>\"\",Y13<>\"\")),(X13-Z13),IF((AND(W10<>\"\",Y10<>\"\")),(X10-Z10),IF((AND(W7<>\"\",Y7<>\"\")),(X7-Z7),IF((AND(W4<>\"\",Y4<>\"\")),(X4-Z4),\"\"))))))))))","v":""},{"$f":"IF(W4<>\"\",(ABS(L16+L20-P16-P20)),\"\")","v":""},null,{"$f":"IF(AA4<>\"\",(ABS(AA34-AC34)),\"\")","v":""},{"$f":"IF((AND(AA31<>\"\",AC31<>\"\")),(AB31-AD31),IF((AND(AA28<>\"\",AC28<>\"\")),(AB28-AD28),IF((AND(AA25<>\"\",AC25<>\"\")),(AB25-AD25),IF((AND(AA22<>\"\",AC22<>\"\")),(AB22-AD22),IF((AND(AA19<>\"\",AC19<>\"\")),(AB19-AD19),IF((AND(AA16<>\"\",AC16<>\"\")),(AB16-AD16),IF((AND(AA13<>\"\",AC13<>\"\")),(AB13-AD13),IF((AND(AA10<>\"\",AC10<>\"\")),(AB10-AD10),IF((AND(AA7<>\"\",AC7<>\"\")),(AB7-AD7),IF((AND(AA4<>\"\",AC4<>\"\")),(AB4-AD4),\"\"))))))))))","v":""},{"$f":"IF(AA4<>\"\",(ABS(L16+L20+L24-P16-P20-P24)),\"\")","v":""},null,{"$f":"IF(AE4<>\"\",(ABS(AE34-AG34)),\"\")","v":""},{"$f":"IF((AND(AE31<>\"\",AG31<>\"\")),(AF31-AH31),IF((AND(AE28<>\"\",AG28<>\"\")),(AF28-AH28),IF((AND(AE25<>\"\",AG25<>\"\")),(AF25-AH25),IF((AND(AE22<>\"\",AG22<>\"\")),(AF22-AH22),IF((AND(AE19<>\"\",AG19<>\"\")),(AF19-AH19),IF((AND(AE16<>\"\",AG16<>\"\")),(AF16-AH16),IF((AND(AE13<>\"\",AG13<>\"\")),(AF13-AH13),IF((AND(AE10<>\"\",AG10<>\"\")),(AF10-AH10),IF((AND(AE7<>\"\",AG7<>\"\")),(AF7-AH7),IF((AND(AE4<>\"\",AG4<>\"\")),(AF4-AH4),\"\"))))))))))","v":""},{"$f":"IF(AE4<>\"\",(ABS(L16+L20+L24+L28-P16-P20-P24-P28)),\"\")","v":""},null,{"$f":"IF(AI4<>\"\",(ABS(AI34-AK34)),\"\")","v":""},{"$f":"IF((AND(AI31<>\"\",AK31<>\"\")),(AJ31-AL31),IF((AND(AI28<>\"\",AK28<>\"\")),(AJ28-AL28),IF((AND(AI25<>\"\",AK25<>\"\")),(AJ25-AL25),IF((AND(AI22<>\"\",AK22<>\"\")),(AJ22-AL22),IF((AND(AI19<>\"\",AK19<>\"\")),(AJ19-AL19),IF((AND(AI16<>\"\",AK16<>\"\")),(AJ16-AL16),IF((AND(AI13<>\"\",AK13<>\"\")),(AJ13-AL13),IF((AND(AI10<>\"\",AK10<>\"\")),(AJ10-AL10),IF((AND(AI7<>\"\",AK7<>\"\")),(AJ7-AL7),IF((AND(AI4<>\"\",AK4<>\"\")),(AJ4-AL4),\"\"))))))))))","v":""},{"$f":"IF(AI4<>\"\",(ABS(L16+L20+L24+L28+L32-P16-P20-P24-P28-P32)),\"\")","v":""}]
[]
[]
[]
[]
[]
[null,null,null,null,null,null,null,null,null,null,null,null,null,null,null,null,null,null,"Box 01",{"$f":"IF(AND(T43=\"HP\",S43=0,T42=\"\"),1,IF(AND(T43=\"HP\",S43=\"SPL\",T42=\"\"),2,IF(AND(T43=0,S43=\"SPL\",T42=\"\"),3,IF(AND(T43=0,S43=0,T42=\"SPA\"),4,IF(AND(T43=0,S43=\"SPL\",T42=\"SPA\"),5,IF(AND(T43=\"HP\",S43=\"SPL\",T42=\"SPA\"),6,IF(AND(T43=\"HP\",S43=0,T42=\"SPA\"),7,IF(AND(S42=10,T43=0,T42=\"STR\"),8,IF(AND(S42=10,T43=\"HP\",T42=\"STR\"),9,IF(AND(S42=20,T43=0),10,IF(AND(S42=20,T43=\"HP\"),11,0)))))))))))","v":0},"Box 01",{"$f":"IF(AND(V43=\"HP\",U43=0,V42=\"\"),1,IF(AND(V43=\"HP\",U43=\"SPL\",V42=\"\"),2,IF(AND(V43=0,U43=\"SPL\",V42=\"\"),3,IF(AND(V43=0,U43=0,V42=\"SPA\"),4,IF(AND(V43=0,U43=\"SPL\",V42=\"SPA\"),5,IF(AND(V43=\"HP\",U43=\"SPL\",V42=\"SPA\"),6,IF(AND(V43=\"HP\",U43=0,V42=\"SPA\"),7,IF(AND(U42=10,V43=0,V42=\"STR\"),8,IF(AND(U42=10,V43=\"HP\",V42=\"STR\"),9,IF(AND(U42=20,V43=0),10,IF(AND(U42=20,V43=\"HP\"),11,0)))))))))))","v":0},"Box 01",{"$f":"IF(AND(X43=\"HP\",W43=0,X42=\"\"),1,IF(AND(X43=\"HP\",W43=\"SPL\",X42=\"\"),2,IF(AND(X43=0,W43=\"SPL\",X42=\"\"),3,IF(AND(X43=0,W43=0,X42=\"SPA\"),4,IF(AND(X43=0,W43=\"SPL\",X42=\"SPA\"),5,IF(AND(X43=\"HP\",W43=\"SPL\",X42=\"SPA\"),6,IF(AND(X43=\"HP\",W43=0,X42=\"SPA\"),7,IF(AND(W42=10,X43=0,X42=\"STR\"),8,IF(AND(W42=10,X43=\"HP\",X42=\"STR\"),9,IF(AND(W42=20,X43=0),10,IF(AND(W42=20,X43=\"HP\"),11,0)))))))))))","v":0},"Box 01",{"$f":"IF(AND(Z43=\"HP\",Y43=0,Z42=\"\"),1,IF(AND(Z43=\"HP\",Y43=\"SPL\",Z42=\"\"),2,IF(AND(Z43=0,Y43=\"SPL\",Z42=\"\"),3,IF(AND(Z43=0,Y43=0,Z42=\"SPA\"),4,IF(AND(Z43=0,Y43=\"SPL\",Z42=\"SPA\"),5,IF(AND(Z43=\"HP\",Y43=\"SPL\",Z42=\"SPA\"),6,IF(AND(Z43=\"HP\",Y43=0,Z42=\"SPA\"),7,IF(AND(Y42=10,Z43=0,Z42=\"STR\"),8,IF(AND(Y42=10,Z43=\"HP\",Z42=\"STR\"),9,IF(AND(Y42=20,Z43=0),10,IF(AND(Y42=20,Z43=\"HP\"),11,0)))))))))))","v":0},"Box 01",{"$f":"IF(AND(AB43=\"HP\",AA43=0,AB42=\"\"),1,IF(AND(AB43=\"HP\",AA43=\"SPL\",AB42=\"\"),2,IF(AND(AB43=0,AA43=\"SPL\",AB42=\"\"),3,IF(AND(AB43=0,AA43=0,AB42=\"SPA\"),4,IF(AND(AB43=0,AA43=\"SPL\",AB42=\"SPA\"),5,IF(AND(AB43=\"HP\",AA43=\"SPL\",AB42=\"SPA\"),6,IF(AND(AB43=\"HP\",AA43=0,AB42=\"SPA\"),7,IF(AND(AA42=10,AB43=0,AB42=\"STR\"),8,IF(AND(AA42=10,AB43=\"HP\",AB42=\"STR\"),9,IF(AND(AA42=20,AB43=0),10,IF(AND(AA42=20,AB43=\"HP\"),11,0)))))))))))","v":0},"Box 01",{"$f":"IF(AND(AD43=\"HP\",AC43=0,AD42=\"\"),1,IF(AND(AD43=\"HP\",AC43=\"SPL\",AD42=\"\"),2,IF(AND(AD43=0,AC43=\"SPL\",AD42=\"\"),3,IF(AND(AD43=0,AC43=0,AD42=\"SPA\"),4,IF(AND(AD43=0,AC43=\"SPL\",AD42=\"SPA\"),5,IF(AND(AD43=\"HP\",AC43=\"SPL\",AD42=\"SPA\"),6,IF(AND(AD43=\"HP\",AC43=0,AD42=\"SPA\"),7,IF(AND(AC42=10,AD43=0,AD42=\"STR\"),8,IF(AND(AC42=10,AD43=\"HP\",AD42=\"STR\"),9,IF(AND(AC42=20,AD43=0),10,IF(AND(AC42=20,AD43=\"HP\"),11,0)))))))))))","v":0},"Box 01",{"$f":"IF(AND(AF43=\"HP\",AE43=0,AF42=\"\"),1,IF(AND(AF43=\"HP\",AE43=\"SPL\",AF42=\"\"),2,IF(AND(AF43=0,AE43=\"SPL\",AF42=\"\"),3,IF(AND(AF43=0,AE43=0,AF42=\"SPA\"),4,IF(AND(AF43=0,AE43=\"SPL\",AF42=\"SPA\"),5,IF(AND(AF43=\"HP\",AE43=\"SPL\",AF42=\"SPA\"),6,IF(AND(AF43=\"HP\",AE43=0,AF42=\"SPA\"),7,IF(AND(AE42=10,AF43=0,AF42=\"STR\"),8,IF(AND(AE42=10,AF43=\"HP\",AF42=\"STR\"),9,IF(AND(AE42=20,AF43=0),10,IF(AND(AE42=20,AF43=\"HP\"),11,0)))))))))))","v":0},"Box 01",{"$f":"IF(AND(AH43=\"HP\",AG43=0,AH42=\"\"),1,IF(AND(AH43=\"HP\",AG43=\"SPL\",AH42=\"\"),2,IF(AND(AH43=0,AG43=\"SPL\",AH42=\"\"),3,IF(AND(AH43=0,AG43=0,AH42=\"SPA\"),4,IF(AND(AH43=0,AG43=\"SPL\",AH42=\"SPA\"),5,IF(AND(AH43=\"HP\",AG43=\"SPL\",AH42=\"SPA\"),6,IF(AND(AH43=\"HP\",AG43=0,AH42=\"SPA\"),7,IF(AND(AG42=10,AH43=0,AH42=\"STR\"),8,IF(AND(AG42=10,AH43=\"HP\",AH42=\"STR\"),9,IF(AND(AG42=20,AH43=0),10,IF(AND(AG42=20,AH43=\"HP\"),11,0)))))))))))","v":0},"Box 01",{"$f":"IF(AND(AJ43=\"HP\",AI43=0,AJ42=\"\"),1,IF(AND(AJ43=\"HP\",AI43=\"SPL\",AJ42=\"\"),2,IF(AND(AJ43=0,AI43=\"SPL\",AJ42=\"\"),3,IF(AND(AJ43=0,AI43=0,AJ42=\"SPA\"),4,IF(AND(AJ43=0,AI43=\"SPL\",AJ42=\"SPA\"),5,IF(AND(AJ43=\"HP\",AI43=\"SPL\",AJ42=\"SPA\"),6,IF(AND(AJ43=\"HP\",AI43=0,AJ42=\"SPA\"),7,IF(AND(AI42=10,AJ43=0,AJ42=\"STR\"),8,IF(AND(AI42=10,AJ43=\"HP\",AJ42=\"STR\"),9,IF(AND(AI42=20,AJ43=0),10,IF(AND(AI42=20,AJ43=\"HP\"),11,0)))))))))))","v":0},"Box 01",{"$f":"IF(AND(AL43=\"HP\",AK43=0,AL42=\"\"),1,IF(AND(AL43=\"HP\",AK43=\"SPL\",AL42=\"\"),2,IF(AND(AL43=0,AK43=\"SPL\",AL42=\"\"),3,IF(AND(AL43=0,AK43=0,AL42=\"SPA\"),4,IF(AND(AL43=0,AK43=\"SPL\",AL42=\"SPA\"),5,IF(AND(AL43=\"HP\",AK43=\"SPL\",AL42=\"SPA\"),6,IF(AND(AL43=\"HP\",AK43=0,AL42=\"SPA\"),7,IF(AND(AK42=10,AL43=0,AL42=\"STR\"),8,IF(AND(AK42=10,AL43=\"HP\",AL42=\"STR\"),9,IF(AND(AK42=20,AL43=0),10,IF(AND(AK42=20,AL43=\"HP\"),11,0)))))))))))","v":0}]
[]
[]
[null,null,null,null,null,null,null,null,null,null,null,null,null,null,null,null,null,null,"Box 02",{"$f":"IF(AND(T46=\"HP\",S46=0,T45=\"\"),1,IF(AND(T46=\"HP\",S46=\"SPL\",T45=\"\"),2,IF(AND(T46=0,S46=\"SPL\",T45=\"\"),3,IF(AND(T46=0,S46=0,T45=\"SPA\"),4,IF(AND(T46=0,S46=\"SPL\",T45=\"SPA\"),5,IF(AND(T46=\"HP\",S46=\"SPL\",T45=\"SPA\"),6,IF(AND(T46=\"HP\",S46=0,T45=\"SPA\"),7,IF(AND(S45=10,T46=0,T45=\"STR\"),8,IF(AND(S45=10,T46=\"HP\",T45=\"STR\"),9,IF(AND(S45=20,T46=0),10,IF(AND(S45=20,T46=\"HP\"),11,0)))))))))))","v":0},"Box 02",{"$f":"IF(AND(V46=\"HP\",U46=0,V45=\"\"),1,IF(AND(V46=\"HP\",U46=\"SPL\",V45=\"\"),2,IF(AND(V46=0,U46=\"SPL\",V45=\"\"),3,IF(AND(V46=0,U46=0,V45=\"SPA\"),4,IF(AND(V46=0,U46=\"SPL\",V45=\"SPA\"),5,IF(AND(V46=\"HP\",U46=\"SPL\",V45=\"SPA\"),6,IF(AND(V46=\"HP\",U46=0,V45=\"SPA\"),7,IF(AND(U45=10,V46=0,V45=\"STR\"),8,IF(AND(U45=10,V46=\"HP\",V45=\"STR\"),9,IF(AND(U45=20,V46=0),10,IF(AND(U45=20,V46=\"HP\"),11,0)))))))))))","v":0},"Box 02",{"$f":"IF(AND(X46=\"HP\",W46=0,X45=\"\"),1,IF(AND(X46=\"HP\",W46=\"SPL\",X45=\"\"),2,IF(AND(X46=0,W46=\"SPL\",X45=\"\"),3,IF(AND(X46=0,W46=0,X45=\"SPA\"),4,IF(AND(X46=0,W46=\"SPL\",X45=\"SPA\"),5,IF(AND(X46=\"HP\",W46=\"SPL\",X45=\"SPA\"),6,IF(AND(X46=\"HP\",W46=0,X45=\"SPA\"),7,IF(AND(W45=10,X46=0,X45=\"STR\"),8,IF(AND(W45=10,X46=\"HP\",X45=\"STR\"),9,IF(AND(W45=20,X46=0),10,IF(AND(W45=20,X46=\"HP\"),11,0)))))))))))","v":0},"Box 02",{"$f":"IF(AND(Z46=\"HP\",Y46=0,Z45=\"\"),1,IF(AND(Z46=\"HP\",Y46=\"SPL\",Z45=\"\"),2,IF(AND(Z46=0,Y46=\"SPL\",Z45=\"\"),3,IF(AND(Z46=0,Y46=0,Z45=\"SPA\"),4,IF(AND(Z46=0,Y46=\"SPL\",Z45=\"SPA\"),5,IF(AND(Z46=\"HP\",Y46=\"SPL\",Z45=\"SPA\"),6,IF(AND(Z46=\"HP\",Y46=0,Z45=\"SPA\"),7,IF(AND(Y45=10,Z46=0,Z45=\"STR\"),8,IF(AND(Y45=10,Z46=\"HP\",Z45=\"STR\"),9,IF(AND(Y45=20,Z46=0),10,IF(AND(Y45=20,Z46=\"HP\"),11,0)))))))))))","v":0},"Box 02",{"$f":"IF(AND(AB46=\"HP\",AA46=0,AB45=\"\"),1,IF(AND(AB46=\"HP\",AA46=\"SPL\",AB45=\"\"),2,IF(AND(AB46=0,AA46=\"SPL\",AB45=\"\"),3,IF(AND(AB46=0,AA46=0,AB45=\"SPA\"),4,IF(AND(AB46=0,AA46=\"SPL\",AB45=\"SPA\"),5,IF(AND(AB46=\"HP\",AA46=\"SPL\",AB45=\"SPA\"),6,IF(AND(AB46=\"HP\",AA46=0,AB45=\"SPA\"),7,IF(AND(AA45=10,AB46=0,AB45=\"STR\"),8,IF(AND(AA45=10,AB46=\"HP\",AB45=\"STR\"),9,IF(AND(AA45=20,AB46=0),10,IF(AND(AA45=20,AB46=\"HP\"),11,0)))))))))))","v":0},"Box 02",{"$f":"IF(AND(AD46=\"HP\",AC46=0,AD45=\"\"),1,IF(AND(AD46=\"HP\",AC46=\"SPL\",AD45=\"\"),2,IF(AND(AD46=0,AC46=\"SPL\",AD45=\"\"),3,IF(AND(AD46=0,AC46=0,AD45=\"SPA\"),4,IF(AND(AD46=0,AC46=\"SPL\",AD45=\"SPA\"),5,IF(AND(AD46=\"HP\",AC46=\"SPL\",AD45=\"SPA\"),6,IF(AND(AD46=\"HP\",AC46=0,AD45=\"SPA\"),7,IF(AND(AC45=10,AD46=0,AD45=\"STR\"),8,IF(AND(AC45=10,AD46=\"HP\",AD45=\"STR\"),9,IF(AND(AC45=20,AD46=0),10,IF(AND(AC45=20,AD46=\"HP\"),11,0)))))))))))","v":0},"Box 02",{"$f":"IF(AND(AF46=\"HP\",AE46=0,AF45=\"\"),1,IF(AND(AF46=\"HP\",AE46=\"SPL\",AF45=\"\"),2,IF(AND(AF46=0,AE46=\"SPL\",AF45=\"\"),3,IF(AND(AF46=0,AE46=0,AF45=\"SPA\"),4,IF(AND(AF46=0,AE46=\"SPL\",AF45=\"SPA\"),5,IF(AND(AF46=\"HP\",AE46=\"SPL\",AF45=\"SPA\"),6,IF(AND(AF46=\"HP\",AE46=0,AF45=\"SPA\"),7,IF(AND(AE45=10,AF46=0,AF45=\"STR\"),8,IF(AND(AE45=10,AF46=\"HP\",AF45=\"STR\"),9,IF(AND(AE45=20,AF46=0),10,IF(AND(AE45=20,AF46=\"HP\"),11,0)))))))))))","v":0},"Box 02",{"$f":"IF(AND(AH46=\"HP\",AG46=0,AH45=\"\"),1,IF(AND(AH46=\"HP\",AG46=\"SPL\",AH45=\"\"),2,IF(AND(AH46=0,AG46=\"SPL\",AH45=\"\"),3,IF(AND(AH46=0,AG46=0,AH45=\"SPA\"),4,IF(AND(AH46=0,AG46=\"SPL\",AH45=\"SPA\"),5,IF(AND(AH46=\"HP\",AG46=\"SPL\",AH45=\"SPA\"),6,IF(AND(AH46=\"HP\",AG46=0,AH45=\"SPA\"),7,IF(AND(AG45=10,AH46=0,AH45=\"STR\"),8,IF(AND(AG45=10,AH46=\"HP\",AH45=\"STR\"),9,IF(AND(AG45=20,AH46=0),10,IF(AND(AG45=20,AH46=\"HP\"),11,0)))))))))))","v":0},"Box 02",{"$f":"IF(AND(AJ46=\"HP\",AI46=0,AJ45=\"\"),1,IF(AND(AJ46=\"HP\",AI46=\"SPL\",AJ45=\"\"),2,IF(AND(AJ46=0,AI46=\"SPL\",AJ45=\"\"),3,IF(AND(AJ46=0,AI46=0,AJ45=\"SPA\"),4,IF(AND(AJ46=0,AI46=\"SPL\",AJ45=\"SPA\"),5,IF(AND(AJ46=\"HP\",AI46=\"SPL\",AJ45=\"SPA\"),6,IF(AND(AJ46=\"HP\",AI46=0,AJ45=\"SPA\"),7,IF(AND(AI45=10,AJ46=0,AJ45=\"STR\"),8,IF(AND(AI45=10,AJ46=\"HP\",AJ45=\"STR\"),9,IF(AND(AI45=20,AJ46=0),10,IF(AND(AI45=20,AJ46=\"HP\"),11,0)))))))))))","v":0},"Box 02",{"$f":"IF(AND(AL46=\"HP\",AK46=0,AL45=\"\"),1,IF(AND(AL46=\"HP\",AK46=\"SPL\",AL45=\"\"),2,IF(AND(AL46=0,AK46=\"SPL\",AL45=\"\"),3,IF(AND(AL46=0,AK46=0,AL45=\"SPA\"),4,IF(AND(AL46=0,AK46=\"SPL\",AL45=\"SPA\"),5,IF(AND(AL46=\"HP\",AK46=\"SPL\",AL45=\"SPA\"),6,IF(AND(AL46=\"HP\",AK46=0,AL45=\"SPA\"),7,IF(AND(AK45=10,AL46=0,AL45=\"STR\"),8,IF(AND(AK45=10,AL46=\"HP\",AL45=\"STR\"),9,IF(AND(AK45=20,AL46=0),10,IF(AND(AK45=20,AL46=\"HP\"),11,0)))))))))))","v":0}]
[]
[]
[null,null,null,null,null,null,null,null,null,null,null,null,null,null,null,null,null,null,"Box 03",{"$f":"IF(AND(T49=\"HP\",S49=0,T48=\"\"),1,IF(AND(T49=\"HP\",S49=\"SPL\",T48=\"\"),2,IF(AND(T49=0,S49=\"SPL\",T48=\"\"),3,IF(AND(T49=0,S49=0,T48=\"SPA\"),4,IF(AND(T49=0,S49=\"SPL\",T48=\"SPA\"),5,IF(AND(T49=\"HP\",S49=\"SPL\",T48=\"SPA\"),6,IF(AND(T49=\"HP\",S49=0,T48=\"SPA\"),7,IF(AND(S48=10,T49=0,T48=\"STR\"),8,IF(AND(S48=10,T49=\"HP\",T48=\"STR\"),9,IF(AND(S48=20,T49=0),10,IF(AND(S48=20,T49=\"HP\"),11,0)))))))))))","v":0},"Box 03",{"$f":"IF(AND(V49=\"HP\",U49=0,V48=\"\"),1,IF(AND(V49=\"HP\",U49=\"SPL\",V48=\"\"),2,IF(AND(V49=0,U49=\"SPL\",V48=\"\"),3,IF(AND(V49=0,U49=0,V48=\"SPA\"),4,IF(AND(V49=0,U49=\"SPL\",V48=\"SPA\"),5,IF(AND(V49=\"HP\",U49=\"SPL\",V48=\"SPA\"),6,IF(AND(V49=\"HP\",U49=0,V48=\"SPA\"),7,IF(AND(U48=10,V49=0,V48=\"STR\"),8,IF(AND(U48=10,V49=\"HP\",V48=\"STR\"),9,IF(AND(U48=20,V49=0),10,IF(AND(U48=20,V49=\"HP\"),11,0)))))))))))","v":0},"Box 03",{"$f":"IF(AND(X49=\"HP\",W49=0,X48=\"\"),1,IF(AND(X49=\"HP\",W49=\"SPL\",X48=\"\"),2,IF(AND(X49=0,W49=\"SPL\",X48=\"\"),3,IF(AND(X49=0,W49=0,X48=\"SPA\"),4,IF(AND(X49=0,W49=\"SPL\",X48=\"SPA\"),5,IF(AND(X49=\"HP\",W49=\"SPL\",X48=\"SPA\"),6,IF(AND(X49=\"HP\",W49=0,X48=\"SPA\"),7,IF(AND(W48=10,X49=0,X48=\"STR\"),8,IF(AND(W48=10,X49=\"HP\",X48=\"STR\"),9,IF(AND(W48=20,X49=0),10,IF(AND(W48=20,X49=\"HP\"),11,0)))))))))))","v":0},"Box 03",{"$f":"IF(AND(Z49=\"HP\",Y49=0,Z48=\"\"),1,IF(AND(Z49=\"HP\",Y49=\"SPL\",Z48=\"\"),2,IF(AND(Z49=0,Y49=\"SPL\",Z48=\"\"),3,IF(AND(Z49=0,Y49=0,Z48=\"SPA\"),4,IF(AND(Z49=0,Y49=\"SPL\",Z48=\"SPA\"),5,IF(AND(Z49=\"HP\",Y49=\"SPL\",Z48=\"SPA\"),6,IF(AND(Z49=\"HP\",Y49=0,Z48=\"SPA\"),7,IF(AND(Y48=10,Z49=0,Z48=\"STR\"),8,IF(AND(Y48=10,Z49=\"HP\",Z48=\"STR\"),9,IF(AND(Y48=20,Z49=0),10,IF(AND(Y48=20,Z49=\"HP\"),11,0)))))))))))","v":0},"Box 03",{"$f":"IF(AND(AB49=\"HP\",AA49=0,AB48=\"\"),1,IF(AND(AB49=\"HP\",AA49=\"SPL\",AB48=\"\"),2,IF(AND(AB49=0,AA49=\"SPL\",AB48=\"\"),3,IF(AND(AB49=0,AA49=0,AB48=\"SPA\"),4,IF(AND(AB49=0,AA49=\"SPL\",AB48=\"SPA\"),5,IF(AND(AB49=\"HP\",AA49=\"SPL\",AB48=\"SPA\"),6,IF(AND(AB49=\"HP\",AA49=0,AB48=\"SPA\"),7,IF(AND(AA48=10,AB49=0,AB48=\"STR\"),8,IF(AND(AA48=10,AB49=\"HP\",AB48=\"STR\"),9,IF(AND(AA48=20,AB49=0),10,IF(AND(AA48=20,AB49=\"HP\"),11,0)))))))))))","v":0},"Box 03",{"$f":"IF(AND(AD49=\"HP\",AC49=0,AD48=\"\"),1,IF(AND(AD49=\"HP\",AC49=\"SPL\",AD48=\"\"),2,IF(AND(AD49=0,AC49=\"SPL\",AD48=\"\"),3,IF(AND(AD49=0,AC49=0,AD48=\"SPA\"),4,IF(AND(AD49=0,AC49=\"SPL\",AD48=\"SPA\"),5,IF(AND(AD49=\"HP\",AC49=\"SPL\",AD48=\"SPA\"),6,IF(AND(AD49=\"HP\",AC49=0,AD48=\"SPA\"),7,IF(AND(AC48=10,AD49=0,AD48=\"STR\"),8,IF(AND(AC48=10,AD49=\"HP\",AD48=\"STR\"),9,IF(AND(AC48=20,AD49=0),10,IF(AND(AC48=20,AD49=\"HP\"),11,0)))))))))))","v":0},"Box 03",{"$f":"IF(AND(AF49=\"HP\",AE49=0,AF48=\"\"),1,IF(AND(AF49=\"HP\",AE49=\"SPL\",AF48=\"\"),2,IF(AND(AF49=0,AE49=\"SPL\",AF48=\"\"),3,IF(AND(AF49=0,AE49=0,AF48=\"SPA\"),4,IF(AND(AF49=0,AE49=\"SPL\",AF48=\"SPA\"),5,IF(AND(AF49=\"HP\",AE49=\"SPL\",AF48=\"SPA\"),6,IF(AND(AF49=\"HP\",AE49=0,AF48=\"SPA\"),7,IF(AND(AE48=10,AF49=0,AF48=\"STR\"),8,IF(AND(AE48=10,AF49=\"HP\",AF48=\"STR\"),9,IF(AND(AE48=20,AF49=0),10,IF(AND(AE48=20,AF49=\"HP\"),11,0)))))))))))","v":0},"Box 03",{"$f":"IF(AND(AH49=\"HP\",AG49=0,AH48=\"\"),1,IF(AND(AH49=\"HP\",AG49=\"SPL\",AH48=\"\"),2,IF(AND(AH49=0,AG49=\"SPL\",AH48=\"\"),3,IF(AND(AH49=0,AG49=0,AH48=\"SPA\"),4,IF(AND(AH49=0,AG49=\"SPL\",AH48=\"SPA\"),5,IF(AND(AH49=\"HP\",AG49=\"SPL\",AH48=\"SPA\"),6,IF(AND(AH49=\"HP\",AG49=0,AH48=\"SPA\"),7,IF(AND(AG48=10,AH49=0,AH48=\"STR\"),8,IF(AND(AG48=10,AH49=\"HP\",AH48=\"STR\"),9,IF(AND(AG48=20,AH49=0),10,IF(AND(AG48=20,AH49=\"HP\"),11,0)))))))))))","v":0},"Box 03",{"$f":"IF(AND(AJ49=\"HP\",AI49=0,AJ48=\"\"),1,IF(AND(AJ49=\"HP\",AI49=\"SPL\",AJ48=\"\"),2,IF(AND(AJ49=0,AI49=\"SPL\",AJ48=\"\"),3,IF(AND(AJ49=0,AI49=0,AJ48=\"SPA\"),4,IF(AND(AJ49=0,AI49=\"SPL\",AJ48=\"SPA\"),5,IF(AND(AJ49=\"HP\",AI49=\"SPL\",AJ48=\"SPA\"),6,IF(AND(AJ49=\"HP\",AI49=0,AJ48=\"SPA\"),7,IF(AND(AI48=10,AJ49=0,AJ48=\"STR\"),8,IF(AND(AI48=10,AJ49=\"HP\",AJ48=\"STR\"),9,IF(AND(AI48=20,AJ49=0),10,IF(AND(AI48=20,AJ49=\"HP\"),11,0)))))))))))","v":0},"Box 03",{"$f":"IF(AND(AL49=\"HP\",AK49=0,AL48=\"\"),1,IF(AND(AL49=\"HP\",AK49=\"SPL\",AL48=\"\"),2,IF(AND(AL49=0,AK49=\"SPL\",AL48=\"\"),3,IF(AND(AL49=0,AK49=0,AL48=\"SPA\"),4,IF(AND(AL49=0,AK49=\"SPL\",AL48=\"SPA\"),5,IF(AND(AL49=\"HP\",AK49=\"SPL\",AL48=\"SPA\"),6,IF(AND(AL49=\"HP\",AK49=0,AL48=\"SPA\"),7,IF(AND(AK48=10,AL49=0,AL48=\"STR\"),8,IF(AND(AK48=10,AL49=\"HP\",AL48=\"STR\"),9,IF(AND(AK48=20,AL49=0),10,IF(AND(AK48=20,AL49=\"HP\"),11,0)))))))))))","v":0}]
[]
[]
[null,null,null,null,null,null,null,null,null,null,null,null,null,null,null,null,null,null,"Box 04",{"$f":"IF(AND(T52=\"HP\",S52=0,T51=\"\"),1,IF(AND(T52=\"HP\",S52=\"SPL\",T51=\"\"),2,IF(AND(T52=0,S52=\"SPL\",T51=\"\"),3,IF(AND(T52=0,S52=0,T51=\"SPA\"),4,IF(AND(T52=0,S52=\"SPL\",T51=\"SPA\"),5,IF(AND(T52=\"HP\",S52=\"SPL\",T51=\"SPA\"),6,IF(AND(T52=\"HP\",S52=0,T51=\"SPA\"),7,IF(AND(S51=10,T52=0,T51=\"STR\"),8,IF(AND(S51=10,T52=\"HP\",T51=\"STR\"),9,IF(AND(S51=20,T52=0),10,IF(AND(S51=20,T52=\"HP\"),11,0)))))))))))","v":0},"Box 04",{"$f":"IF(AND(V52=\"HP\",U52=0,V51=\"\"),1,IF(AND(V52=\"HP\",U52=\"SPL\",V51=\"\"),2,IF(AND(V52=0,U52=\"SPL\",V51=\"\"),3,IF(AND(V52=0,U52=0,V51=\"SPA\"),4,IF(AND(V52=0,U52=\"SPL\",V51=\"SPA\"),5,IF(AND(V52=\"HP\",U52=\"SPL\",V51=\"SPA\"),6,IF(AND(V52=\"HP\",U52=0,V51=\"SPA\"),7,IF(AND(U51=10,V52=0,V51=\"STR\"),8,IF(AND(U51=10,V52=\"HP\",V51=\"STR\"),9,IF(AND(U51=20,V52=0),10,IF(AND(U51=20,V52=\"HP\"),11,0)))))))))))","v":0},"Box 04",{"$f":"IF(AND(X52=\"HP\",W52=0,X51=\"\"),1,IF(AND(X52=\"HP\",W52=\"SPL\",X51=\"\"),2,IF(AND(X52=0,W52=\"SPL\",X51=\"\"),3,IF(AND(X52=0,W52=0,X51=\"SPA\"),4,IF(AND(X52=0,W52=\"SPL\",X51=\"SPA\"),5,IF(AND(X52=\"HP\",W52=\"SPL\",X51=\"SPA\"),6,IF(AND(X52=\"HP\",W52=0,X51=\"SPA\"),7,IF(AND(W51=10,X52=0,X51=\"STR\"),8,IF(AND(W51=10,X52=\"HP\",X51=\"STR\"),9,IF(AND(W51=20,X52=0),10,IF(AND(W51=20,X52=\"HP\"),11,0)))))))))))","v":0},"Box 04",{"$f":"IF(AND(Z52=\"HP\",Y52=0,Z51=\"\"),1,IF(AND(Z52=\"HP\",Y52=\"SPL\",Z51=\"\"),2,IF(AND(Z52=0,Y52=\"SPL\",Z51=\"\"),3,IF(AND(Z52=0,Y52=0,Z51=\"SPA\"),4,IF(AND(Z52=0,Y52=\"SPL\",Z51=\"SPA\"),5,IF(AND(Z52=\"HP\",Y52=\"SPL\",Z51=\"SPA\"),6,IF(AND(Z52=\"HP\",Y52=0,Z51=\"SPA\"),7,IF(AND(Y51=10,Z52=0,Z51=\"STR\"),8,IF(AND(Y51=10,Z52=\"HP\",Z51=\"STR\"),9,IF(AND(Y51=20,Z52=0),10,IF(AND(Y51=20,Z52=\"HP\"),11,0)))))))))))","v":0},"Box 04",{"$f":"IF(AND(AB52=\"HP\",AA52=0,AB51=\"\"),1,IF(AND(AB52=\"HP\",AA52=\"SPL\",AB51=\"\"),2,IF(AND(AB52=0,AA52=\"SPL\",AB51=\"\"),3,IF(AND(AB52=0,AA52=0,AB51=\"SPA\"),4,IF(AND(AB52=0,AA52=\"SPL\",AB51=\"SPA\"),5,IF(AND(AB52=\"HP\",AA52=\"SPL\",AB51=\"SPA\"),6,IF(AND(AB52=\"HP\",AA52=0,AB51=\"SPA\"),7,IF(AND(AA51=10,AB52=0,AB51=\"STR\"),8,IF(AND(AA51=10,AB52=\"HP\",AB51=\"STR\"),9,IF(AND(AA51=20,AB52=0),10,IF(AND(AA51=20,AB52=\"HP\"),11,0)))))))))))","v":0},"Box 04",{"$f":"IF(AND(AD52=\"HP\",AC52=0,AD51=\"\"),1,IF(AND(AD52=\"HP\",AC52=\"SPL\",AD51=\"\"),2,IF(AND(AD52=0,AC52=\"SPL\",AD51=\"\"),3,IF(AND(AD52=0,AC52=0,AD51=\"SPA\"),4,IF(AND(AD52=0,AC52=\"SPL\",AD51=\"SPA\"),5,IF(AND(AD52=\"HP\",AC52=\"SPL\",AD51=\"SPA\"),6,IF(AND(AD52=\"HP\",AC52=0,AD51=\"SPA\"),7,IF(AND(AC51=10,AD52=0,AD51=\"STR\"),8,IF(AND(AC51=10,AD52=\"HP\",AD51=\"STR\"),9,IF(AND(AC51=20,AD52=0),10,IF(AND(AC51=20,AD52=\"HP\"),11,0)))))))))))","v":0},"Box 04",{"$f":"IF(AND(AF52=\"HP\",AE52=0,AF51=\"\"),1,IF(AND(AF52=\"HP\",AE52=\"SPL\",AF51=\"\"),2,IF(AND(AF52=0,AE52=\"SPL\",AF51=\"\"),3,IF(AND(AF52=0,AE52=0,AF51=\"SPA\"),4,IF(AND(AF52=0,AE52=\"SPL\",AF51=\"SPA\"),5,IF(AND(AF52=\"HP\",AE52=\"SPL\",AF51=\"SPA\"),6,IF(AND(AF52=\"HP\",AE52=0,AF51=\"SPA\"),7,IF(AND(AE51=10,AF52=0,AF51=\"STR\"),8,IF(AND(AE51=10,AF52=\"HP\",AF51=\"STR\"),9,IF(AND(AE51=20,AF52=0),10,IF(AND(AE51=20,AF52=\"HP\"),11,0)))))))))))","v":0},"Box 04",{"$f":"IF(AND(AH52=\"HP\",AG52=0,AH51=\"\"),1,IF(AND(AH52=\"HP\",AG52=\"SPL\",AH51=\"\"),2,IF(AND(AH52=0,AG52=\"SPL\",AH51=\"\"),3,IF(AND(AH52=0,AG52=0,AH51=\"SPA\"),4,IF(AND(AH52=0,AG52=\"SPL\",AH51=\"SPA\"),5,IF(AND(AH52=\"HP\",AG52=\"SPL\",AH51=\"SPA\"),6,IF(AND(AH52=\"HP\",AG52=0,AH51=\"SPA\"),7,IF(AND(AG51=10,AH52=0,AH51=\"STR\"),8,IF(AND(AG51=10,AH52=\"HP\",AH51=\"STR\"),9,IF(AND(AG51=20,AH52=0),10,IF(AND(AG51=20,AH52=\"HP\"),11,0)))))))))))","v":0},"Box 04",{"$f":"IF(AND(AJ52=\"HP\",AI52=0,AJ51=\"\"),1,IF(AND(AJ52=\"HP\",AI52=\"SPL\",AJ51=\"\"),2,IF(AND(AJ52=0,AI52=\"SPL\",AJ51=\"\"),3,IF(AND(AJ52=0,AI52=0,AJ51=\"SPA\"),4,IF(AND(AJ52=0,AI52=\"SPL\",AJ51=\"SPA\"),5,IF(AND(AJ52=\"HP\",AI52=\"SPL\",AJ51=\"SPA\"),6,IF(AND(AJ52=\"HP\",AI52=0,AJ51=\"SPA\"),7,IF(AND(AI51=10,AJ52=0,AJ51=\"STR\"),8,IF(AND(AI51=10,AJ52=\"HP\",AJ51=\"STR\"),9,IF(AND(AI51=20,AJ52=0),10,IF(AND(AI51=20,AJ52=\"HP\"),11,0)))))))))))","v":0},"Box 04",{"$f":"IF(AND(AL52=\"HP\",AK52=0,AL51=\"\"),1,IF(AND(AL52=\"HP\",AK52=\"SPL\",AL51=\"\"),2,IF(AND(AL52=0,AK52=\"SPL\",AL51=\"\"),3,IF(AND(AL52=0,AK52=0,AL51=\"SPA\"),4,IF(AND(AL52=0,AK52=\"SPL\",AL51=\"SPA\"),5,IF(AND(AL52=\"HP\",AK52=\"SPL\",AL51=\"SPA\"),6,IF(AND(AL52=\"HP\",AK52=0,AL51=\"SPA\"),7,IF(AND(AK51=10,AL52=0,AL51=\"STR\"),8,IF(AND(AK51=10,AL52=\"HP\",AL51=\"STR\"),9,IF(AND(AK51=20,AL52=0),10,IF(AND(AK51=20,AL52=\"HP\"),11,0)))))))))))","v":0}]
[]
[]
[null,null,null,null,null,null,null,null,null,null,null,null,null,null,null,null,null,null,"Box 05",{"$f":"IF(AND(T55=\"HP\",S55=0,T54=\"\"),1,IF(AND(T55=\"HP\",S55=\"SPL\",T54=\"\"),2,IF(AND(T55=0,S55=\"SPL\",T54=\"\"),3,IF(AND(T55=0,S55=0,T54=\"SPA\"),4,IF(AND(T55=0,S55=\"SPL\",T54=\"SPA\"),5,IF(AND(T55=\"HP\",S55=\"SPL\",T54=\"SPA\"),6,IF(AND(T55=\"HP\",S55=0,T54=\"SPA\"),7,IF(AND(S54=10,T55=0,T54=\"STR\"),8,IF(AND(S54=10,T55=\"HP\",T54=\"STR\"),9,IF(AND(S54=20,T55=0),10,IF(AND(S54=20,T55=\"HP\"),11,0)))))))))))","v":0},"Box 05",{"$f":"IF(AND(V55=\"HP\",U55=0,V54=\"\"),1,IF(AND(V55=\"HP\",U55=\"SPL\",V54=\"\"),2,IF(AND(V55=0,U55=\"SPL\",V54=\"\"),3,IF(AND(V55=0,U55=0,V54=\"SPA\"),4,IF(AND(V55=0,U55=\"SPL\",V54=\"SPA\"),5,IF(AND(V55=\"HP\",U55=\"SPL\",V54=\"SPA\"),6,IF(AND(V55=\"HP\",U55=0,V54=\"SPA\"),7,IF(AND(U54=10,V55=0,V54=\"STR\"),8,IF(AND(U54=10,V55=\"HP\",V54=\"STR\"),9,IF(AND(U54=20,V55=0),10,IF(AND(U54=20,V55=\"HP\"),11,0)))))))))))","v":0},"Box 05",{"$f":"IF(AND(X55=\"HP\",W55=0,X54=\"\"),1,IF(AND(X55=\"HP\",W55=\"SPL\",X54=\"\"),2,IF(AND(X55=0,W55=\"SPL\",X54=\"\"),3,IF(AND(X55=0,W55=0,X54=\"SPA\"),4,IF(AND(X55=0,W55=\"SPL\",X54=\"SPA\"),5,IF(AND(X55=\"HP\",W55=\"SPL\",X54=\"SPA\"),6,IF(AND(X55=\"HP\",W55=0,X54=\"SPA\"),7,IF(AND(W54=10,X55=0,X54=\"STR\"),8,IF(AND(W54=10,X55=\"HP\",X54=\"STR\"),9,IF(AND(W54=20,X55=0),10,IF(AND(W54=20,X55=\"HP\"),11,0)))))))))))","v":0},"Box 05",{"$f":"IF(AND(Z55=\"HP\",Y55=0,Z54=\"\"),1,IF(AND(Z55=\"HP\",Y55=\"SPL\",Z54=\"\"),2,IF(AND(Z55=0,Y55=\"SPL\",Z54=\"\"),3,IF(AND(Z55=0,Y55=0,Z54=\"SPA\"),4,IF(AND(Z55=0,Y55=\"SPL\",Z54=\"SPA\"),5,IF(AND(Z55=\"HP\",Y55=\"SPL\",Z54=\"SPA\"),6,IF(AND(Z55=\"HP\",Y55=0,Z54=\"SPA\"),7,IF(AND(Y54=10,Z55=0,Z54=\"STR\"),8,IF(AND(Y54=10,Z55=\"HP\",Z54=\"STR\"),9,IF(AND(Y54=20,Z55=0),10,IF(AND(Y54=20,Z55=\"HP\"),11,0)))))))))))","v":0},"Box 05",{"$f":"IF(AND(AB55=\"HP\",AA55=0,AB54=\"\"),1,IF(AND(AB55=\"HP\",AA55=\"SPL\",AB54=\"\"),2,IF(AND(AB55=0,AA55=\"SPL\",AB54=\"\"),3,IF(AND(AB55=0,AA55=0,AB54=\"SPA\"),4,IF(AND(AB55=0,AA55=\"SPL\",AB54=\"SPA\"),5,IF(AND(AB55=\"HP\",AA55=\"SPL\",AB54=\"SPA\"),6,IF(AND(AB55=\"HP\",AA55=0,AB54=\"SPA\"),7,IF(AND(AA54=10,AB55=0,AB54=\"STR\"),8,IF(AND(AA54=10,AB55=\"HP\",AB54=\"STR\"),9,IF(AND(AA54=20,AB55=0),10,IF(AND(AA54=20,AB55=\"HP\"),11,0)))))))))))","v":0},"Box 05",{"$f":"IF(AND(AD55=\"HP\",AC55=0,AD54=\"\"),1,IF(AND(AD55=\"HP\",AC55=\"SPL\",AD54=\"\"),2,IF(AND(AD55=0,AC55=\"SPL\",AD54=\"\"),3,IF(AND(AD55=0,AC55=0,AD54=\"SPA\"),4,IF(AND(AD55=0,AC55=\"SPL\",AD54=\"SPA\"),5,IF(AND(AD55=\"HP\",AC55=\"SPL\",AD54=\"SPA\"),6,IF(AND(AD55=\"HP\",AC55=0,AD54=\"SPA\"),7,IF(AND(AC54=10,AD55=0,AD54=\"STR\"),8,IF(AND(AC54=10,AD55=\"HP\",AD54=\"STR\"),9,IF(AND(AC54=20,AD55=0),10,IF(AND(AC54=20,AD55=\"HP\"),11,0)))))))))))","v":0},"Box 05",{"$f":"IF(AND(AF55=\"HP\",AE55=0,AF54=\"\"),1,IF(AND(AF55=\"HP\",AE55=\"SPL\",AF54=\"\"),2,IF(AND(AF55=0,AE55=\"SPL\",AF54=\"\"),3,IF(AND(AF55=0,AE55=0,AF54=\"SPA\"),4,IF(AND(AF55=0,AE55=\"SPL\",AF54=\"SPA\"),5,IF(AND(AF55=\"HP\",AE55=\"SPL\",AF54=\"SPA\"),6,IF(AND(AF55=\"HP\",AE55=0,AF54=\"SPA\"),7,IF(AND(AE54=10,AF55=0,AF54=\"STR\"),8,IF(AND(AE54=10,AF55=\"HP\",AF54=\"STR\"),9,IF(AND(AE54=20,AF55=0),10,IF(AND(AE54=20,AF55=\"HP\"),11,0)))))))))))","v":0},"Box 05",{"$f":"IF(AND(AH55=\"HP\",AG55=0,AH54=\"\"),1,IF(AND(AH55=\"HP\",AG55=\"SPL\",AH54=\"\"),2,IF(AND(AH55=0,AG55=\"SPL\",AH54=\"\"),3,IF(AND(AH55=0,AG55=0,AH54=\"SPA\"),4,IF(AND(AH55=0,AG55=\"SPL\",AH54=\"SPA\"),5,IF(AND(AH55=\"HP\",AG55=\"SPL\",AH54=\"SPA\"),6,IF(AND(AH55=\"HP\",AG55=0,AH54=\"SPA\"),7,IF(AND(AG54=10,AH55=0,AH54=\"STR\"),8,IF(AND(AG54=10,AH55=\"HP\",AH54=\"STR\"),9,IF(AND(AG54=20,AH55=0),10,IF(AND(AG54=20,AH55=\"HP\"),11,0)))))))))))","v":0},"Box 05",{"$f":"IF(AND(AJ55=\"HP\",AI55=0,AJ54=\"\"),1,IF(AND(AJ55=\"HP\",AI55=\"SPL\",AJ54=\"\"),2,IF(AND(AJ55=0,AI55=\"SPL\",AJ54=\"\"),3,IF(AND(AJ55=0,AI55=0,AJ54=\"SPA\"),4,IF(AND(AJ55=0,AI55=\"SPL\",AJ54=\"SPA\"),5,IF(AND(AJ55=\"HP\",AI55=\"SPL\",AJ54=\"SPA\"),6,IF(AND(AJ55=\"HP\",AI55=0,AJ54=\"SPA\"),7,IF(AND(AI54=10,AJ55=0,AJ54=\"STR\"),8,IF(AND(AI54=10,AJ55=\"HP\",AJ54=\"STR\"),9,IF(AND(AI54=20,AJ55=0),10,IF(AND(AI54=20,AJ55=\"HP\"),11,0)))))))))))","v":0},"Box 05",{"$f":"IF(AND(AL55=\"HP\",AK55=0,AL54=\"\"),1,IF(AND(AL55=\"HP\",AK55=\"SPL\",AL54=\"\"),2,IF(AND(AL55=0,AK55=\"SPL\",AL54=\"\"),3,IF(AND(AL55=0,AK55=0,AL54=\"SPA\"),4,IF(AND(AL55=0,AK55=\"SPL\",AL54=\"SPA\"),5,IF(AND(AL55=\"HP\",AK55=\"SPL\",AL54=\"SPA\"),6,IF(AND(AL55=\"HP\",AK55=0,AL54=\"SPA\"),7,IF(AND(AK54=10,AL55=0,AL54=\"STR\"),8,IF(AND(AK54=10,AL55=\"HP\",AL54=\"STR\"),9,IF(AND(AK54=20,AL55=0),10,IF(AND(AK54=20,AL55=\"HP\"),11,0)))))))))))","v":0}]
[]
[]
[null,null,null,null,null,null,null,null,null,null,null,null,null,null,null,null,null,null,"Box 06",{"$f":"IF(AND(T58=\"HP\",S58=0,T57=\"\"),1,IF(AND(T58=\"HP\",S58=\"SPL\",T57=\"\"),2,IF(AND(T58=0,S58=\"SPL\",T57=\"\"),3,IF(AND(T58=0,S58=0,T57=\"SPA\"),4,IF(AND(T58=0,S58=\"SPL\",T57=\"SPA\"),5,IF(AND(T58=\"HP\",S58=\"SPL\",T57=\"SPA\"),6,IF(AND(T58=\"HP\",S58=0,T57=\"SPA\"),7,IF(AND(S57=10,T58=0,T57=\"STR\"),8,IF(AND(S57=10,T58=\"HP\",T57=\"STR\"),9,IF(AND(S57=20,T58=0),10,IF(AND(S57=20,T58=\"HP\"),11,0)))))))))))","v":0},"Box 06",{"$f":"IF(AND(V58=\"HP\",U58=0,V57=\"\"),1,IF(AND(V58=\"HP\",U58=\"SPL\",V57=\"\"),2,IF(AND(V58=0,U58=\"SPL\",V57=\"\"),3,IF(AND(V58=0,U58=0,V57=\"SPA\"),4,IF(AND(V58=0,U58=\"SPL\",V57=\"SPA\"),5,IF(AND(V58=\"HP\",U58=\"SPL\",V57=\"SPA\"),6,IF(AND(V58=\"HP\",U58=0,V57=\"SPA\"),7,IF(AND(U57=10,V58=0,V57=\"STR\"),8,IF(AND(U57=10,V58=\"HP\",V57=\"STR\"),9,IF(AND(U57=20,V58=0),10,IF(AND(U57=20,V58=\"HP\"),11,0)))))))))))","v":0},"Box 06",{"$f":"IF(AND(X58=\"HP\",W58=0,X57=\"\"),1,IF(AND(X58=\"HP\",W58=\"SPL\",X57=\"\"),2,IF(AND(X58=0,W58=\"SPL\",X57=\"\"),3,IF(AND(X58=0,W58=0,X57=\"SPA\"),4,IF(AND(X58=0,W58=\"SPL\",X57=\"SPA\"),5,IF(AND(X58=\"HP\",W58=\"SPL\",X57=\"SPA\"),6,IF(AND(X58=\"HP\",W58=0,X57=\"SPA\"),7,IF(AND(W57=10,X58=0,X57=\"STR\"),8,IF(AND(W57=10,X58=\"HP\",X57=\"STR\"),9,IF(AND(W57=20,X58=0),10,IF(AND(W57=20,X58=\"HP\"),11,0)))))))))))","v":0},"Box 06",{"$f":"IF(AND(Z58=\"HP\",Y58=0,Z57=\"\"),1,IF(AND(Z58=\"HP\",Y58=\"SPL\",Z57=\"\"),2,IF(AND(Z58=0,Y58=\"SPL\",Z57=\"\"),3,IF(AND(Z58=0,Y58=0,Z57=\"SPA\"),4,IF(AND(Z58=0,Y58=\"SPL\",Z57=\"SPA\"),5,IF(AND(Z58=\"HP\",Y58=\"SPL\",Z57=\"SPA\"),6,IF(AND(Z58=\"HP\",Y58=0,Z57=\"SPA\"),7,IF(AND(Y57=10,Z58=0,Z57=\"STR\"),8,IF(AND(Y57=10,Z58=\"HP\",Z57=\"STR\"),9,IF(AND(Y57=20,Z58=0),10,IF(AND(Y57=20,Z58=\"HP\"),11,0)))))))))))","v":0},"Box 06",{"$f":"IF(AND(AB58=\"HP\",AA58=0,AB57=\"\"),1,IF(AND(AB58=\"HP\",AA58=\"SPL\",AB57=\"\"),2,IF(AND(AB58=0,AA58=\"SPL\",AB57=\"\"),3,IF(AND(AB58=0,AA58=0,AB57=\"SPA\"),4,IF(AND(AB58=0,AA58=\"SPL\",AB57=\"SPA\"),5,IF(AND(AB58=\"HP\",AA58=\"SPL\",AB57=\"SPA\"),6,IF(AND(AB58=\"HP\",AA58=0,AB57=\"SPA\"),7,IF(AND(AA57=10,AB58=0,AB57=\"STR\"),8,IF(AND(AA57=10,AB58=\"HP\",AB57=\"STR\"),9,IF(AND(AA57=20,AB58=0),10,IF(AND(AA57=20,AB58=\"HP\"),11,0)))))))))))","v":0},"Box 06",{"$f":"IF(AND(AD58=\"HP\",AC58=0,AD57=\"\"),1,IF(AND(AD58=\"HP\",AC58=\"SPL\",AD57=\"\"),2,IF(AND(AD58=0,AC58=\"SPL\",AD57=\"\"),3,IF(AND(AD58=0,AC58=0,AD57=\"SPA\"),4,IF(AND(AD58=0,AC58=\"SPL\",AD57=\"SPA\"),5,IF(AND(AD58=\"HP\",AC58=\"SPL\",AD57=\"SPA\"),6,IF(AND(AD58=\"HP\",AC58=0,AD57=\"SPA\"),7,IF(AND(AC57=10,AD58=0,AD57=\"STR\"),8,IF(AND(AC57=10,AD58=\"HP\",AD57=\"STR\"),9,IF(AND(AC57=20,AD58=0),10,IF(AND(AC57=20,AD58=\"HP\"),11,0)))))))))))","v":0},"Box 06",{"$f":"IF(AND(AF58=\"HP\",AE58=0,AF57=\"\"),1,IF(AND(AF58=\"HP\",AE58=\"SPL\",AF57=\"\"),2,IF(AND(AF58=0,AE58=\"SPL\",AF57=\"\"),3,IF(AND(AF58=0,AE58=0,AF57=\"SPA\"),4,IF(AND(AF58=0,AE58=\"SPL\",AF57=\"SPA\"),5,IF(AND(AF58=\"HP\",AE58=\"SPL\",AF57=\"SPA\"),6,IF(AND(AF58=\"HP\",AE58=0,AF57=\"SPA\"),7,IF(AND(AE57=10,AF58=0,AF57=\"STR\"),8,IF(AND(AE57=10,AF58=\"HP\",AF57=\"STR\"),9,IF(AND(AE57=20,AF58=0),10,IF(AND(AE57=20,AF58=\"HP\"),11,0)))))))))))","v":0},"Box 06",{"$f":"IF(AND(AH58=\"HP\",AG58=0,AH57=\"\"),1,IF(AND(AH58=\"HP\",AG58=\"SPL\",AH57=\"\"),2,IF(AND(AH58=0,AG58=\"SPL\",AH57=\"\"),3,IF(AND(AH58=0,AG58=0,AH57=\"SPA\"),4,IF(AND(AH58=0,AG58=\"SPL\",AH57=\"SPA\"),5,IF(AND(AH58=\"HP\",AG58=\"SPL\",AH57=\"SPA\"),6,IF(AND(AH58=\"HP\",AG58=0,AH57=\"SPA\"),7,IF(AND(AG57=10,AH58=0,AH57=\"STR\"),8,IF(AND(AG57=10,AH58=\"HP\",AH57=\"STR\"),9,IF(AND(AG57=20,AH58=0),10,IF(AND(AG57=20,AH58=\"HP\"),11,0)))))))))))","v":0},"Box 06",{"$f":"IF(AND(AJ58=\"HP\",AI58=0,AJ57=\"\"),1,IF(AND(AJ58=\"HP\",AI58=\"SPL\",AJ57=\"\"),2,IF(AND(AJ58=0,AI58=\"SPL\",AJ57=\"\"),3,IF(AND(AJ58=0,AI58=0,AJ57=\"SPA\"),4,IF(AND(AJ58=0,AI58=\"SPL\",AJ57=\"SPA\"),5,IF(AND(AJ58=\"HP\",AI58=\"SPL\",AJ57=\"SPA\"),6,IF(AND(AJ58=\"HP\",AI58=0,AJ57=\"SPA\"),7,IF(AND(AI57=10,AJ58=0,AJ57=\"STR\"),8,IF(AND(AI57=10,AJ58=\"HP\",AJ57=\"STR\"),9,IF(AND(AI57=20,AJ58=0),10,IF(AND(AI57=20,AJ58=\"HP\"),11,0)))))))))))","v":0},"Box 06",{"$f":"IF(AND(AL58=\"HP\",AK58=0,AL57=\"\"),1,IF(AND(AL58=\"HP\",AK58=\"SPL\",AL57=\"\"),2,IF(AND(AL58=0,AK58=\"SPL\",AL57=\"\"),3,IF(AND(AL58=0,AK58=0,AL57=\"SPA\"),4,IF(AND(AL58=0,AK58=\"SPL\",AL57=\"SPA\"),5,IF(AND(AL58=\"HP\",AK58=\"SPL\",AL57=\"SPA\"),6,IF(AND(AL58=\"HP\",AK58=0,AL57=\"SPA\"),7,IF(AND(AK57=10,AL58=0,AL57=\"STR\"),8,IF(AND(AK57=10,AL58=\"HP\",AL57=\"STR\"),9,IF(AND(AK57=20,AL58=0),10,IF(AND(AK57=20,AL58=\"HP\"),11,0)))))))))))","v":0}]
[null,null,null,null,null,null,null,null,null,null,null,null,"SPAF","STRF","SPAFAV","STRFAV"]
[null,null,null,null,null,null,null,null,null,null,null,"B1",{"$f":"SUM(T81,X81,AB81,AF81,AJ81)","v":0},{"$f":"SUM(T82,X82,AB82,AF82,AJ82)","v":0},{"$f":"IFERROR(M61/(SUM(T84,X84,AB84,AF84,AJ84)),\"\")","v":""},{"$f":"IFERROR(N61/(SUM(T83,X83,AB83,AF83,AJ83)),\"\")","v":""}]
[null,null,null,null,null,null,null,null,null,null,null,"B2",{"$f":"SUM(V81,Z81,AD81,AH81,AL81)","v":0},{"$f":"SUM(V82,Z82,AD82,AH82,AL82)","v":0},{"$f":"IFERROR(M62/(SUM(V84,Z84,AD84,AH84,AL84)),\"\")","v":""},{"$f":"IFERROR(N62/(SUM(V83,Z83,AD83,AH83,AL83)),\"\")","v":""},null,null,"Box 07",{"$f":"IF(AND(T61=\"HP\",S61=0,T60=\"\"),1,IF(AND(T61=\"HP\",S61=\"SPL\",T60=\"\"),2,IF(AND(T61=0,S61=\"SPL\",T60=\"\"),3,IF(AND(T61=0,S61=0,T60=\"SPA\"),4,IF(AND(T61=0,S61=\"SPL\",T60=\"SPA\"),5,IF(AND(T61=\"HP\",S61=\"SPL\",T60=\"SPA\"),6,IF(AND(T61=\"HP\",S61=0,T60=\"SPA\"),7,IF(AND(S60=10,T61=0,T60=\"STR\"),8,IF(AND(S60=10,T61=\"HP\",T60=\"STR\"),9,IF(AND(S60=20,T61=0),10,IF(AND(S60=20,T61=\"HP\"),11,0)))))))))))","v":0},"Box 07",{"$f":"IF(AND(V61=\"HP\",U61=0,V60=\"\"),1,IF(AND(V61=\"HP\",U61=\"SPL\",V60=\"\"),2,IF(AND(V61=0,U61=\"SPL\",V60=\"\"),3,IF(AND(V61=0,U61=0,V60=\"SPA\"),4,IF(AND(V61=0,U61=\"SPL\",V60=\"SPA\"),5,IF(AND(V61=\"HP\",U61=\"SPL\",V60=\"SPA\"),6,IF(AND(V61=\"HP\",U61=0,V60=\"SPA\"),7,IF(AND(U60=10,V61=0,V60=\"STR\"),8,IF(AND(U60=10,V61=\"HP\",V60=\"STR\"),9,IF(AND(U60=20,V61=0),10,IF(AND(U60=20,V61=\"HP\"),11,0)))))))))))","v":0},"Box 07",{"$f":"IF(AND(X61=\"HP\",W61=0,X60=\"\"),1,IF(AND(X61=\"HP\",W61=\"SPL\",X60=\"\"),2,IF(AND(X61=0,W61=\"SPL\",X60=\"\"),3,IF(AND(X61=0,W61=0,X60=\"SPA\"),4,IF(AND(X61=0,W61=\"SPL\",X60=\"SPA\"),5,IF(AND(X61=\"HP\",W61=\"SPL\",X60=\"SPA\"),6,IF(AND(X61=\"HP\",W61=0,X60=\"SPA\"),7,IF(AND(W60=10,X61=0,X60=\"STR\"),8,IF(AND(W60=10,X61=\"HP\",X60=\"STR\"),9,IF(AND(W60=20,X61=0),10,IF(AND(W60=20,X61=\"HP\"),11,0)))))))))))","v":0},"Box 07",{"$f":"IF(AND(Z61=\"HP\",Y61=0,Z60=\"\"),1,IF(AND(Z61=\"HP\",Y61=\"SPL\",Z60=\"\"),2,IF(AND(Z61=0,Y61=\"SPL\",Z60=\"\"),3,IF(AND(Z61=0,Y61=0,Z60=\"SPA\"),4,IF(AND(Z61=0,Y61=\"SPL\",Z60=\"SPA\"),5,IF(AND(Z61=\"HP\",Y61=\"SPL\",Z60=\"SPA\"),6,IF(AND(Z61=\"HP\",Y61=0,Z60=\"SPA\"),7,IF(AND(Y60=10,Z61=0,Z60=\"STR\"),8,IF(AND(Y60=10,Z61=\"HP\",Z60=\"STR\"),9,IF(AND(Y60=20,Z61=0),10,IF(AND(Y60=20,Z61=\"HP\"),11,0)))))))))))","v":0},"Box 07",{"$f":"IF(AND(AB61=\"HP\",AA61=0,AB60=\"\"),1,IF(AND(AB61=\"HP\",AA61=\"SPL\",AB60=\"\"),2,IF(AND(AB61=0,AA61=\"SPL\",AB60=\"\"),3,IF(AND(AB61=0,AA61=0,AB60=\"SPA\"),4,IF(AND(AB61=0,AA61=\"SPL\",AB60=\"SPA\"),5,IF(AND(AB61=\"HP\",AA61=\"SPL\",AB60=\"SPA\"),6,IF(AND(AB61=\"HP\",AA61=0,AB60=\"SPA\"),7,IF(AND(AA60=10,AB61=0,AB60=\"STR\"),8,IF(AND(AA60=10,AB61=\"HP\",AB60=\"STR\"),9,IF(AND(AA60=20,AB61=0),10,IF(AND(AA60=20,AB61=\"HP\"),11,0)))))))))))","v":0},"Box 07",{"$f":"IF(AND(AD61=\"HP\",AC61=0,AD60=\"\"),1,IF(AND(AD61=\"HP\",AC61=\"SPL\",AD60=\"\"),2,IF(AND(AD61=0,AC61=\"SPL\",AD60=\"\"),3,IF(AND(AD61=0,AC61=0,AD60=\"SPA\"),4,IF(AND(AD61=0,AC61=\"SPL\",AD60=\"SPA\"),5,IF(AND(AD61=\"HP\",AC61=\"SPL\",AD60=\"SPA\"),6,IF(AND(AD61=\"HP\",AC61=0,AD60=\"SPA\"),7,IF(AND(AC60=10,AD61=0,AD60=\"STR\"),8,IF(AND(AC60=10,AD61=\"HP\",AD60=\"STR\"),9,IF(AND(AC60=20,AD61=0),10,IF(AND(AC60=20,AD61=\"HP\"),11,0)))))))))))","v":0},"Box 07",{"$f":"IF(AND(AF61=\"HP\",AE61=0,AF60=\"\"),1,IF(AND(AF61=\"HP\",AE61=\"SPL\",AF60=\"\"),2,IF(AND(AF61=0,AE61=\"SPL\",AF60=\"\"),3,IF(AND(AF61=0,AE61=0,AF60=\"SPA\"),4,IF(AND(AF61=0,AE61=\"SPL\",AF60=\"SPA\"),5,IF(AND(AF61=\"HP\",AE61=\"SPL\",AF60=\"SPA\"),6,IF(AND(AF61=\"HP\",AE61=0,AF60=\"SPA\"),7,IF(AND(AE60=10,AF61=0,AF60=\"STR\"),8,IF(AND(AE60=10,AF61=\"HP\",AF60=\"STR\"),9,IF(AND(AE60=20,AF61=0),10,IF(AND(AE60=20,AF61=\"HP\"),11,0)))))))))))","v":0},"Box 07",{"$f":"IF(AND(AH61=\"HP\",AG61=0,AH60=\"\"),1,IF(AND(AH61=\"HP\",AG61=\"SPL\",AH60=\"\"),2,IF(AND(AH61=0,AG61=\"SPL\",AH60=\"\"),3,IF(AND(AH61=0,AG61=0,AH60=\"SPA\"),4,IF(AND(AH61=0,AG61=\"SPL\",AH60=\"SPA\"),5,IF(AND(AH61=\"HP\",AG61=\"SPL\",AH60=\"SPA\"),6,IF(AND(AH61=\"HP\",AG61=0,AH60=\"SPA\"),7,IF(AND(AG60=10,AH61=0,AH60=\"STR\"),8,IF(AND(AG60=10,AH61=\"HP\",AH60=\"STR\"),9,IF(AND(AG60=20,AH61=0),10,IF(AND(AG60=20,AH61=\"HP\"),11,0)))))))))))","v":0},"Box 07",{"$f":"IF(AND(AJ61=\"HP\",AI61=0,AJ60=\"\"),1,IF(AND(AJ61=\"HP\",AI61=\"SPL\",AJ60=\"\"),2,IF(AND(AJ61=0,AI61=\"SPL\",AJ60=\"\"),3,IF(AND(AJ61=0,AI61=0,AJ60=\"SPA\"),4,IF(AND(AJ61=0,AI61=\"SPL\",AJ60=\"SPA\"),5,IF(AND(AJ61=\"HP\",AI61=\"SPL\",AJ60=\"SPA\"),6,IF(AND(AJ61=\"HP\",AI61=0,AJ60=\"SPA\"),7,IF(AND(AI60=10,AJ61=0,AJ60=\"STR\"),8,IF(AND(AI60=10,AJ61=\"HP\",AJ60=\"STR\"),9,IF(AND(AI60=20,AJ61=0),10,IF(AND(AI60=20,AJ61=\"HP\"),11,0)))))))))))","v":0},"Box 07",{"$f":"IF(AND(AL61=\"HP\",AK61=0,AL60=\"\"),1,IF(AND(AL61=\"HP\",AK61=\"SPL\",AL60=\"\"),2,IF(AND(AL61=0,AK61=\"SPL\",AL60=\"\"),3,IF(AND(AL61=0,AK61=0,AL60=\"SPA\"),4,IF(AND(AL61=0,AK61=\"SPL\",AL60=\"SPA\"),5,IF(AND(AL61=\"HP\",AK61=\"SPL\",AL60=\"SPA\"),6,IF(AND(AL61=\"HP\",AK61=0,AL60=\"SPA\"),7,IF(AND(AK60=10,AL61=0,AL60=\"STR\"),8,IF(AND(AK60=10,AL61=\"HP\",AL60=\"STR\"),9,IF(AND(AK60=20,AL61=0),10,IF(AND(AK60=20,AL61=\"HP\"),11,0)))))))))))","v":0}]
[]
[]
[null,null,null,null,null,null,null,null,null,null,null,null,null,null,null,null,null,null,"Box 08",{"$f":"IF(AND(T64=\"HP\",S64=0,T63=\"\"),1,IF(AND(T64=\"HP\",S64=\"SPL\",T63=\"\"),2,IF(AND(T64=0,S64=\"SPL\",T63=\"\"),3,IF(AND(T64=0,S64=0,T63=\"SPA\"),4,IF(AND(T64=0,S64=\"SPL\",T63=\"SPA\"),5,IF(AND(T64=\"HP\",S64=\"SPL\",T63=\"SPA\"),6,IF(AND(T64=\"HP\",S64=0,T63=\"SPA\"),7,IF(AND(S63=10,T64=0,T63=\"STR\"),8,IF(AND(S63=10,T64=\"HP\",T63=\"STR\"),9,IF(AND(S63=20,T64=0),10,IF(AND(S63=20,T64=\"HP\"),11,0)))))))))))","v":0},"Box 08",{"$f":"IF(AND(V64=\"HP\",U64=0,V63=\"\"),1,IF(AND(V64=\"HP\",U64=\"SPL\",V63=\"\"),2,IF(AND(V64=0,U64=\"SPL\",V63=\"\"),3,IF(AND(V64=0,U64=0,V63=\"SPA\"),4,IF(AND(V64=0,U64=\"SPL\",V63=\"SPA\"),5,IF(AND(V64=\"HP\",U64=\"SPL\",V63=\"SPA\"),6,IF(AND(V64=\"HP\",U64=0,V63=\"SPA\"),7,IF(AND(U63=10,V64=0,V63=\"STR\"),8,IF(AND(U63=10,V64=\"HP\",V63=\"STR\"),9,IF(AND(U63=20,V64=0),10,IF(AND(U63=20,V64=\"HP\"),11,0)))))))))))","v":0},"Box 08",{"$f":"IF(AND(X64=\"HP\",W64=0,X63=\"\"),1,IF(AND(X64=\"HP\",W64=\"SPL\",X63=\"\"),2,IF(AND(X64=0,W64=\"SPL\",X63=\"\"),3,IF(AND(X64=0,W64=0,X63=\"SPA\"),4,IF(AND(X64=0,W64=\"SPL\",X63=\"SPA\"),5,IF(AND(X64=\"HP\",W64=\"SPL\",X63=\"SPA\"),6,IF(AND(X64=\"HP\",W64=0,X63=\"SPA\"),7,IF(AND(W63=10,X64=0,X63=\"STR\"),8,IF(AND(W63=10,X64=\"HP\",X63=\"STR\"),9,IF(AND(W63=20,X64=0),10,IF(AND(W63=20,X64=\"HP\"),11,0)))))))))))","v":0},"Box 08",{"$f":"IF(AND(Z64=\"HP\",Y64=0,Z63=\"\"),1,IF(AND(Z64=\"HP\",Y64=\"SPL\",Z63=\"\"),2,IF(AND(Z64=0,Y64=\"SPL\",Z63=\"\"),3,IF(AND(Z64=0,Y64=0,Z63=\"SPA\"),4,IF(AND(Z64=0,Y64=\"SPL\",Z63=\"SPA\"),5,IF(AND(Z64=\"HP\",Y64=\"SPL\",Z63=\"SPA\"),6,IF(AND(Z64=\"HP\",Y64=0,Z63=\"SPA\"),7,IF(AND(Y63=10,Z64=0,Z63=\"STR\"),8,IF(AND(Y63=10,Z64=\"HP\",Z63=\"STR\"),9,IF(AND(Y63=20,Z64=0),10,IF(AND(Y63=20,Z64=\"HP\"),11,0)))))))))))","v":0},"Box 08",{"$f":"IF(AND(AB64=\"HP\",AA64=0,AB63=\"\"),1,IF(AND(AB64=\"HP\",AA64=\"SPL\",AB63=\"\"),2,IF(AND(AB64=0,AA64=\"SPL\",AB63=\"\"),3,IF(AND(AB64=0,AA64=0,AB63=\"SPA\"),4,IF(AND(AB64=0,AA64=\"SPL\",AB63=\"SPA\"),5,IF(AND(AB64=\"HP\",AA64=\"SPL\",AB63=\"SPA\"),6,IF(AND(AB64=\"HP\",AA64=0,AB63=\"SPA\"),7,IF(AND(AA63=10,AB64=0,AB63=\"STR\"),8,IF(AND(AA63=10,AB64=\"HP\",AB63=\"STR\"),9,IF(AND(AA63=20,AB64=0),10,IF(AND(AA63=20,AB64=\"HP\"),11,0)))))))))))","v":0},"Box 08",{"$f":"IF(AND(AD64=\"HP\",AC64=0,AD63=\"\"),1,IF(AND(AD64=\"HP\",AC64=\"SPL\",AD63=\"\"),2,IF(AND(AD64=0,AC64=\"SPL\",AD63=\"\"),3,IF(AND(AD64=0,AC64=0,AD63=\"SPA\"),4,IF(AND(AD64=0,AC64=\"SPL\",AD63=\"SPA\"),5,IF(AND(AD64=\"HP\",AC64=\"SPL\",AD63=\"SPA\"),6,IF(AND(AD64=\"HP\",AC64=0,AD63=\"SPA\"),7,IF(AND(AC63=10,AD64=0,AD63=\"STR\"),8,IF(AND(AC63=10,AD64=\"HP\",AD63=\"STR\"),9,IF(AND(AC63=20,AD64=0),10,IF(AND(AC63=20,AD64=\"HP\"),11,0)))))))))))","v":0},"Box 08",{"$f":"IF(AND(AF64=\"HP\",AE64=0,AF63=\"\"),1,IF(AND(AF64=\"HP\",AE64=\"SPL\",AF63=\"\"),2,IF(AND(AF64=0,AE64=\"SPL\",AF63=\"\"),3,IF(AND(AF64=0,AE64=0,AF63=\"SPA\"),4,IF(AND(AF64=0,AE64=\"SPL\",AF63=\"SPA\"),5,IF(AND(AF64=\"HP\",AE64=\"SPL\",AF63=\"SPA\"),6,IF(AND(AF64=\"HP\",AE64=0,AF63=\"SPA\"),7,IF(AND(AE63=10,AF64=0,AF63=\"STR\"),8,IF(AND(AE63=10,AF64=\"HP\",AF63=\"STR\"),9,IF(AND(AE63=20,AF64=0),10,IF(AND(AE63=20,AF64=\"HP\"),11,0)))))))))))","v":0},"Box 08",{"$f":"IF(AND(AH64=\"HP\",AG64=0,AH63=\"\"),1,IF(AND(AH64=\"HP\",AG64=\"SPL\",AH63=\"\"),2,IF(AND(AH64=0,AG64=\"SPL\",AH63=\"\"),3,IF(AND(AH64=0,AG64=0,AH63=\"SPA\"),4,IF(AND(AH64=0,AG64=\"SPL\",AH63=\"SPA\"),5,IF(AND(AH64=\"HP\",AG64=\"SPL\",AH63=\"SPA\"),6,IF(AND(AH64=\"HP\",AG64=0,AH63=\"SPA\"),7,IF(AND(AG63=10,AH64=0,AH63=\"STR\"),8,IF(AND(AG63=10,AH64=\"HP\",AH63=\"STR\"),9,IF(AND(AG63=20,AH64=0),10,IF(AND(AG63=20,AH64=\"HP\"),11,0)))))))))))","v":0},"Box 08",{"$f":"IF(AND(AJ64=\"HP\",AI64=0,AJ63=\"\"),1,IF(AND(AJ64=\"HP\",AI64=\"SPL\",AJ63=\"\"),2,IF(AND(AJ64=0,AI64=\"SPL\",AJ63=\"\"),3,IF(AND(AJ64=0,AI64=0,AJ63=\"SPA\"),4,IF(AND(AJ64=0,AI64=\"SPL\",AJ63=\"SPA\"),5,IF(AND(AJ64=\"HP\",AI64=\"SPL\",AJ63=\"SPA\"),6,IF(AND(AJ64=\"HP\",AI64=0,AJ63=\"SPA\"),7,IF(AND(AI63=10,AJ64=0,AJ63=\"STR\"),8,IF(AND(AI63=10,AJ64=\"HP\",AJ63=\"STR\"),9,IF(AND(AI63=20,AJ64=0),10,IF(AND(AI63=20,AJ64=\"HP\"),11,0)))))))))))","v":0},"Box 08",{"$f":"IF(AND(AL64=\"HP\",AK64=0,AL63=\"\"),1,IF(AND(AL64=\"HP\",AK64=\"SPL\",AL63=\"\"),2,IF(AND(AL64=0,AK64=\"SPL\",AL63=\"\"),3,IF(AND(AL64=0,AK64=0,AL63=\"SPA\"),4,IF(AND(AL64=0,AK64=\"SPL\",AL63=\"SPA\"),5,IF(AND(AL64=\"HP\",AK64=\"SPL\",AL63=\"SPA\"),6,IF(AND(AL64=\"HP\",AK64=0,AL63=\"SPA\"),7,IF(AND(AK63=10,AL64=0,AL63=\"STR\"),8,IF(AND(AK63=10,AL64=\"HP\",AL63=\"STR\"),9,IF(AND(AK63=20,AL64=0),10,IF(AND(AK63=20,AL64=\"HP\"),11,0)))))))))))","v":0}]
[]
[]
[null,null,null,null,null,null,null,null,null,null,null,null,null,null,null,null,null,null,"Box 09",{"$f":"IF(AND(T67=\"HP\",S67=0,T66=\"\"),1,IF(AND(T67=\"HP\",S67=\"SPL\",T66=\"\"),2,IF(AND(T67=0,S67=\"SPL\",T66=\"\"),3,IF(AND(T67=0,S67=0,T66=\"SPA\"),4,IF(AND(T67=0,S67=\"SPL\",T66=\"SPA\"),5,IF(AND(T67=\"HP\",S67=\"SPL\",T66=\"SPA\"),6,IF(AND(T67=\"HP\",S67=0,T66=\"SPA\"),7,IF(AND(S66=10,T67=0,T66=\"STR\"),8,IF(AND(S66=10,T67=\"HP\",T66=\"STR\"),9,IF(AND(S66=20,T67=0),10,IF(AND(S66=20,T67=\"HP\"),11,0)))))))))))","v":0},"Box 09",{"$f":"IF(AND(V67=\"HP\",U67=0,V66=\"\"),1,IF(AND(V67=\"HP\",U67=\"SPL\",V66=\"\"),2,IF(AND(V67=0,U67=\"SPL\",V66=\"\"),3,IF(AND(V67=0,U67=0,V66=\"SPA\"),4,IF(AND(V67=0,U67=\"SPL\",V66=\"SPA\"),5,IF(AND(V67=\"HP\",U67=\"SPL\",V66=\"SPA\"),6,IF(AND(V67=\"HP\",U67=0,V66=\"SPA\"),7,IF(AND(U66=10,V67=0,V66=\"STR\"),8,IF(AND(U66=10,V67=\"HP\",V66=\"STR\"),9,IF(AND(U66=20,V67=0),10,IF(AND(U66=20,V67=\"HP\"),11,0)))))))))))","v":0},"Box 09",{"$f":"IF(AND(X67=\"HP\",W67=0,X66=\"\"),1,IF(AND(X67=\"HP\",W67=\"SPL\",X66=\"\"),2,IF(AND(X67=0,W67=\"SPL\",X66=\"\"),3,IF(AND(X67=0,W67=0,X66=\"SPA\"),4,IF(AND(X67=0,W67=\"SPL\",X66=\"SPA\"),5,IF(AND(X67=\"HP\",W67=\"SPL\",X66=\"SPA\"),6,IF(AND(X67=\"HP\",W67=0,X66=\"SPA\"),7,IF(AND(W66=10,X67=0,X66=\"STR\"),8,IF(AND(W66=10,X67=\"HP\",X66=\"STR\"),9,IF(AND(W66=20,X67=0),10,IF(AND(W66=20,X67=\"HP\"),11,0)))))))))))","v":0},"Box 09",{"$f":"IF(AND(Z67=\"HP\",Y67=0,Z66=\"\"),1,IF(AND(Z67=\"HP\",Y67=\"SPL\",Z66=\"\"),2,IF(AND(Z67=0,Y67=\"SPL\",Z66=\"\"),3,IF(AND(Z67=0,Y67=0,Z66=\"SPA\"),4,IF(AND(Z67=0,Y67=\"SPL\",Z66=\"SPA\"),5,IF(AND(Z67=\"HP\",Y67=\"SPL\",Z66=\"SPA\"),6,IF(AND(Z67=\"HP\",Y67=0,Z66=\"SPA\"),7,IF(AND(Y66=10,Z67=0,Z66=\"STR\"),8,IF(AND(Y66=10,Z67=\"HP\",Z66=\"STR\"),9,IF(AND(Y66=20,Z67=0),10,IF(AND(Y66=20,Z67=\"HP\"),11,0)))))))))))","v":0},"Box 09",{"$f":"IF(AND(AB67=\"HP\",AA67=0,AB66=\"\"),1,IF(AND(AB67=\"HP\",AA67=\"SPL\",AB66=\"\"),2,IF(AND(AB67=0,AA67=\"SPL\",AB66=\"\"),3,IF(AND(AB67=0,AA67=0,AB66=\"SPA\"),4,IF(AND(AB67=0,AA67=\"SPL\",AB66=\"SPA\"),5,IF(AND(AB67=\"HP\",AA67=\"SPL\",AB66=\"SPA\"),6,IF(AND(AB67=\"HP\",AA67=0,AB66=\"SPA\"),7,IF(AND(AA66=10,AB67=0,AB66=\"STR\"),8,IF(AND(AA66=10,AB67=\"HP\",AB66=\"STR\"),9,IF(AND(AA66=20,AB67=0),10,IF(AND(AA66=20,AB67=\"HP\"),11,0)))))))))))","v":0},"Box 09",{"$f":"IF(AND(AD67=\"HP\",AC67=0,AD66=\"\"),1,IF(AND(AD67=\"HP\",AC67=\"SPL\",AD66=\"\"),2,IF(AND(AD67=0,AC67=\"SPL\",AD66=\"\"),3,IF(AND(AD67=0,AC67=0,AD66=\"SPA\"),4,IF(AND(AD67=0,AC67=\"SPL\",AD66=\"SPA\"),5,IF(AND(AD67=\"HP\",AC67=\"SPL\",AD66=\"SPA\"),6,IF(AND(AD67=\"HP\",AC67=0,AD66=\"SPA\"),7,IF(AND(AC66=10,AD67=0,AD66=\"STR\"),8,IF(AND(AC66=10,AD67=\"HP\",AD66=\"STR\"),9,IF(AND(AC66=20,AD67=0),10,IF(AND(AC66=20,AD67=\"HP\"),11,0)))))))))))","v":0},"Box 09",{"$f":"IF(AND(AF67=\"HP\",AE67=0,AF66=\"\"),1,IF(AND(AF67=\"HP\",AE67=\"SPL\",AF66=\"\"),2,IF(AND(AF67=0,AE67=\"SPL\",AF66=\"\"),3,IF(AND(AF67=0,AE67=0,AF66=\"SPA\"),4,IF(AND(AF67=0,AE67=\"SPL\",AF66=\"SPA\"),5,IF(AND(AF67=\"HP\",AE67=\"SPL\",AF66=\"SPA\"),6,IF(AND(AF67=\"HP\",AE67=0,AF66=\"SPA\"),7,IF(AND(AE66=10,AF67=0,AF66=\"STR\"),8,IF(AND(AE66=10,AF67=\"HP\",AF66=\"STR\"),9,IF(AND(AE66=20,AF67=0),10,IF(AND(AE66=20,AF67=\"HP\"),11,0)))))))))))","v":0},"Box 09",{"$f":"IF(AND(AH67=\"HP\",AG67=0,AH66=\"\"),1,IF(AND(AH67=\"HP\",AG67=\"SPL\",AH66=\"\"),2,IF(AND(AH67=0,AG67=\"SPL\",AH66=\"\"),3,IF(AND(AH67=0,AG67=0,AH66=\"SPA\"),4,IF(AND(AH67=0,AG67=\"SPL\",AH66=\"SPA\"),5,IF(AND(AH67=\"HP\",AG67=\"SPL\",AH66=\"SPA\"),6,IF(AND(AH67=\"HP\",AG67=0,AH66=\"SPA\"),7,IF(AND(AG66=10,AH67=0,AH66=\"STR\"),8,IF(AND(AG66=10,AH67=\"HP\",AH66=\"STR\"),9,IF(AND(AG66=20,AH67=0),10,IF(AND(AG66=20,AH67=\"HP\"),11,0)))))))))))","v":0},"Box 09",{"$f":"IF(AND(AJ67=\"HP\",AI67=0,AJ66=\"\"),1,IF(AND(AJ67=\"HP\",AI67=\"SPL\",AJ66=\"\"),2,IF(AND(AJ67=0,AI67=\"SPL\",AJ66=\"\"),3,IF(AND(AJ67=0,AI67=0,AJ66=\"SPA\"),4,IF(AND(AJ67=0,AI67=\"SPL\",AJ66=\"SPA\"),5,IF(AND(AJ67=\"HP\",AI67=\"SPL\",AJ66=\"SPA\"),6,IF(AND(AJ67=\"HP\",AI67=0,AJ66=\"SPA\"),7,IF(AND(AI66=10,AJ67=0,AJ66=\"STR\"),8,IF(AND(AI66=10,AJ67=\"HP\",AJ66=\"STR\"),9,IF(AND(AI66=20,AJ67=0),10,IF(AND(AI66=20,AJ67=\"HP\"),11,0)))))))))))","v":0},"Box 09",{"$f":"IF(AND(AL67=\"HP\",AK67=0,AL66=\"\"),1,IF(AND(AL67=\"HP\",AK67=\"SPL\",AL66=\"\"),2,IF(AND(AL67=0,AK67=\"SPL\",AL66=\"\"),3,IF(AND(AL67=0,AK67=0,AL66=\"SPA\"),4,IF(AND(AL67=0,AK67=\"SPL\",AL66=\"SPA\"),5,IF(AND(AL67=\"HP\",AK67=\"SPL\",AL66=\"SPA\"),6,IF(AND(AL67=\"HP\",AK67=0,AL66=\"SPA\"),7,IF(AND(AK66=10,AL67=0,AL66=\"STR\"),8,IF(AND(AK66=10,AL67=\"HP\",AL66=\"STR\"),9,IF(AND(AK66=20,AL67=0),10,IF(AND(AK66=20,AL67=\"HP\"),11,0)))))))))))","v":0}]
[]
[]
[null,null,null,null,null,null,null,null,null,null,null,null,null,null,null,null,null,null,"Box 10",{"$f":"IF(AND(T70=\"HP\",S70=0,T69=\"\"),1,IF(AND(T70=\"HP\",S70=\"SPL\",T69=\"\"),2,IF(AND(T70=0,S70=\"SPL\",T69=\"\"),3,IF(AND(T70=0,S70=0,T69=\"SPA\"),4,IF(AND(T70=0,S70=\"SPL\",T69=\"SPA\"),5,IF(AND(T70=\"HP\",S70=\"SPL\",T69=\"SPA\"),6,IF(AND(T70=\"HP\",S70=0,T69=\"SPA\"),7,IF(AND(S69=10,T70=0,T69=\"STR\"),8,IF(AND(S69=10,T70=\"HP\",T69=\"STR\"),9,IF(AND(S69=20,T70=0),10,IF(AND(S69=20,T70=\"HP\"),11,0)))))))))))","v":0},"Box 10",{"$f":"IF(AND(V70=\"HP\",U70=0,V69=\"\"),1,IF(AND(V70=\"HP\",U70=\"SPL\",V69=\"\"),2,IF(AND(V70=0,U70=\"SPL\",V69=\"\"),3,IF(AND(V70=0,U70=0,V69=\"SPA\"),4,IF(AND(V70=0,U70=\"SPL\",V69=\"SPA\"),5,IF(AND(V70=\"HP\",U70=\"SPL\",V69=\"SPA\"),6,IF(AND(V70=\"HP\",U70=0,V69=\"SPA\"),7,IF(AND(U69=10,V70=0,V69=\"STR\"),8,IF(AND(U69=10,V70=\"HP\",V69=\"STR\"),9,IF(AND(U69=20,V70=0),10,IF(AND(U69=20,V70=\"HP\"),11,0)))))))))))","v":0},"Box 10",{"$f":"IF(AND(X70=\"HP\",W70=0,X69=\"\"),1,IF(AND(X70=\"HP\",W70=\"SPL\",X69=\"\"),2,IF(AND(X70=0,W70=\"SPL\",X69=\"\"),3,IF(AND(X70=0,W70=0,X69=\"SPA\"),4,IF(AND(X70=0,W70=\"SPL\",X69=\"SPA\"),5,IF(AND(X70=\"HP\",W70=\"SPL\",X69=\"SPA\"),6,IF(AND(X70=\"HP\",W70=0,X69=\"SPA\"),7,IF(AND(W69=10,X70=0,X69=\"STR\"),8,IF(AND(W69=10,X70=\"HP\",X69=\"STR\"),9,IF(AND(W69=20,X70=0),10,IF(AND(W69=20,X70=\"HP\"),11,0)))))))))))","v":0},"Box 10",{"$f":"IF(AND(Z70=\"HP\",Y70=0,Z69=\"\"),1,IF(AND(Z70=\"HP\",Y70=\"SPL\",Z69=\"\"),2,IF(AND(Z70=0,Y70=\"SPL\",Z69=\"\"),3,IF(AND(Z70=0,Y70=0,Z69=\"SPA\"),4,IF(AND(Z70=0,Y70=\"SPL\",Z69=\"SPA\"),5,IF(AND(Z70=\"HP\",Y70=\"SPL\",Z69=\"SPA\"),6,IF(AND(Z70=\"HP\",Y70=0,Z69=\"SPA\"),7,IF(AND(Y69=10,Z70=0,Z69=\"STR\"),8,IF(AND(Y69=10,Z70=\"HP\",Z69=\"STR\"),9,IF(AND(Y69=20,Z70=0),10,IF(AND(Y69=20,Z70=\"HP\"),11,0)))))))))))","v":0},"Box 10",{"$f":"IF(AND(AB70=\"HP\",AA70=0,AB69=\"\"),1,IF(AND(AB70=\"HP\",AA70=\"SPL\",AB69=\"\"),2,IF(AND(AB70=0,AA70=\"SPL\",AB69=\"\"),3,IF(AND(AB70=0,AA70=0,AB69=\"SPA\"),4,IF(AND(AB70=0,AA70=\"SPL\",AB69=\"SPA\"),5,IF(AND(AB70=\"HP\",AA70=\"SPL\",AB69=\"SPA\"),6,IF(AND(AB70=\"HP\",AA70=0,AB69=\"SPA\"),7,IF(AND(AA69=10,AB70=0,AB69=\"STR\"),8,IF(AND(AA69=10,AB70=\"HP\",AB69=\"STR\"),9,IF(AND(AA69=20,AB70=0),10,IF(AND(AA69=20,AB70=\"HP\"),11,0)))))))))))","v":0},"Box 10",{"$f":"IF(AND(AD70=\"HP\",AC70=0,AD69=\"\"),1,IF(AND(AD70=\"HP\",AC70=\"SPL\",AD69=\"\"),2,IF(AND(AD70=0,AC70=\"SPL\",AD69=\"\"),3,IF(AND(AD70=0,AC70=0,AD69=\"SPA\"),4,IF(AND(AD70=0,AC70=\"SPL\",AD69=\"SPA\"),5,IF(AND(AD70=\"HP\",AC70=\"SPL\",AD69=\"SPA\"),6,IF(AND(AD70=\"HP\",AC70=0,AD69=\"SPA\"),7,IF(AND(AC69=10,AD70=0,AD69=\"STR\"),8,IF(AND(AC69=10,AD70=\"HP\",AD69=\"STR\"),9,IF(AND(AC69=20,AD70=0),10,IF(AND(AC69=20,AD70=\"HP\"),11,0)))))))))))","v":0},"Box 10",{"$f":"IF(AND(AF70=\"HP\",AE70=0,AF69=\"\"),1,IF(AND(AF70=\"HP\",AE70=\"SPL\",AF69=\"\"),2,IF(AND(AF70=0,AE70=\"SPL\",AF69=\"\"),3,IF(AND(AF70=0,AE70=0,AF69=\"SPA\"),4,IF(AND(AF70=0,AE70=\"SPL\",AF69=\"SPA\"),5,IF(AND(AF70=\"HP\",AE70=\"SPL\",AF69=\"SPA\"),6,IF(AND(AF70=\"HP\",AE70=0,AF69=\"SPA\"),7,IF(AND(AE69=10,AF70=0,AF69=\"STR\"),8,IF(AND(AE69=10,AF70=\"HP\",AF69=\"STR\"),9,IF(AND(AE69=20,AF70=0),10,IF(AND(AE69=20,AF70=\"HP\"),11,0)))))))))))","v":0},"Box 10",{"$f":"IF(AND(AH70=\"HP\",AG70=0,AH69=\"\"),1,IF(AND(AH70=\"HP\",AG70=\"SPL\",AH69=\"\"),2,IF(AND(AH70=0,AG70=\"SPL\",AH69=\"\"),3,IF(AND(AH70=0,AG70=0,AH69=\"SPA\"),4,IF(AND(AH70=0,AG70=\"SPL\",AH69=\"SPA\"),5,IF(AND(AH70=\"HP\",AG70=\"SPL\",AH69=\"SPA\"),6,IF(AND(AH70=\"HP\",AG70=0,AH69=\"SPA\"),7,IF(AND(AG69=10,AH70=0,AH69=\"STR\"),8,IF(AND(AG69=10,AH70=\"HP\",AH69=\"STR\"),9,IF(AND(AG69=20,AH70=0),10,IF(AND(AG69=20,AH70=\"HP\"),11,0)))))))))))","v":0},"Box 10",{"$f":"IF(AND(AJ70=\"HP\",AI70=0,AJ69=\"\"),1,IF(AND(AJ70=\"HP\",AI70=\"SPL\",AJ69=\"\"),2,IF(AND(AJ70=0,AI70=\"SPL\",AJ69=\"\"),3,IF(AND(AJ70=0,AI70=0,AJ69=\"SPA\"),4,IF(AND(AJ70=0,AI70=\"SPL\",AJ69=\"SPA\"),5,IF(AND(AJ70=\"HP\",AI70=\"SPL\",AJ69=\"SPA\"),6,IF(AND(AJ70=\"HP\",AI70=0,AJ69=\"SPA\"),7,IF(AND(AI69=10,AJ70=0,AJ69=\"STR\"),8,IF(AND(AI69=10,AJ70=\"HP\",AJ69=\"STR\"),9,IF(AND(AI69=20,AJ70=0),10,IF(AND(AI69=20,AJ70=\"HP\"),11,0)))))))))))","v":0},"Box 10",{"$f":"IF(AND(AL70=\"HP\",AK70=0,AL69=\"\"),1,IF(AND(AL70=\"HP\",AK70=\"SPL\",AL69=\"\"),2,IF(AND(AL70=0,AK70=\"SPL\",AL69=\"\"),3,IF(AND(AL70=0,AK70=0,AL69=\"SPA\"),4,IF(AND(AL70=0,AK70=\"SPL\",AL69=\"SPA\"),5,IF(AND(AL70=\"HP\",AK70=\"SPL\",AL69=\"SPA\"),6,IF(AND(AL70=\"HP\",AK70=0,AL69=\"SPA\"),7,IF(AND(AK69=10,AL70=0,AL69=\"STR\"),8,IF(AND(AK69=10,AL70=\"HP\",AL69=\"STR\"),9,IF(AND(AK69=20,AL70=0),10,IF(AND(AK69=20,AL70=\"HP\"),11,0)))))))))))","v":0}]
[]
[]
[null,null,null,null,null,null,null,null,null,null,null,null,null,null,null,null,null,null,"HPs",{"$f":"COUNTIF(T42:T71,\"HP\")","v":0},"HPs",{"$f":"COUNTIF(V42:V71,\"HP\")","v":0},"HPs",{"$f":"COUNTIF(X42:X71,\"HP\")","v":0},"HPs",{"$f":"COUNTIF(Z42:Z71,\"HP\")","v":0},"HPs",{"$f":"COUNTIF(AB42:AB71,\"HP\")","v":0},"HPs",{"$f":"COUNTIF(AD42:AD71,\"HP\")","v":0},"HPs",{"$f":"COUNTIF(AF42:AF71,\"HP\")","v":0},"HPs",{"$f":"COUNTIF(AH42:AH71,\"HP\")","v":0},"HPs",{"$f":"COUNTIF(AJ42:AJ71,\"HP\")","v":0},"HPs",{"$f":"COUNTIF(AL42:AL71,\"HP\")","v":0}]
[null,null,null,null,null,null,null,null,null,null,null,null,null,null,null,null,null,null,"Splits",{"$f":"COUNTIF(S42:S71,\"SPL\")","v":0},"Splits",{"$f":"COUNTIF(U42:U71,\"SPL\")","v":0},"Splits",{"$f":"COUNTIF(W42:W71,\"SPL\")","v":0},"Splits",{"$f":"COUNTIF(Y42:Y71,\"SPL\")","v":0},"Splits",{"$f":"COUNTIF(AA42:AA71,\"SPL\")","v":0},"Splits",{"$f":"COUNTIF(AC42:AC71,\"SPL\")","v":0},"Splits",{"$f":"COUNTIF(AE42:AE71,\"SPL\")","v":0},"Splits",{"$f":"COUNTIF(AG42:AG71,\"SPL\")","v":0},"Splits",{"$f":"COUNTIF(AI42:AI71,\"SPL\")","v":0},"Splits",{"$f":"COUNTIF(AK42:AK71,\"SPL\")","v":0}]
[null,null,null,null,null,null,null,null,null,null,null,null,null,null,null,null,null,null,"Strikes",{"$f":"COUNTIF(T42:T71,\"STR\")+IF(AND(T69=\"SPA\",S31=\"X\"),1,0)+IF(S69=20,1,0)+IF(AND(S69=20,S31=\"X\"),1,0)","v":0},"Strikes",{"$f":"COUNTIF(V42:V71,\"STR\")+IF(AND(V69=\"SPA\",U31=\"X\"),1,0)+IF(U69=20,1,0)+IF(AND(U69=20,U31=\"X\"),1,0)","v":0},"Strikes",{"$f":"COUNTIF(X42:X71,\"STR\")+IF(AND(X69=\"SPA\",W31=\"X\"),1,0)+IF(W69=20,1,0)+IF(AND(W69=20,W31=\"X\"),1,0)","v":0},"Strikes",{"$f":"COUNTIF(Z42:Z71,\"STR\")+IF(AND(Z69=\"SPA\",Y31=\"X\"),1,0)+IF(Y69=20,1,0)+IF(AND(Y69=20,Y31=\"X\"),1,0)","v":0},"Strikes",{"$f":"COUNTIF(AB42:AB71,\"STR\")+IF(AND(AB69=\"SPA\",AA31=\"X\"),1,0)+IF(AA69=20,1,0)+IF(AND(AA69=20,AA31=\"X\"),1,0)","v":0},"Strikes",{"$f":"COUNTIF(AD42:AD71,\"STR\")+IF(AND(AD69=\"SPA\",AC31=\"X\"),1,0)+IF(AC69=20,1,0)+IF(AND(AC69=20,AC31=\"X\"),1,0)","v":0},"Strikes",{"$f":"COUNTIF(AF42:AF71,\"STR\")+IF(AND(AF69=\"SPA\",AE31=\"X\"),1,0)+IF(AE69=20,1,0)+IF(AND(AE69=20,AE31=\"X\"),1,0)","v":0},"Strikes",{"$f":"COUNTIF(AH42:AH71,\"STR\")+IF(AND(AH69=\"SPA\",AG31=\"X\"),1,0)+IF(AG69=20,1,0)+IF(AND(AG69=20,AG31=\"X\"),1,0)","v":0},"Strikes",{"$f":"COUNTIF(AJ42:AJ71,\"STR\")+IF(AND(AJ69=\"SPA\",AI31=\"X\"),1,0)+IF(AI69=20,1,0)+IF(AND(AI69=20,AI31=\"X\"),1,0)","v":0},"Strikes",{"$f":"COUNTIF(AL42:AL71,\"STR\")+IF(AND(AL69=\"SPA\",AK31=\"X\"),1,0)+IF(AK69=20,1,0)+IF(AND(AK69=20,AK31=\"X\"),1,0)","v":0}]
[null,null,null,null,null,null,null,null,null,null,null,null,null,null,null,null,null,null,"Spares",{"$f":"COUNTIF(T42:T71,\"SPA\")+IF(AND(T69=\"STR\",S31=\"X\",S69=10),1,0)","v":0},"Spares",{"$f":"COUNTIF(V42:V71,\"SPA\")+IF(AND(V69=\"STR\",U31=\"X\",U69=10),1,0)","v":0},"Spares",{"$f":"COUNTIF(X42:X71,\"SPA\")+IF(AND(X69=\"STR\",W31=\"X\",W69=10),1,0)","v":0},"Spares",{"$f":"COUNTIF(Z42:Z71,\"SPA\")+IF(AND(Z69=\"STR\",Y31=\"X\",Y69=10),1,0)","v":0},"Spares",{"$f":"COUNTIF(AB42:AB71,\"SPA\")+IF(AND(AB69=\"STR\",AA31=\"X\",AA69=10),1,0)","v":0},"Spares",{"$f":"COUNTIF(AD42:AD71,\"SPA\")+IF(AND(AD69=\"STR\",AC31=\"X\",AC69=10),1,0)","v":0},"Spares",{"$f":"COUNTIF(AF42:AF71,\"SPA\")+IF(AND(AF69=\"STR\",AE31=\"X\",AE69=10),1,0)","v":0},"Spares",{"$f":"COUNTIF(AH42:AH71,\"SPA\")+IF(AND(AH69=\"STR\",AG31=\"X\",AG69=10),1,0)","v":0},"Spares",{"$f":"COUNTIF(AJ42:AJ71,\"SPA\")+IF(AND(AJ69=\"STR\",AI31=\"X\",AI69=10),1,0)","v":0},"Spares",{"$f":"COUNTIF(AL42:AL71,\"SPA\")+IF(AND(AL69=\"STR\",AK31=\"X\",AK69=10),1,0)","v":0}]
[null,null,null,null,null,null,null,null,null,null,null,null,null,null,null,null,null,null,"Tens",{"$f":"COUNTIF(S4:S33,\"10\")","v":0},"Tens",{"$f":"COUNTIF(U4:U33,\"10\")","v":0},"Tens",{"$f":"COUNTIF(W4:W33,\"10\")","v":0},"Tens",{"$f":"COUNTIF(Y4:Y33,\"10\")","v":0},"Tens",{"$f":"COUNTIF(AA4:AA33,\"10\")","v":0},"Tens",{"$f":"COUNTIF(AC4:AC33,\"10\")","v":0},"Tens",{"$f":"COUNTIF(AE4:AE33,\"10\")","v":0},"Tens",{"$f":"COUNTIF(AG4:AG33,\"10\")","v":0},"Tens",{"$f":"COUNTIF(AI4:AI33,\"10\")","v":0},"Tens",{"$f":"COUNTIF(AK4:AK33,\"10\")","v":0}]
[null,null,null,null,null,null,null,null,null,null,null,null,null,null,null,null,null,null,"Standing",{"$f":"SUM((IF(AND(S4<>\"\",S42=0),10-S4))+(IF(AND(S7<>\"\",S45=0),10-S7))+(IF(AND(S10<>\"\",S48=0),10-S10))+(IF(AND(S13<>\"\",S51=0),10-S13))+(IF(AND(S16<>\"\",S54=0),10-S16))+(IF(AND(S19<>\"\",S57=0),10-S19))+(IF(AND(S22<>\"\",S60=0),10-S22))+(IF(AND(S25<>\"\",S63=0),10-S25))+(IF(AND(S28<>\"\",S66=0),10-S28))+(IF(AND(S31<>\"\",S69=0),10-S31)))","v":0},"Standing",{"$f":"SUM((IF(AND(U4<>\"\",U42=0),10-U4))+(IF(AND(U7<>\"\",U45=0),10-U7))+(IF(AND(U10<>\"\",U48=0),10-U10))+(IF(AND(U13<>\"\",U51=0),10-U13))+(IF(AND(U16<>\"\",U54=0),10-U16))+(IF(AND(U19<>\"\",U57=0),10-U19))+(IF(AND(U22<>\"\",U60=0),10-U22))+(IF(AND(U25<>\"\",U63=0),10-U25))+(IF(AND(U28<>\"\",U66=0),10-U28))+(IF(AND(U31<>\"\",U69=0),10-U31)))","v":0},"Standing",{"$f":"SUM((IF(AND(W4<>\"\",W42=0),10-W4))+(IF(AND(W7<>\"\",W45=0),10-W7))+(IF(AND(W10<>\"\",W48=0),10-W10))+(IF(AND(W13<>\"\",W51=0),10-W13))+(IF(AND(W16<>\"\",W54=0),10-W16))+(IF(AND(W19<>\"\",W57=0),10-W19))+(IF(AND(W22<>\"\",W60=0),10-W22))+(IF(AND(W25<>\"\",W63=0),10-W25))+(IF(AND(W28<>\"\",W66=0),10-W28))+(IF(AND(W31<>\"\",W69=0),10-W31)))","v":0},"Standing",{"$f":"SUM((IF(AND(Y4<>\"\",Y42=0),10-Y4))+(IF(AND(Y7<>\"\",Y45=0),10-Y7))+(IF(AND(Y10<>\"\",Y48=0),10-Y10))+(IF(AND(Y13<>\"\",Y51=0),10-Y13))+(IF(AND(Y16<>\"\",Y54=0),10-Y16))+(IF(AND(Y19<>\"\",Y57=0),10-Y19))+(IF(AND(Y22<>\"\",Y60=0),10-Y22))+(IF(AND(Y25<>\"\",Y63=0),10-Y25))+(IF(AND(Y28<>\"\",Y66=0),10-Y28))+(IF(AND(Y31<>\"\",Y69=0),10-Y31)))","v":0},"Standing",{"$f":"SUM((IF(AND(AA4<>\"\",AA42=0),10-AA4))+(IF(AND(AA7<>\"\",AA45=0),10-AA7))+(IF(AND(AA10<>\"\",AA48=0),10-AA10))+(IF(AND(AA13<>\"\",AA51=0),10-AA13))+(IF(AND(AA16<>\"\",AA54=0),10-AA16))+(IF(AND(AA19<>\"\",AA57=0),10-AA19))+(IF(AND(AA22<>\"\",AA60=0),10-AA22))+(IF(AND(AA25<>\"\",AA63=0),10-AA25))+(IF(AND(AA28<>\"\",AA66=0),10-AA28))+(IF(AND(AA31<>\"\",AA69=0),10-AA31)))","v":0},"Standing",{"$f":"SUM((IF(AND(AC4<>\"\",AC42=0),10-AC4))+(IF(AND(AC7<>\"\",AC45=0),10-AC7))+(IF(AND(AC10<>\"\",AC48=0),10-AC10))+(IF(AND(AC13<>\"\",AC51=0),10-AC13))+(IF(AND(AC16<>\"\",AC54=0),10-AC16))+(IF(AND(AC19<>\"\",AC57=0),10-AC19))+(IF(AND(AC22<>\"\",AC60=0),10-AC22))+(IF(AND(AC25<>\"\",AC63=0),10-AC25))+(IF(AND(AC28<>\"\",AC66=0),10-AC28))+(IF(AND(AC31<>\"\",AC69=0),10-AC31)))","v":0},"Standing",{"$f":"SUM((IF(AND(AE4<>\"\",AE42=0),10-AE4))+(IF(AND(AE7<>\"\",AE45=0),10-AE7))+(IF(AND(AE10<>\"\",AE48=0),10-AE10))+(IF(AND(AE13<>\"\",AE51=0),10-AE13))+(IF(AND(AE16<>\"\",AE54=0),10-AE16))+(IF(AND(AE19<>\"\",AE57=0),10-AE19))+(IF(AND(AE22<>\"\",AE60=0),10-AE22))+(IF(AND(AE25<>\"\",AE63=0),10-AE25))+(IF(AND(AE28<>\"\",AE66=0),10-AE28))+(IF(AND(AE31<>\"\",AE69=0),10-AE31)))","v":0},"Standing",{"$f":"SUM((IF(AND(AG4<>\"\",AG42=0),10-AG4))+(IF(AND(AG7<>\"\",AG45=0),10-AG7))+(IF(AND(AG10<>\"\",AG48=0),10-AG10))+(IF(AND(AG13<>\"\",AG51=0),10-AG13))+(IF(AND(AG16<>\"\",AG54=0),10-AG16))+(IF(AND(AG19<>\"\",AG57=0),10-AG19))+(IF(AND(AG22<>\"\",AG60=0),10-AG22))+(IF(AND(AG25<>\"\",AG63=0),10-AG25))+(IF(AND(AG28<>\"\",AG66=0),10-AG28))+(IF(AND(AG31<>\"\",AG69=0),10-AG31)))","v":0},"Standing",{"$f":"SUM((IF(AND(AI4<>\"\",AI42=0),10-AI4))+(IF(AND(AI7<>\"\",AI45=0),10-AI7))+(IF(AND(AI10<>\"\",AI48=0),10-AI10))+(IF(AND(AI13<>\"\",AI51=0),10-AI13))+(IF(AND(AI16<>\"\",AI54=0),10-AI16))+(IF(AND(AI19<>\"\",AI57=0),10-AI19))+(IF(AND(AI22<>\"\",AI60=0),10-AI22))+(IF(AND(AI25<>\"\",AI63=0),10-AI25))+(IF(AND(AI28<>\"\",AI66=0),10-AI28))+(IF(AND(AI31<>\"\",AI69=0),10-AI31)))","v":0},"Standing",{"$f":"SUM((IF(AND(AK4<>\"\",AK42=0),10-AK4))+(IF(AND(AK7<>\"\",AK45=0),10-AK7))+(IF(AND(AK10<>\"\",AK48=0),10-AK10))+(IF(AND(AK13<>\"\",AK51=0),10-AK13))+(IF(AND(AK16<>\"\",AK54=0),10-AK16))+(IF(AND(AK19<>\"\",AK57=0),10-AK19))+(IF(AND(AK22<>\"\",AK60=0),10-AK22))+(IF(AND(AK25<>\"\",AK63=0),10-AK25))+(IF(AND(AK28<>\"\",AK66=0),10-AK28))+(IF(AND(AK31<>\"\",AK69=0),10-AK31)))","v":0}]
[null,null,null,null,null,null,null,null,null,null,null,null,null,null,null,null,null,null,"Score",{"$f":"S34","v":0},"Score",{"$f":"U34","v":0},"Score",{"$f":"W34","v":0},"Score",{"$f":"Y34","v":0},"Score",{"$f":"AA34","v":0},"Score",{"$f":"AC34","v":0},"Score",{"$f":"AE34","v":0},"Score",{"$f":"AG34","v":0},"Score",{"$f":"AI34","v":0},"Score",{"$f":"AK34","v":0}]
[null,null,null,null,null,null,null,null,null,null,null,null,null,null,null,null,null,null,"SpareFill",{"$f":"SUM((IF(T42=\"SPA\",(IF(S4=\"X\",10,S4)),0)))+SUM((IF(T45=\"SPA\",(IF(S7=\"X\",10,S7)),0)))+SUM((IF(T48=\"SPA\",(IF(S10=\"X\",10,S10)),0)))+SUM((IF(T51=\"SPA\",(IF(S13=\"X\",10,S13)),0)))+SUM((IF(T54=\"SPA\",(IF(S16=\"X\",10,S16)),0)))+SUM((IF(T57=\"SPA\",(IF(S19=\"X\",10,S19)),0)))+SUM((IF(T60=\"SPA\",(IF(S22=\"X\",10,S22)),0)))+SUM((IF(T63=\"SPA\",(IF(S25=\"X\",10,S25)),0)))+SUM((IF(T66=\"SPA\",(IF(S28=\"X\",10,S28)),0)))+SUM((IF(T69=\"SPA\",(IF(S31=\"X\",10,S31)),0)))","v":0},"SpareFill",{"$f":"SUM((IF(V42=\"SPA\",(IF(U4=\"X\",10,U4)),0)))+SUM((IF(V45=\"SPA\",(IF(U7=\"X\",10,U7)),0)))+SUM((IF(V48=\"SPA\",(IF(U10=\"X\",10,U10)),0)))+SUM((IF(V51=\"SPA\",(IF(U13=\"X\",10,U13)),0)))+SUM((IF(V54=\"SPA\",(IF(U16=\"X\",10,U16)),0)))+SUM((IF(V57=\"SPA\",(IF(U19=\"X\",10,U19)),0)))+SUM((IF(V60=\"SPA\",(IF(U22=\"X\",10,U22)),0)))+SUM((IF(V63=\"SPA\",(IF(U25=\"X\",10,U25)),0)))+SUM((IF(V66=\"SPA\",(IF(U28=\"X\",10,U28)),0)))+SUM((IF(V69=\"SPA\",(IF(U31=\"X\",10,U31)),0)))","v":0},"SpareFill",{"$f":"SUM((IF(X42=\"SPA\",(IF(W4=\"X\",10,W4)),0)))+SUM((IF(X45=\"SPA\",(IF(W7=\"X\",10,W7)),0)))+SUM((IF(X48=\"SPA\",(IF(W10=\"X\",10,W10)),0)))+SUM((IF(X51=\"SPA\",(IF(W13=\"X\",10,W13)),0)))+SUM((IF(X54=\"SPA\",(IF(W16=\"X\",10,W16)),0)))+SUM((IF(X57=\"SPA\",(IF(W19=\"X\",10,W19)),0)))+SUM((IF(X60=\"SPA\",(IF(W22=\"X\",10,W22)),0)))+SUM((IF(X63=\"SPA\",(IF(W25=\"X\",10,W25)),0)))+SUM((IF(X66=\"SPA\",(IF(W28=\"X\",10,W28)),0)))+SUM((IF(X69=\"SPA\",(IF(W31=\"X\",10,W31)),0)))","v":0},"SpareFill",{"$f":"SUM((IF(Z42=\"SPA\",(IF(Y4=\"X\",10,Y4)),0)))+SUM((IF(Z45=\"SPA\",(IF(Y7=\"X\",10,Y7)),0)))+SUM((IF(Z48=\"SPA\",(IF(Y10=\"X\",10,Y10)),0)))+SUM((IF(Z51=\"SPA\",(IF(Y13=\"X\",10,Y13)),0)))+SUM((IF(Z54=\"SPA\",(IF(Y16=\"X\",10,Y16)),0)))+SUM((IF(Z57=\"SPA\",(IF(Y19=\"X\",10,Y19)),0)))+SUM((IF(Z60=\"SPA\",(IF(Y22=\"X\",10,Y22)),0)))+SUM((IF(Z63=\"SPA\",(IF(Y25=\"X\",10,Y25)),0)))+SUM((IF(Z66=\"SPA\",(IF(Y28=\"X\",10,Y28)),0)))+SUM((IF(Z69=\"SPA\",(IF(Y31=\"X\",10,Y31)),0)))","v":0},"SpareFill",{"$f":"SUM((IF(AB42=\"SPA\",(IF(AA4=\"X\",10,AA4)),0)))+SUM((IF(AB45=\"SPA\",(IF(AA7=\"X\",10,AA7)),0)))+SUM((IF(AB48=\"SPA\",(IF(AA10=\"X\",10,AA10)),0)))+SUM((IF(AB51=\"SPA\",(IF(AA13=\"X\",10,AA13)),0)))+SUM((IF(AB54=\"SPA\",(IF(AA16=\"X\",10,AA16)),0)))+SUM((IF(AB57=\"SPA\",(IF(AA19=\"X\",10,AA19)),0)))+SUM((IF(AB60=\"SPA\",(IF(AA22=\"X\",10,AA22)),0)))+SUM((IF(AB63=\"SPA\",(IF(AA25=\"X\",10,AA25)),0)))+SUM((IF(AB66=\"SPA\",(IF(AA28=\"X\",10,AA28)),0)))+SUM((IF(AB69=\"SPA\",(IF(AA31=\"X\",10,AA31)),0)))","v":0},"SpareFill",{"$f":"SUM((IF(AD42=\"SPA\",(IF(AC4=\"X\",10,AC4)),0)))+SUM((IF(AD45=\"SPA\",(IF(AC7=\"X\",10,AC7)),0)))+SUM((IF(AD48=\"SPA\",(IF(AC10=\"X\",10,AC10)),0)))+SUM((IF(AD51=\"SPA\",(IF(AC13=\"X\",10,AC13)),0)))+SUM((IF(AD54=\"SPA\",(IF(AC16=\"X\",10,AC16)),0)))+SUM((IF(AD57=\"SPA\",(IF(AC19=\"X\",10,AC19)),0)))+SUM((IF(AD60=\"SPA\",(IF(AC22=\"X\",10,AC22)),0)))+SUM((IF(AD63=\"SPA\",(IF(AC25=\"X\",10,AC25)),0)))+SUM((IF(AD66=\"SPA\",(IF(AC28=\"X\",10,AC28)),0)))+SUM((IF(AD69=\"SPA\",(IF(AC31=\"X\",10,AC31)),0)))","v":0},"SpareFill",{"$f":"SUM((IF(AF42=\"SPA\",(IF(AE4=\"X\",10,AE4)),0)))+SUM((IF(AF45=\"SPA\",(IF(AE7=\"X\",10,AE7)),0)))+SUM((IF(AF48=\"SPA\",(IF(AE10=\"X\",10,AE10)),0)))+SUM((IF(AF51=\"SPA\",(IF(AE13=\"X\",10,AE13)),0)))+SUM((IF(AF54=\"SPA\",(IF(AE16=\"X\",10,AE16)),0)))+SUM((IF(AF57=\"SPA\",(IF(AE19=\"X\",10,AE19)),0)))+SUM((IF(AF60=\"SPA\",(IF(AE22=\"X\",10,AE22)),0)))+SUM((IF(AF63=\"SPA\",(IF(AE25=\"X\",10,AE25)),0)))+SUM((IF(AF66=\"SPA\",(IF(AE28=\"X\",10,AE28)),0)))+SUM((IF(AF69=\"SPA\",(IF(AE31=\"X\",10,AE31)),0)))","v":0},"SpareFill",{"$f":"SUM((IF(AH42=\"SPA\",(IF(AG4=\"X\",10,AG4)),0)))+SUM((IF(AH45=\"SPA\",(IF(AG7=\"X\",10,AG7)),0)))+SUM((IF(AH48=\"SPA\",(IF(AG10=\"X\",10,AG10)),0)))+SUM((IF(AH51=\"SPA\",(IF(AG13=\"X\",10,AG13)),0)))+SUM((IF(AH54=\"SPA\",(IF(AG16=\"X\",10,AG16)),0)))+SUM((IF(AH57=\"SPA\",(IF(AG19=\"X\",10,AG19)),0)))+SUM((IF(AH60=\"SPA\",(IF(AG22=\"X\",10,AG22)),0)))+SUM((IF(AH63=\"SPA\",(IF(AG25=\"X\",10,AG25)),0)))+SUM((IF(AH66=\"SPA\",(IF(AG28=\"X\",10,AG28)),0)))+SUM((IF(AH69=\"SPA\",(IF(AG31=\"X\",10,AG31)),0)))","v":0},"SpareFill",{"$f":"SUM((IF(AJ42=\"SPA\",(IF(AI4=\"X\",10,AI4)),0)))+SUM((IF(AJ45=\"SPA\",(IF(AI7=\"X\",10,AI7)),0)))+SUM((IF(AJ48=\"SPA\",(IF(AI10=\"X\",10,AI10)),0)))+SUM((IF(AJ51=\"SPA\",(IF(AI13=\"X\",10,AI13)),0)))+SUM((IF(AJ54=\"SPA\",(IF(AI16=\"X\",10,AI16)),0)))+SUM((IF(AJ57=\"SPA\",(IF(AI19=\"X\",10,AI19)),0)))+SUM((IF(AJ60=\"SPA\",(IF(AI22=\"X\",10,AI22)),0)))+SUM((IF(AJ63=\"SPA\",(IF(AI25=\"X\",10,AI25)),0)))+SUM((IF(AJ66=\"SPA\",(IF(AI28=\"X\",10,AI28)),0)))+SUM((IF(AJ69=\"SPA\",(IF(AI31=\"X\",10,AI31)),0)))","v":0},"SpareFill",{"$f":"SUM((IF(AL42=\"SPA\",(IF(AK4=\"X\",10,AK4)),0)))+SUM((IF(AL45=\"SPA\",(IF(AK7=\"X\",10,AK7)),0)))+SUM((IF(AL48=\"SPA\",(IF(AK10=\"X\",10,AK10)),0)))+SUM((IF(AL51=\"SPA\",(IF(AK13=\"X\",10,AK13)),0)))+SUM((IF(AL54=\"SPA\",(IF(AK16=\"X\",10,AK16)),0)))+SUM((IF(AL57=\"SPA\",(IF(AK19=\"X\",10,AK19)),0)))+SUM((IF(AL60=\"SPA\",(IF(AK22=\"X\",10,AK22)),0)))+SUM((IF(AL63=\"SPA\",(IF(AK25=\"X\",10,AK25)),0)))+SUM((IF(AL66=\"SPA\",(IF(AK28=\"X\",10,AK28)),0)))+SUM((IF(AL69=\"SPA\",(IF(AK31=\"X\",10,AK31)),0)))","v":0}]
[null,null,null,null,null,null,null,null,null,null,null,null,null,null,null,null,null,null,"StrikeFill",{"$f":"SUM((IF(T42=\"STR\",(IF(S42=20,10+IF(S4=\"X\",10,S4),(IF(S4=\"X\",10,S4)))),0)))+SUM((IF(T45=\"STR\",(IF(S45=20,10+IF(S7=\"X\",10,S7),(IF(S7=\"X\",10,S7)))),0)))+SUM((IF(T48=\"STR\",(IF(S48=20,10+IF(S10=\"X\",10,S10),(IF(S10=\"X\",10,S10)))),0)))+SUM((IF(T51=\"STR\",(IF(S51=20,10+IF(S13=\"X\",10,S13),(IF(S13=\"X\",10,S13)))),0)))+SUM((IF(T54=\"STR\",(IF(S54=20,10+IF(S16=\"X\",10,S16),(IF(S16=\"X\",10,S16)))),0)))+SUM((IF(T57=\"STR\",(IF(S57=20,10+IF(S19=\"X\",10,S19),(IF(S19=\"X\",10,S19)))),0)))+SUM((IF(T60=\"STR\",(IF(S60=20,10+IF(S22=\"X\",10,S22),(IF(S22=\"X\",10,S22)))),0)))+SUM((IF(T63=\"STR\",(IF(S63=20,10+IF(S25=\"X\",10,S25),(IF(S25=\"X\",10,S25)))),0)))+SUM((IF(T66=\"STR\",(IF(S66=20,10+IF(S28=\"X\",10,S28),(IF(S28=\"X\",10,S28)))),0)))+SUM((IF(T69=\"STR\",(IF(S69=20,10+IF(S31=\"X\",10,S31),(IF(S31=\"X\",10,S31)))),0)))","v":0},"StrikeFill",{"$f":"SUM((IF(V42=\"STR\",(IF(U42=20,10+IF(U4=\"X\",10,U4),(IF(U4=\"X\",10,U4)))),0)))+SUM((IF(V45=\"STR\",(IF(U45=20,10+IF(U7=\"X\",10,U7),(IF(U7=\"X\",10,U7)))),0)))+SUM((IF(V48=\"STR\",(IF(U48=20,10+IF(U10=\"X\",10,U10),(IF(U10=\"X\",10,U10)))),0)))+SUM((IF(V51=\"STR\",(IF(U51=20,10+IF(U13=\"X\",10,U13),(IF(U13=\"X\",10,U13)))),0)))+SUM((IF(V54=\"STR\",(IF(U54=20,10+IF(U16=\"X\",10,U16),(IF(U16=\"X\",10,U16)))),0)))+SUM((IF(V57=\"STR\",(IF(U57=20,10+IF(U19=\"X\",10,U19),(IF(U19=\"X\",10,U19)))),0)))+SUM((IF(V60=\"STR\",(IF(U60=20,10+IF(U22=\"X\",10,U22),(IF(U22=\"X\",10,U22)))),0)))+SUM((IF(V63=\"STR\",(IF(U63=20,10+IF(U25=\"X\",10,U25),(IF(U25=\"X\",10,U25)))),0)))+SUM((IF(V66=\"STR\",(IF(U66=20,10+IF(U28=\"X\",10,U28),(IF(U28=\"X\",10,U28)))),0)))+SUM((IF(V69=\"STR\",(IF(U69=20,10+IF(U31=\"X\",10,U31),(IF(U31=\"X\",10,U31)))),0)))","v":0},"StrikeFill",{"$f":"SUM((IF(X42=\"STR\",(IF(W42=20,10+IF(W4=\"X\",10,W4),(IF(W4=\"X\",10,W4)))),0)))+SUM((IF(X45=\"STR\",(IF(W45=20,10+IF(W7=\"X\",10,W7),(IF(W7=\"X\",10,W7)))),0)))+SUM((IF(X48=\"STR\",(IF(W48=20,10+IF(W10=\"X\",10,W10),(IF(W10=\"X\",10,W10)))),0)))+SUM((IF(X51=\"STR\",(IF(W51=20,10+IF(W13=\"X\",10,W13),(IF(W13=\"X\",10,W13)))),0)))+SUM((IF(X54=\"STR\",(IF(W54=20,10+IF(W16=\"X\",10,W16),(IF(W16=\"X\",10,W16)))),0)))+SUM((IF(X57=\"STR\",(IF(W57=20,10+IF(W19=\"X\",10,W19),(IF(W19=\"X\",10,W19)))),0)))+SUM((IF(X60=\"STR\",(IF(W60=20,10+IF(W22=\"X\",10,W22),(IF(W22=\"X\",10,W22)))),0)))+SUM((IF(X63=\"STR\",(IF(W63=20,10+IF(W25=\"X\",10,W25),(IF(W25=\"X\",10,W25)))),0)))+SUM((IF(X66=\"STR\",(IF(W66=20,10+IF(W28=\"X\",10,W28),(IF(W28=\"X\",10,W28)))),0)))+SUM((IF(X69=\"STR\",(IF(W69=20,10+IF(W31=\"X\",10,W31),(IF(W31=\"X\",10,W31)))),0)))","v":0},"StrikeFill",{"$f":"SUM((IF(Z42=\"STR\",(IF(Y42=20,10+IF(Y4=\"X\",10,Y4),(IF(Y4=\"X\",10,Y4)))),0)))+SUM((IF(Z45=\"STR\",(IF(Y45=20,10+IF(Y7=\"X\",10,Y7),(IF(Y7=\"X\",10,Y7)))),0)))+SUM((IF(Z48=\"STR\",(IF(Y48=20,10+IF(Y10=\"X\",10,Y10),(IF(Y10=\"X\",10,Y10)))),0)))+SUM((IF(Z51=\"STR\",(IF(Y51=20,10+IF(Y13=\"X\",10,Y13),(IF(Y13=\"X\",10,Y13)))),0)))+SUM((IF(Z54=\"STR\",(IF(Y54=20,10+IF(Y16=\"X\",10,Y16),(IF(Y16=\"X\",10,Y16)))),0)))+SUM((IF(Z57=\"STR\",(IF(Y57=20,10+IF(Y19=\"X\",10,Y19),(IF(Y19=\"X\",10,Y19)))),0)))+SUM((IF(Z60=\"STR\",(IF(Y60=20,10+IF(Y22=\"X\",10,Y22),(IF(Y22=\"X\",10,Y22)))),0)))+SUM((IF(Z63=\"STR\",(IF(Y63=20,10+IF(Y25=\"X\",10,Y25),(IF(Y25=\"X\",10,Y25)))),0)))+SUM((IF(Z66=\"STR\",(IF(Y66=20,10+IF(Y28=\"X\",10,Y28),(IF(Y28=\"X\",10,Y28)))),0)))+SUM((IF(Z69=\"STR\",(IF(Y69=20,10+IF(Y31=\"X\",10,Y31),(IF(Y31=\"X\",10,Y31)))),0)))","v":0},"StrikeFill",{"$f":"SUM((IF(AB42=\"STR\",(IF(AA42=20,10+IF(AA4=\"X\",10,AA4),(IF(AA4=\"X\",10,AA4)))),0)))+SUM((IF(AB45=\"STR\",(IF(AA45=20,10+IF(AA7=\"X\",10,AA7),(IF(AA7=\"X\",10,AA7)))),0)))+SUM((IF(AB48=\"STR\",(IF(AA48=20,10+IF(AA10=\"X\",10,AA10),(IF(AA10=\"X\",10,AA10)))),0)))+SUM((IF(AB51=\"STR\",(IF(AA51=20,10+IF(AA13=\"X\",10,AA13),(IF(AA13=\"X\",10,AA13)))),0)))+SUM((IF(AB54=\"STR\",(IF(AA54=20,10+IF(AA16=\"X\",10,AA16),(IF(AA16=\"X\",10,AA16)))),0)))+SUM((IF(AB57=\"STR\",(IF(AA57=20,10+IF(AA19=\"X\",10,AA19),(IF(AA19=\"X\",10,AA19)))),0)))+SUM((IF(AB60=\"STR\",(IF(AA60=20,10+IF(AA22=\"X\",10,AA22),(IF(AA22=\"X\",10,AA22)))),0)))+SUM((IF(AB63=\"STR\",(IF(AA63=20,10+IF(AA25=\"X\",10,AA25),(IF(AA25=\"X\",10,AA25)))),0)))+SUM((IF(AB66=\"STR\",(IF(AA66=20,10+IF(AA28=\"X\",10,AA28),(IF(AA28=\"X\",10,AA28)))),0)))+SUM((IF(AB69=\"STR\",(IF(AA69=20,10+IF(AA31=\"X\",10,AA31),(IF(AA31=\"X\",10,AA31)))),0)))","v":0},"StrikeFill",{"$f":"SUM((IF(AD42=\"STR\",(IF(AC42=20,10+IF(AC4=\"X\",10,AC4),(IF(AC4=\"X\",10,AC4)))),0)))+SUM((IF(AD45=\"STR\",(IF(AC45=20,10+IF(AC7=\"X\",10,AC7),(IF(AC7=\"X\",10,AC7)))),0)))+SUM((IF(AD48=\"STR\",(IF(AC48=20,10+IF(AC10=\"X\",10,AC10),(IF(AC10=\"X\",10,AC10)))),0)))+SUM((IF(AD51=\"STR\",(IF(AC51=20,10+IF(AC13=\"X\",10,AC13),(IF(AC13=\"X\",10,AC13)))),0)))+SUM((IF(AD54=\"STR\",(IF(AC54=20,10+IF(AC16=\"X\",10,AC16),(IF(AC16=\"X\",10,AC16)))),0)))+SUM((IF(AD57=\"STR\",(IF(AC57=20,10+IF(AC19=\"X\",10,AC19),(IF(AC19=\"X\",10,AC19)))),0)))+SUM((IF(AD60=\"STR\",(IF(AC60=20,10+IF(AC22=\"X\",10,AC22),(IF(AC22=\"X\",10,AC22)))),0)))+SUM((IF(AD63=\"STR\",(IF(AC63=20,10+IF(AC25=\"X\",10,AC25),(IF(AC25=\"X\",10,AC25)))),0)))+SUM((IF(AD66=\"STR\",(IF(AC66=20,10+IF(AC28=\"X\",10,AC28),(IF(AC28=\"X\",10,AC28)))),0)))+SUM((IF(AD69=\"STR\",(IF(AC69=20,10+IF(AC31=\"X\",10,AC31),(IF(AC31=\"X\",10,AC31)))),0)))","v":0},"StrikeFill",{"$f":"SUM((IF(AF42=\"STR\",(IF(AE42=20,10+IF(AE4=\"X\",10,AE4),(IF(AE4=\"X\",10,AE4)))),0)))+SUM((IF(AF45=\"STR\",(IF(AE45=20,10+IF(AE7=\"X\",10,AE7),(IF(AE7=\"X\",10,AE7)))),0)))+SUM((IF(AF48=\"STR\",(IF(AE48=20,10+IF(AE10=\"X\",10,AE10),(IF(AE10=\"X\",10,AE10)))),0)))+SUM((IF(AF51=\"STR\",(IF(AE51=20,10+IF(AE13=\"X\",10,AE13),(IF(AE13=\"X\",10,AE13)))),0)))+SUM((IF(AF54=\"STR\",(IF(AE54=20,10+IF(AE16=\"X\",10,AE16),(IF(AE16=\"X\",10,AE16)))),0)))+SUM((IF(AF57=\"STR\",(IF(AE57=20,10+IF(AE19=\"X\",10,AE19),(IF(AE19=\"X\",10,AE19)))),0)))+SUM((IF(AF60=\"STR\",(IF(AE60=20,10+IF(AE22=\"X\",10,AE22),(IF(AE22=\"X\",10,AE22)))),0)))+SUM((IF(AF63=\"STR\",(IF(AE63=20,10+IF(AE25=\"X\",10,AE25),(IF(AE25=\"X\",10,AE25)))),0)))+SUM((IF(AF66=\"STR\",(IF(AE66=20,10+IF(AE28=\"X\",10,AE28),(IF(AE28=\"X\",10,AE28)))),0)))+SUM((IF(AF69=\"STR\",(IF(AE69=20,10+IF(AE31=\"X\",10,AE31),(IF(AE31=\"X\",10,AE31)))),0)))","v":0},"StrikeFill",{"$f":"SUM((IF(AH42=\"STR\",(IF(AG42=20,10+IF(AG4=\"X\",10,AG4),(IF(AG4=\"X\",10,AG4)))),0)))+SUM((IF(AH45=\"STR\",(IF(AG45=20,10+IF(AG7=\"X\",10,AG7),(IF(AG7=\"X\",10,AG7)))),0)))+SUM((IF(AH48=\"STR\",(IF(AG48=20,10+IF(AG10=\"X\",10,AG10),(IF(AG10=\"X\",10,AG10)))),0)))+SUM((IF(AH51=\"STR\",(IF(AG51=20,10+IF(AG13=\"X\",10,AG13),(IF(AG13=\"X\",10,AG13)))),0)))+SUM((IF(AH54=\"STR\",(IF(AG54=20,10+IF(AG16=\"X\",10,AG16),(IF(AG16=\"X\",10,AG16)))),0)))+SUM((IF(AH57=\"STR\",(IF(AG57=20,10+IF(AG19=\"X\",10,AG19),(IF(AG19=\"X\",10,AG19)))),0)))+SUM((IF(AH60=\"STR\",(IF(AG60=20,10+IF(AG22=\"X\",10,AG22),(IF(AG22=\"X\",10,AG22)))),0)))+SUM((IF(AH63=\"STR\",(IF(AG63=20,10+IF(AG25=\"X\",10,AG25),(IF(AG25=\"X\",10,AG25)))),0)))+SUM((IF(AH66=\"STR\",(IF(AG66=20,10+IF(AG28=\"X\",10,AG28),(IF(AG28=\"X\",10,AG28)))),0)))+SUM((IF(AH69=\"STR\",(IF(AG69=20,10+IF(AG31=\"X\",10,AG31),(IF(AG31=\"X\",10,AG31)))),0)))","v":0},"StrikeFill",{"$f":"SUM((IF(AJ42=\"STR\",(IF(AI42=20,10+IF(AI4=\"X\",10,AI4),(IF(AI4=\"X\",10,AI4)))),0)))+SUM((IF(AJ45=\"STR\",(IF(AI45=20,10+IF(AI7=\"X\",10,AI7),(IF(AI7=\"X\",10,AI7)))),0)))+SUM((IF(AJ48=\"STR\",(IF(AI48=20,10+IF(AI10=\"X\",10,AI10),(IF(AI10=\"X\",10,AI10)))),0)))+SUM((IF(AJ51=\"STR\",(IF(AI51=20,10+IF(AI13=\"X\",10,AI13),(IF(AI13=\"X\",10,AI13)))),0)))+SUM((IF(AJ54=\"STR\",(IF(AI54=20,10+IF(AI16=\"X\",10,AI16),(IF(AI16=\"X\",10,AI16)))),0)))+SUM((IF(AJ57=\"STR\",(IF(AI57=20,10+IF(AI19=\"X\",10,AI19),(IF(AI19=\"X\",10,AI19)))),0)))+SUM((IF(AJ60=\"STR\",(IF(AI60=20,10+IF(AI22=\"X\",10,AI22),(IF(AI22=\"X\",10,AI22)))),0)))+SUM((IF(AJ63=\"STR\",(IF(AI63=20,10+IF(AI25=\"X\",10,AI25),(IF(AI25=\"X\",10,AI25)))),0)))+SUM((IF(AJ66=\"STR\",(IF(AI66=20,10+IF(AI28=\"X\",10,AI28),(IF(AI28=\"X\",10,AI28)))),0)))+SUM((IF(AJ69=\"STR\",(IF(AI69=20,10+IF(AI31=\"X\",10,AI31),(IF(AI31=\"X\",10,AI31)))),0)))","v":0},"StrikeFill",{"$f":"SUM((IF(AL42=\"STR\",(IF(AK42=20,10+IF(AK4=\"X\",10,AK4),(IF(AK4=\"X\",10,AK4)))),0)))+SUM((IF(AL45=\"STR\",(IF(AK45=20,10+IF(AK7=\"X\",10,AK7),(IF(AK7=\"X\",10,AK7)))),0)))+SUM((IF(AL48=\"STR\",(IF(AK48=20,10+IF(AK10=\"X\",10,AK10),(IF(AK10=\"X\",10,AK10)))),0)))+SUM((IF(AL51=\"STR\",(IF(AK51=20,10+IF(AK13=\"X\",10,AK13),(IF(AK13=\"X\",10,AK13)))),0)))+SUM((IF(AL54=\"STR\",(IF(AK54=20,10+IF(AK16=\"X\",10,AK16),(IF(AK16=\"X\",10,AK16)))),0)))+SUM((IF(AL57=\"STR\",(IF(AK57=20,10+IF(AK19=\"X\",10,AK19),(IF(AK19=\"X\",10,AK19)))),0)))+SUM((IF(AL60=\"STR\",(IF(AK60=20,10+IF(AK22=\"X\",10,AK22),(IF(AK22=\"X\",10,AK22)))),0)))+SUM((IF(AL63=\"STR\",(IF(AK63=20,10+IF(AK25=\"X\",10,AK25),(IF(AK25=\"X\",10,AK25)))),0)))+SUM((IF(AL66=\"STR\",(IF(AK66=20,10+IF(AK28=\"X\",10,AK28),(IF(AK28=\"X\",10,AK28)))),0)))+SUM((IF(AL69=\"STR\",(IF(AK69=20,10+IF(AK31=\"X\",10,AK31),(IF(AK31=\"X\",10,AK31)))),0)))","v":0}]
[null,null,null,null,null,null,null,null,null,null,null,null,null,null,null,null,null,null,"STR1-10",{"$f":"COUNTIF(T42:T71,\"STR\")","v":0},"STR1-10",{"$f":"COUNTIF(V42:V71,\"STR\")","v":0},"STR1-10",{"$f":"COUNTIF(X42:X71,\"STR\")","v":0},"STR1-10",{"$f":"COUNTIF(Z42:Z71,\"STR\")","v":0},"STR1-10",{"$f":"COUNTIF(AB42:AB71,\"STR\")","v":0},"STR1-10",{"$f":"COUNTIF(AD42:AD71,\"STR\")","v":0},"STR1-10",{"$f":"COUNTIF(AF42:AF71,\"STR\")","v":0},"STR1-10",{"$f":"COUNTIF(AH42:AH71,\"STR\")","v":0},"STR1-10",{"$f":"COUNTIF(AJ42:AJ71,\"STR\")","v":0},"STR1-10",{"$f":"COUNTIF(AL42:AL71,\"STR\")","v":0}]
[null,null,null,null,null,null,null,null,null,null,null,null,null,null,null,null,null,null,"SPA1-10",{"$f":"COUNTIF(T42:T71,\"SPA\")","v":0},"SPA1-10",{"$f":"COUNTIF(V42:V71,\"SPA\")","v":0},"SPA1-10",{"$f":"COUNTIF(X42:X71,\"SPA\")","v":0},"SPA1-10",{"$f":"COUNTIF(Z42:Z71,\"SPA\")","v":0},"SPA1-10",{"$f":"COUNTIF(AB42:AB71,\"SPA\")","v":0},"SPA1-10",{"$f":"COUNTIF(AD42:AD71,\"SPA\")","v":0},"SPA1-10",{"$f":"COUNTIF(AF42:AF71,\"SPA\")","v":0},"SPA1-10",{"$f":"COUNTIF(AH42:AH71,\"SPA\")","v":0},"SPA1-10",{"$f":"COUNTIF(AJ42:AJ71,\"SPA\")","v":0},"SPA1-10",{"$f":"COUNTIF(AL42:AL71,\"SPA\")","v":0}]
[]
[null,null,null,null,null,null,null,null,null,null,null,null,null,null,null,null,null,null,1,{"$f":"V4-T4","v":0},50]
[null,null,null,null,null,null,null,null,null,null,null,null,null,null,null,null,null,null,2,{"$f":"V7-T7","v":0},40]
[null,null,null,null,null,null,null,null,null,null,null,null,null,null,null,null,null,null,3,{"$f":"V10-T10","v":0},30]
[null,null,null,null,null,null,null,null,null,null,null,null,null,null,null,null,null,null,4,{"$f":"V13-T13","v":0},20]
[null,null,null,null,null,null,null,null,null,null,null,null,null,null,null,null,null,null,5,{"$f":"V16-T16","v":0},10]
[null,null,null,null,null,null,null,null,null,null,null,null,null,null,null,null,null,null,6,{"$f":"V19-T19","v":0},0]
[null,null,null,null,null,null,null,null,null,null,null,null,null,null,null,null,null,null,7,{"$f":"V22-T22","v":0},10]
[null,null,null,null,null,null,null,null,null,null,null,null,null,null,null,null,null,null,8,{"$f":"V25-T25","v":0},20]
[null,null,null,null,null,null,null,null,null,null,null,null,null,null,null,null,null,null,9,{"$f":"V28-T28","v":0},30]
[null,null,null,null,null,null,null,null,null,null,null,null,null,null,null,null,null,null,10,{"$f":"V31-T31","v":0},40]
[null,null,null,null,null,null,null,null,null,null,null,null,null,null,null,null,null,null,11,{"$f":"V31-T31+Z4-X4","v":0},50]
[null,null,null,null,null,null,null,null,null,null,null,null,null,null,null,null,null,null,12,{"$f":"V31-T31+Z7-X7","v":0}]
[null,null,null,null,null,null,null,null,null,null,null,null,null,null,null,null,null,null,13,{"$f":"V31-T31+Z10-X10","v":0}]
[null,null,null,null,null,null,null,null,null,null,null,null,null,null,null,null,null,null,14,{"$f":"V31-T31+Z13-X13","v":0}]
[null,null,null,null,null,null,null,null,null,null,null,null,null,null,null,null,null,null,15,{"$f":"V31-T31+Z16-X16","v":0}]
[null,null,null,null,null,null,null,null,null,null,null,null,null,null,null,null,null,null,16,{"$f":"V31-T31+Z19-X19","v":0}]
[null,null,null,null,null,null,null,null,null,null,null,null,null,null,null,null,null,null,17,{"$f":"V31-T31+Z22-X22","v":0}]
[null,null,null,null,null,null,null,null,null,null,null,null,null,null,null,null,null,null,18,{"$f":"V31-T31+Z25-X25","v":0}]
[null,null,null,null,null,null,null,null,null,null,null,null,null,null,null,null,null,null,19,{"$f":"V31-T31+Z28-X28","v":0}]
[null,null,null,null,null,null,null,null,null,null,null,null,null,null,null,null,null,null,20,{"$f":"V31-T31+Z31-X31","v":0}]
[null,null,null,null,null,null,null,null,null,null,null,null,null,null,null,null,null,null,21,{"$f":"V31+Z31-T31-X31+AD4-AB4","v":0}]
[null,null,null,null,null,null,null,null,null,null,null,null,null,null,null,null,null,null,22,{"$f":"V31+Z31-T31-X31+AD7-AB7","v":0}]
[null,null,null,null,null,null,null,null,null,null,null,null,null,null,null,null,null,null,23,{"$f":"V31+Z31-T31-X31+AD10-AB10","v":0}]
[null,null,null,null,null,null,null,null,null,null,null,null,null,null,null,null,null,null,24,{"$f":"V31+Z31-T31-X31+AD13-AB13","v":0}]
[null,null,null,null,null,null,null,null,null,null,null,null,null,null,null,null,null,null,25,{"$f":"V31+Z31-T31-X31+AD16-AB16","v":0}]
[null,null,null,null,null,null,null,null,null,null,null,null,null,null,null,null,null,null,26,{"$f":"V31+Z31-T31-X31+AD19-AB19","v":0}]
[null,null,null,null,null,null,null,null,null,null,null,null,null,null,null,null,null,null,27,{"$f":"V31+Z31-T31-X31+AD22-AB22","v":0}]
[null,null,null,null,null,null,null,null,null,null,null,null,null,null,null,null,null,null,28,{"$f":"V31+Z31-T31-X31+AD25-AB25","v":0}]
[null,null,null,null,null,null,null,null,null,null,null,null,null,null,null,null,null,null,29,{"$f":"V31+Z31-T31-X31+AD28-AB28","v":0}]
[null,null,null,null,null,null,null,null,null,null,null,null,null,null,null,null,null,null,30,{"$f":"V31+Z31-T31-X31+AD31-AB31","v":0}]
[null,null,null,null,null,null,null,null,null,null,null,null,null,null,null,null,null,null,31,{"$f":"V31+Z31+AD31-T31-X31-AB31+AH4-AF4","v":0}]
[null,null,null,null,null,null,null,null,null,null,null,null,null,null,null,null,null,null,32,{"$f":"V31+Z31+AD31-T31-X31-AB31+AH7-AF7","v":0}]
[null,null,null,null,null,null,null,null,null,null,null,null,null,null,null,null,null,null,33,{"$f":"V31+Z31+AD31-T31-X31-AB31+AH10-AF10","v":0}]
[null,null,null,null,null,null,null,null,null,null,null,null,null,null,null,null,null,null,34,{"$f":"V31+Z31+AD31-T31-X31-AB31+AH13-AF13","v":0}]
[null,null,null,null,null,null,null,null,null,null,null,null,null,null,null,null,null,null,35,{"$f":"V31+Z31+AD31-T31-X31-AB31+AH16-AF16","v":0}]
[null,null,null,null,null,null,null,null,null,null,null,null,null,null,null,null,null,null,36,{"$f":"V31+Z31+AD31-T31-X31-AB31+AH19-AF19","v":0}]
[null,null,null,null,null,null,null,null,null,null,null,null,null,null,null,null,null,null,37,{"$f":"V31+Z31+AD31-T31-X31-AB31+AH22-AF22","v":0}]
[null,null,null,null,null,null,null,null,null,null,null,null,null,null,null,null,null,null,38,{"$f":"V31+Z31+AD31-T31-X31-AB31+AH25-AF25","v":0}]
[null,null,null,null,null,null,null,null,null,null,null,null,null,null,null,null,null,null,39,{"$f":"V31+Z31+AD31-T31-X31-AB31+AH28-AF28","v":0}]
[null,null,null,null,null,null,null,null,null,null,null,null,null,null,null,null,null,null,40,{"$f":"V31+Z31+AD31-T31-X31-AB31+AH31-AF31","v":0}]
[null,null,null,null,null,null,null,null,null,null,null,null,null,null,null,null,null,null,41,{"$f":"V31+Z31+AD31+AH31-T31-X31-AB31-AF31+AL4-AJ4","v":0}]
[null,null,null,null,null,null,null,null,null,null,null,null,null,null,null,null,null,null,42,{"$f":"V31+Z31+AD31+AH31-T31-X31-AB31-AF31+AL7-AJ7","v":0}]
[null,null,null,null,null,null,null,null,null,null,null,null,null,null,null,null,null,null,43,{"$f":"V31+Z31+AD31+AH31-T31-X31-AB31-AF31+AL10-AJ10","v":0}]
[null,null,null,null,null,null,null,null,null,null,null,null,null,null,null,null,null,null,44,{"$f":"V31+Z31+AD31+AH31-T31-X31-AB31-AF31+AL13-AJ13","v":0}]
[null,null,null,null,null,null,null,null,null,null,null,null,null,null,null,null,null,null,45,{"$f":"V31+Z31+AD31+AH31-T31-X31-AB31-AF31+AL16-AJ16","v":0}]
[null,null,null,null,null,null,null,null,null,null,null,null,null,null,null,null,null,null,46,{"$f":"V31+Z31+AD31+AH31-T31-X31-AB31-AF31+AL19-AJ19","v":0}]
[null,null,null,null,null,null,null,null,null,null,null,null,null,null,null,null,null,null,47,{"$f":"V31+Z31+AD31+AH31-T31-X31-AB31-AF31+AL22-AJ22","v":0}]
[null,null,null,null,null,null,null,null,null,null,null,null,null,null,null,null,null,null,48,{"$f":"V31+Z31+AD31+AH31-T31-X31-AB31-AF31+AL25-AJ25","v":0}]
[null,null,null,null,null,null,null,null,null,null,null,null,null,null,null,null,null,null,49,{"$f":"V31+Z31+AD31+AH31-T31-X31-AB31-AF31+AL28-AJ28","v":0}]
[null,null,null,null,null,null,null,null,null,null,null,null,null,null,null,null,null,null,50,{"$f":"V31+Z31+AD31+AH31-T31-X31-AB31-AF31+AL31-AJ31","v":0}]

{"sheet":"How-To","index":1,"n_rows":42,"n_cols":11,"rows_kept":42,"cut":false,"hidden":false,"merged":[[39,0,39,1],[0,0,1,7],[0,8,26,8],[0,9,1,15],[2,0,2,7],[2,9,2,15],[3,0,5,0],[3,1,5,2],[3,3,5,7],[3,9,5,9],[3,10,5,15],[6,0,8,0],[6,1,8,2],[6,3,8,7],[6,9,8,9],[6,10,8,15],[21,10,23,15],[12,10,14,15],[15,1,20,2],[15,3,20,7],[15,9,17,9],[15,10,17,15],[18,9,20,9],[18,10,20,15],[9,1,14,2],[9,3,14,7],[9,9,11,9],[9,10,11,15],[12,9,14,9],[33,0,34,5],[30,0,31,5],[30,6,31,8],[36,0,36,1],[21,3,26,7],[21,1,26,2]]}
["ACST Scoresheet Instructions",null,null,null,null,null,null,null,null,"HOTKEYS / SHORTCUTS"]
[]
["Thanks for grabbing and attempting to use the ACST Double-header scoresheet!  To make things easier, I have tried to incorporate a very basic system of scoring and using hotkeys in order to help people score and track things easily.\n\nFor starters, I have a few definitions for Headpins and Splits ::",null,null,null,null,null,null,null,null,"Below is a list of all of the various hotkeys we have baked into the scoresheet to handle the artwork and marks.  It is important to note the proper order of putting artwork in a cell is ::\n1st :: Headpin.  2nd :: Split.  3rd :: Mark\nThis doesn't impact scoring, but it looks the nicest!"]
[null,"HEADPINS ::",null,"If the headpin is knocked down BY THE BALL on the first ball of a box, score a headpin hit by holding CTRL+SHIFT+A.",null,null,null,null,null,null,"HEADPIN = CTRL+SHIFT+A"]
[]
[]
[null,"SPLITS ::",null,"If for the spare leave, there is at no headpin and at least a 1-pin gap between pins standing, mark it as a split.  4-5-7-8 is NOT a split.  CTRL+SHIFT+Q",null,null,null,null,null,null,"SPLIT = CTRL+SHIFT+Q"]
[]
[]
[null,"GETTING STARTED ::",null,"On the left side of \"Scores\" fill in the Conference (North, South), Class for each match, date and location.  After that enter each bowler's first and last names accordingly.  Now you're ready to start scoring!",null,null,null,null,null,null,"SPARE = CTRL+SHIFT+S"]
[]
[]
[null,null,null,null,null,null,null,null,null,null,"STRIKE = CTRL+SHIFT+X"]
[]
[]
[null,"MOVING ::",null,"For the most part this should be pretty straight forward - the sheet will guide you from score box to scorebox using the arrows to move around.    However, once artwork is in a cell, you cannot click on it.  Click on an empty cell and arrow to the cell you want.",null,null,null,null,null,null,"DOUBLE = CTRL+SHIFT+C"]
[]
[]
[null,null,null,null,null,null,null,null,null,null,"CLEAR CELL = CTRL+SHIFT+Z"]
[]
[]
[null,"SCORING ::",null,"The value of a box should be filled from 0 to 10 for a Ten box (not an X for a ten).  HOWEVER when filling a mark, use an X to indicate a strike on spare or spare on strike.  This allows the sheet to distinguish between a 10 and a fill for the stats.",null,null,null,null,null,null,"Clear cell wipes out the content of the box you are in - both the text and the art."]
[]
[]
[]
[]
[]
[]
[]
[]
["VERSION ::",null,null,null,null,null,"2024.09.02.1"]
[]
[]
["CHANGE LOG ::"]
[]
[]
["2024.09.02.1",null,"Implementation of the \"Green Square\" highlighting the active cell"]
[]
[]
["2024.08.02.1",null,"Implementation of changes for Average Strike/Spare Fill"]
[null,null,"Implementation of additional rows tallying \"bonus\" Strikes/Spares in the 10th Box"]
[null,null,"Implementation of fields in \"For Micah\" to collect \"bonus Strikes/Spares in the 10th Box"]

{"sheet":"For Micah","index":2,"n_rows":2,"n_cols":36,"rows_kept":2,"cut":false,"hidden":false,"merged":[]}
["CONF","CLASS","Away","Home","A1","A2","A3","A4","A5","H1","H2","H3","H4","H5","HWIN","LANES","AX","A/","A10","AL","ASTRF","ASPAF","AHP","AO","HX","H/","H10","HL","HSTRF","HSPAF","HHP","HO","ABONX","ABON/","HBONX","HBON/"]
[null,null,{"$f":"Scores!B22 & \" \" & Scores!B26","v":"B1 First B1 Last"},{"$f":"Scores!B29 & \" \" & Scores!B33","v":"B2 First B2 Last"},{"$f":"Scores!F28","v":0},{"$f":"Scores!G28","v":0},{"$f":"Scores!H28","v":0},{"$f":"Scores!I28","v":0},{"$f":"Scores!J28","v":0},{"$f":"Scores!F35","v":0},{"$f":"Scores!G35","v":0},{"$f":"Scores!H35","v":0},{"$f":"Scores!I35","v":0},{"$f":"Scores!J35","v":0},{"$f":"Scores!A29","v":0},{"$f":"Scores!F12","v":0},{"$f":"Scores!K24","v":0},{"$f":"Scores!K25","v":0},{"$f":"Scores!K26","v":0},{"$f":"Scores!K27","v":0},{"$f":"Scores!N61","v":0},{"$f":"Scores!M61","v":0},{"$f":"Scores!K22","v":0},{"$f":"Scores!K23","v":0},{"$f":"Scores!K31","v":0},{"$f":"Scores!K32","v":0},{"$f":"Scores!K33","v":0},{"$f":"Scores!K34","v":0},{"$f":"Scores!N62","v":0},{"$f":"Scores!M62","v":0},{"$f":"Scores!K29","v":0},{"$f":"Scores!K30","v":0},{"$f":"Q2-SUM(Scores!T83,Scores!X83,Scores!AB83,Scores!AF83,Scores!AJ83)","v":0},{"$f":"R2-SUM(Scores!T84,Scores!X84,Scores!AB84,Scores!AF84,Scores!AJ84)","v":0},{"$f":"Y2-SUM(Scores!V83,Scores!Z83,Scores!AD83,Scores!AH83,Scores!AL83)","v":0},{"$f":"Z2-SUM(Scores!V84,Scores!Z84,Scores!AD84,Scores!AH84,Scores!AL84)","v":0}]